From mboxrd@z Thu Jan 1 00:00:00 1970 Return-Path: Received: from mails.dpdk.org (mails.dpdk.org [217.70.189.124]) by inbox.dpdk.org (Postfix) with ESMTP id 7172248961 for ; Fri, 17 Oct 2025 17:48:29 +0200 (CEST) Received: from mails.dpdk.org (localhost [127.0.0.1]) by mails.dpdk.org (Postfix) with ESMTP id 5155E400D7; Fri, 17 Oct 2025 17:48:29 +0200 (CEST) Received: from mail-yw1-f228.google.com (mail-yw1-f228.google.com [209.85.128.228]) by mails.dpdk.org (Postfix) with ESMTP id 2FCBE400D7 for ; Fri, 17 Oct 2025 17:48:28 +0200 (CEST) Received: by mail-yw1-f228.google.com with SMTP id 00721157ae682-7826060df96so17420037b3.2 for ; Fri, 17 Oct 2025 08:48:28 -0700 (PDT) DKIM-Signature: v=1; a=rsa-sha256; c=relaxed/relaxed; d=iol.unh.edu; s=unh-iol; t=1760716107; x=1761320907; darn=dpdk.org; h=references:in-reply-to:cc:to:from:subject:message-id:date:from:to :cc:subject:date:message-id:reply-to; bh=SbR0uLvFT6AZLXiv4ZYvNNbUjacmmX8RBix1mri+Zbk=; b=PYpafJelgCUQlP+3HU2o9pROiQ/eo6slpEnv0caEcm8RqXR74epudDMAOvWU455jaZ J0ueZwXzoBWU9NqlPWut5++5RUhXUGIDJb1mH/OMlTtbz4i/g+K/jY3RuV5PPEr7T6m3 FUzWbb5oj90G3s6b7ZbbSokg1CxuejKG3O1G4= X-Google-DKIM-Signature: v=1; a=rsa-sha256; c=relaxed/relaxed; d=1e100.net; s=20230601; t=1760716107; x=1761320907; h=references:in-reply-to:cc:to:from:subject:message-id:date :x-gm-message-state:from:to:cc:subject:date:message-id:reply-to; bh=SbR0uLvFT6AZLXiv4ZYvNNbUjacmmX8RBix1mri+Zbk=; b=noMN9HD59RDpx4JIF8ryz7efnpt1HeGAh7Z39ZmPF5zaR4XTMCk6Th1la5mT/vwxKv bIQQv3mS4Tyl45yxfuJNJJMKWlg0s6Zn++SlcqO1HXr+wgJ1laO+y2YdNTXVC//n96Jb 4jeofNQl1IQlReX+OwRBbVK+wfOUKW1GQB9SVb09GxqBiUeoTvtxRPed63wUVJuRNkj9 i8QlrqARHb6pGkbabliOyu56qXj5R4VGpnhiQWQDn8gJKBmi6iZdlmS27jhzIeDYoEXT Hjgqy9U+fqSkfOShtPtz90enmUaFX2mb8j7Y4ZISVnMolnxHBTNTec0StC4noCfI/dUA 4bUQ== X-Gm-Message-State: AOJu0YyH8kkrq8mTLl933JQNYpGSlHsq72TZSN4hGiUWdtAeWDo9KpRo XdRxj3ex2/LelxxAL1zv5hhigVN+l1I9yDr0dx1rccxY/g7QxEbB67SCm5VfEyHv8Hd3bpduYsT YyPmp/5AeCdKb8gqviUDIyzEAgOQFNpBwdix9NX2xuBJx0o1vzZXnBknx0JQ1 X-Gm-Gg: ASbGnctfedvGpcEnxesFQKi+0s0FXO4c+9OpXtoxC7LpimR8Oqe4nyvHeJ+LLxAH0Is MJwP3lUh0sShYUgIvBvBHz5lNbjPQU8VzF99wFeFBNyffAMcH+P7cEhHfuO5tFiHmTozhI2mA3F 96hKGhbNYWCbhY00WVEOCY9J53zXEHiBi+maCrCVPiUNYWQHvB4G0kCncSD0plYWodedE8lkhbR FnxYD/C6wmGryaFPAqwQnJy8WQBoZfIjRtaxRDFsqqNSBjhfVYB9hLnqV+B7XlgKzsmrRrdIofI jcmY3rg51LEn/1hmqfvXzLKSU7laOmnyWTGKiuolcokclM2UxWR32ji6LN5KTM1LeanZwFJvg9s 8+F8GWKKi X-Google-Smtp-Source: AGHT+IHtucfTtRyMgnPltn5QqxHttdQNl0ABrHP/NtQ3ACys0seq+FZ7a/EabgYVXmd+4cIFxGVFuSGCF/Sc X-Received: by 2002:a05:690c:67c2:b0:781:12ba:8046 with SMTP id 00721157ae682-7836d189bdfmr36080457b3.5.1760716107339; Fri, 17 Oct 2025 08:48:27 -0700 (PDT) Received: from postal.iol.unh.edu (postal.iol.unh.edu. [2606:4100:3880:1234::84]) by smtp-relay.gmail.com with ESMTPS id 00721157ae682-7828f75b969sm3462217b3.17.2025.10.17.08.48.27 (version=TLS1_2 cipher=ECDHE-ECDSA-AES128-GCM-SHA256 bits=128/128); Fri, 17 Oct 2025 08:48:27 -0700 (PDT) X-Relaying-Domain: iol.unh.edu Date: Fri, 17 Oct 2025 08:48:27 -0700 (PDT) Message-ID: <68f2654b.050a0220.2ca707.165cSMTPIN_ADDED_MISSING@mx.google.com> Received: from [172.21.0.2] (unknown [172.18.0.240]) by postal.iol.unh.edu (Postfix) with ESMTP id F07616050A61; Fri, 17 Oct 2025 11:48:26 -0400 (EDT) Subject: |SUCCESS| pw157800-157801 [PATCH] [2/2] app/pdump: improve cmdline a From: dpdklab@iol.unh.edu To: Test Report Cc: dpdk-test-reports@iol.unh.edu In-Reply-To: <20251017110638.1094371-2-bruce.richardson@intel.com> References: <20251017110638.1094371-2-bruce.richardson@intel.com> Content-Type: text/plain X-BeenThere: test-report@dpdk.org X-Mailman-Version: 2.1.29 Precedence: list List-Id: automatic DPDK test reports List-Unsubscribe: , List-Archive: List-Post: List-Help: List-Subscribe: , Errors-To: test-report-bounces@dpdk.org Test-Label: iol-compile-amd64-testing Test-Status: SUCCESS http://dpdk.org/patch/157801 _Testing PASS_ Submitter: Bruce Richardson Date: Friday, October 17 2025 11:06:37 DPDK git baseline: Repo:dpdk Branch: master CommitID:438491733c2d8a109574449d3d6de9b25a05c07c 157800-157801 --> testing pass Upstream job id: Generic-DPDK-Compile-Meson#435353 Test environment and result as below: +---------------------+--------------------+-------------------+-------------------------+----------------------+ | Environment | dpdk_meson_compile | dpdk_msvc_compile | dpdk_llvm_clang_compile | dpdk_mingw64_compile | +=====================+====================+===================+=========================+======================+ | Ubuntu 20.04 | PASS | SKIPPED | SKIPPED | SKIPPED | +---------------------+--------------------+-------------------+-------------------------+----------------------+ | FreeBSD 14.2 | PASS | SKIPPED | SKIPPED | SKIPPED | +---------------------+--------------------+-------------------+-------------------------+----------------------+ | Ubuntu 24.04 | PASS | SKIPPED | SKIPPED | SKIPPED | +---------------------+--------------------+-------------------+-------------------------+----------------------+ | Windows Server 2022 | SKIPPED | PASS | PASS | PASS | +---------------------+--------------------+-------------------+-------------------------+----------------------+ Ubuntu 20.04 Kernel: 4.19 Compiler: gcc gcc (Ubuntu 9.4.0-1ubuntu1~20.04.2) 9.4.0 FreeBSD 14.2 Kernel: 14.2-RELEASE Compiler: clang 18.1.6 Ubuntu 24.04 Kernel: 5.15 Compiler: gcc gcc (Ubuntu 13.3.0-6ubuntu2~24.04) 13.3.0 Windows Server 2022 Kernel: 10.0.20348.2031 Compiler: clang 15.0.7, gcc 14.1.0 (MinGW), and MSVC VS 19.39.33521 To view detailed results, visit: https://lab.dpdk.org/results/dashboard/patchsets/34312/ UNH-IOL DPDK Community Lab To manage your email subscriptions, visit: https://lab.dpdk.org/results/dashboard/preferences/subscriptions/