From mboxrd@z Thu Jan 1 00:00:00 1970 Return-Path: Received: from mails.dpdk.org (mails.dpdk.org [217.70.189.124]) by inbox.dpdk.org (Postfix) with ESMTP id B96C148961 for ; Fri, 17 Oct 2025 17:53:13 +0200 (CEST) Received: from mails.dpdk.org (localhost [127.0.0.1]) by mails.dpdk.org (Postfix) with ESMTP id B345A42DD5; Fri, 17 Oct 2025 17:53:13 +0200 (CEST) Received: from mail-pj1-f99.google.com (mail-pj1-f99.google.com [209.85.216.99]) by mails.dpdk.org (Postfix) with ESMTP id 3434F42DD6 for ; Fri, 17 Oct 2025 17:53:13 +0200 (CEST) Received: by mail-pj1-f99.google.com with SMTP id 98e67ed59e1d1-33ba2f134f1so2018186a91.2 for ; Fri, 17 Oct 2025 08:53:13 -0700 (PDT) DKIM-Signature: v=1; a=rsa-sha256; c=relaxed/relaxed; d=iol.unh.edu; s=unh-iol; t=1760716392; x=1761321192; darn=dpdk.org; h=references:in-reply-to:cc:to:from:subject:message-id:date:from:to :cc:subject:date:message-id:reply-to; bh=sUAp5WagGjpU0HwI+lDhvfeKbxmP2tV6u8WNrD5Uobg=; b=h0zz++KYd65I30MqHpFw3gi2nwghA+9ek/gw+tpGOQbgOO/n8k0LHKtiG7fG50muG/ TgRt0i2/9autVO+1E55dLJmAho+u0l2c+hlw4Dz454Y/dV84FR9rc/zCxU47IFa53Q5z PMtZeTe2R9ZQE8lMkEAj3MCEbuXvPawGMIiuU= X-Google-DKIM-Signature: v=1; a=rsa-sha256; c=relaxed/relaxed; d=1e100.net; s=20230601; t=1760716392; x=1761321192; h=references:in-reply-to:cc:to:from:subject:message-id:date :x-gm-message-state:from:to:cc:subject:date:message-id:reply-to; bh=sUAp5WagGjpU0HwI+lDhvfeKbxmP2tV6u8WNrD5Uobg=; b=emGXtCXdQC9z+rpzW1Y0oA2mEzamWDVjcp0opFDZkbEpYKjxM5xYkubT0umAFNoit6 a2Ln65V7j1rjpAnBADhkDOr/oYY036tqPzO3LYMpXtQETR/dKF+C66LpYnkj2StiQyiC EdNPy/rihYWZ1BGG8C9f9bfAayne1lJNmOkcMFww3w5aZTAYx57v4OjlPkqZugKiCX2N iNSj4iB1rV1WeZfxzSsYVXXWQx8YYd031wne2rqFVHoOHfH1t8c7nddSTyn6u2E9Sc5H MK0aupjwKl6d9//HMfKJHPlqEt++nwwfuFOh3/HOuquB6hjypXnl/7DoseLrxVylIvZx 3Rcw== X-Gm-Message-State: AOJu0Yxw2f93fy4FD3tLiAIzaEft2TCQYiKoOvWlDSMCrsfGB5etdqFC wi7WDXSuaYeJq1ZowKhtbwPFl8aCAanZOZMZ8l4b1Ghs5fYgCLv7alkOSAl8PR3don0F139Wn4P sg8dp78pVY9Cg/bM0NRGHNR7lZ/Y2ArvSsysnCWGeQHtPWJBwwzeoneKKul5u X-Gm-Gg: ASbGncteoeIz0B7WhvtPVyjhHs0TVOoIBz1LWi1iPgQ6DM3Au+5KhB22z1YjPP5TgJZ F0SI3YsRhpc5A2/c1l7tkJ1Mr2fl86pkVYIWps8o1VBxd0Q5IEVPZCDYEr8J7QupFvGdoAHPKdj 9zO5pNKkdhkEQcGvlIokvVTGv0hzNhgGsW5NPopXTNfy73ssvW7cyG5duNOUu4nozQOATks4qoF dxczun462kgOQGuOIl4rs7yizbtBo76MR181NwO2wLW3/FS5g17WgH6vS1q4ly8mF1R1YeKK34q j39hz+YsVn8NQLliIU45y8Jwed8L3FnbgLGJuTcerlXxamdujUvSco25stUGVjmcjrfQBmhvFz3 f1sJ952x0 X-Google-Smtp-Source: AGHT+IFkWDdvX0hMYBO9oFUrDXeIEzvVw9wRpcG7+HxfDTrKM3HcdTEBSc/gNLZFkEf3fW33U1Nf1JFzAgCJ X-Received: by 2002:a17:902:d503:b0:290:91b0:def4 with SMTP id d9443c01a7336-290ca21635emr54537375ad.29.1760716392314; Fri, 17 Oct 2025 08:53:12 -0700 (PDT) Received: from postal.iol.unh.edu (postal.iol.unh.edu. [2606:4100:3880:1234::84]) by smtp-relay.gmail.com with ESMTPS id d9443c01a7336-290992f11ffsm6450745ad.30.2025.10.17.08.53.12 (version=TLS1_2 cipher=ECDHE-ECDSA-AES128-GCM-SHA256 bits=128/128); Fri, 17 Oct 2025 08:53:12 -0700 (PDT) X-Relaying-Domain: iol.unh.edu Date: Fri, 17 Oct 2025 08:53:12 -0700 (PDT) Message-ID: <68f26668.170a0220.206c15.30f7SMTPIN_ADDED_MISSING@mx.google.com> Received: from [172.21.0.3] (unknown [172.18.0.240]) by postal.iol.unh.edu (Postfix) with ESMTP id C7D246051830; Fri, 17 Oct 2025 11:53:11 -0400 (EDT) Subject: |SUCCESS| pw157814-157821 [PATCH] [v5,8/8] config: enable comma warn From: dpdklab@iol.unh.edu To: Test Report Cc: dpdk-test-reports@iol.unh.edu In-Reply-To: <20251017150241.28511-9-stephen@networkplumber.org> References: <20251017150241.28511-9-stephen@networkplumber.org> Content-Type: text/plain X-BeenThere: test-report@dpdk.org X-Mailman-Version: 2.1.29 Precedence: list List-Id: automatic DPDK test reports List-Unsubscribe: , List-Archive: List-Post: List-Help: List-Subscribe: , Errors-To: test-report-bounces@dpdk.org Test-Label: iol-compile-amd64-testing Test-Status: SUCCESS http://dpdk.org/patch/157821 _Testing PASS_ Submitter: Stephen Hemminger Date: Friday, October 17 2025 15:02:09 DPDK git baseline: Repo:dpdk Branch: master CommitID:438491733c2d8a109574449d3d6de9b25a05c07c 157814-157821 --> testing pass Upstream job id: Windows-Compile-DPDK-Native#31722 Test environment and result as below: +---------------------+-------------------------+-------------------+--------------------+----------------------+ | Environment | dpdk_llvm_clang_compile | dpdk_msvc_compile | dpdk_meson_compile | dpdk_mingw64_compile | +=====================+=========================+===================+====================+======================+ | Windows Server 2022 | PASS | PASS | SKIPPED | PASS | +---------------------+-------------------------+-------------------+--------------------+----------------------+ | FreeBSD 14.2 | SKIPPED | SKIPPED | PASS | SKIPPED | +---------------------+-------------------------+-------------------+--------------------+----------------------+ | Ubuntu 20.04 | SKIPPED | SKIPPED | PASS | SKIPPED | +---------------------+-------------------------+-------------------+--------------------+----------------------+ Windows Server 2022 Kernel: 10.0.20348.2031 Compiler: clang 15.0.7, gcc 14.1.0 (MinGW), and MSVC VS 19.39.33521 FreeBSD 14.2 Kernel: 14.2-RELEASE Compiler: clang 18.1.6 Ubuntu 20.04 Kernel: 4.19 Compiler: gcc gcc (Ubuntu 9.4.0-1ubuntu1~20.04.2) 9.4.0 To view detailed results, visit: https://lab.dpdk.org/results/dashboard/patchsets/34320/ UNH-IOL DPDK Community Lab To manage your email subscriptions, visit: https://lab.dpdk.org/results/dashboard/preferences/subscriptions/