From mboxrd@z Thu Jan 1 00:00:00 1970 Return-Path: Received: from mails.dpdk.org (mails.dpdk.org [217.70.189.124]) by inbox.dpdk.org (Postfix) with ESMTP id D5D3B48962 for ; Fri, 17 Oct 2025 18:00:15 +0200 (CEST) Received: from mails.dpdk.org (localhost [127.0.0.1]) by mails.dpdk.org (Postfix) with ESMTP id D199D42DD6; Fri, 17 Oct 2025 18:00:15 +0200 (CEST) Received: from mail-yx1-f98.google.com (mail-yx1-f98.google.com [74.125.224.98]) by mails.dpdk.org (Postfix) with ESMTP id 7F5C842DD6 for ; Fri, 17 Oct 2025 18:00:14 +0200 (CEST) Received: by mail-yx1-f98.google.com with SMTP id 956f58d0204a3-63e10cd6efeso1720275d50.0 for ; Fri, 17 Oct 2025 09:00:14 -0700 (PDT) DKIM-Signature: v=1; a=rsa-sha256; c=relaxed/relaxed; d=iol.unh.edu; s=unh-iol; t=1760716814; x=1761321614; darn=dpdk.org; h=references:in-reply-to:cc:to:from:subject:message-id:date:from:to :cc:subject:date:message-id:reply-to; bh=lauVvHIa4mvVYFel9i8D3IMF5HGvfF6l3+7PDIkcFZI=; b=akEAfJAtp8ZkDDEltkejxhh81mTtPKDh+pwz7D6jX6dvvEdDXv9QeOjwUyTiNNvrRg cFW//lEQeoz+vn9Ln76KXixHBliWTanASJ+9pjohXfk+GUDPBCKD+nym94Vq/8Wxil69 hTuzXZtk/NMIYwoYiF1Lm3rP4opUitPQ8w7TQ= X-Google-DKIM-Signature: v=1; a=rsa-sha256; c=relaxed/relaxed; d=1e100.net; s=20230601; t=1760716814; x=1761321614; h=references:in-reply-to:cc:to:from:subject:message-id:date :x-gm-message-state:from:to:cc:subject:date:message-id:reply-to; bh=lauVvHIa4mvVYFel9i8D3IMF5HGvfF6l3+7PDIkcFZI=; b=HDz5GvajA7euJFI54i/Pc65hcJPOFEiqoNynRP8/EVi1CjM4bWAI9QexWZMZfF7Qst f9zXk3JyHegy0aKIKTMkTvrS23DIDV8PP/AUzNm/H4OIQkWkx4tOvVPtm0oDyh+AabrR fmm4QG9zfdiMuTszRQfCNM0qIemIlUjl3A7adA0tvfiETfbp2BzDey0EUX5Q0QGmt/AV 8GoObf4TjIpWlOjNHPlOER+XfRcauwTyjq3JurC8SXPCBZtrmL/s6Qi0+I6ePAttsPpJ ti4DSO/1K/fEcDFltiOgNql62kQY3oB4i3U6eLktoqNfrA9/6msMZ+ZTfaVyoECwxMG8 9VKQ== X-Gm-Message-State: AOJu0YzfxcmBNPw3YEAoBDWzVcSPzzwo81M8CKUjTUSiXrQYMxw7xhkD cAovCWsitI3giqLhwPtkKOB8LfQmGumNVzMAfd54ZniapBV3y2NZDVWQX1ZjIuZkz6SX569Qm8m aq8v17ZC6OfZ0ZC2OehKB9T9Ocii1bnIudpvQG8GduIfx X-Gm-Gg: ASbGnctsK7kjXnSuPzM6yUIqnXcrZEXZE/FPcxulZUaWNDOyR5GlPIEXkRyGEq+hhtK lLG2ThvgiMzDZdBodDvQ1bDgBnNRybixaBj763+jh8nRoYXPSiFJC9fYv72ZXNEoY4QFE49tKDq HB10l9TjyQxjgQMvdbKAKKD15OXLpnDz8ZUKO3A0IVKxbsu9GSELfPetD+grBNjWFxFG8YYE/Ok E5mJ1mSB8S2Sx5JzD40jplfc67gj1XkDo1Iv4btRUpTHTF3JPKGLGxBQik5qeMVCUCwNEXt9IoT CgGhMZ1gGta8vTMc5Xp21cNJth+AA8PJ4F3bJTnyLKKFrt5SLsv0dwwKAvLOe+DnJvHqRWYGM88 ijN9X/J/OMkbcE7IiPqWcl5VdzKwS9hA= X-Google-Smtp-Source: AGHT+IFIOsJz1stdoA5A5MlckQpg+4ITYk6BBAShUzHQqTD20zohqBXmmJpll63q3J2hyjUvMC/B2kf/Kik2 X-Received: by 2002:a05:690c:658a:b0:77f:a7d5:3555 with SMTP id 00721157ae682-7836d169b42mr57597907b3.6.1760716813505; Fri, 17 Oct 2025 09:00:13 -0700 (PDT) Received: from postal.iol.unh.edu (postal.iol.unh.edu. [132.177.123.84]) by smtp-relay.gmail.com with ESMTPS id 00721157ae682-7828c7eba2fsm3741017b3.6.2025.10.17.09.00.13 (version=TLS1_2 cipher=ECDHE-ECDSA-AES128-GCM-SHA256 bits=128/128); Fri, 17 Oct 2025 09:00:13 -0700 (PDT) X-Relaying-Domain: iol.unh.edu Date: Fri, 17 Oct 2025 09:00:13 -0700 (PDT) Message-ID: <68f2680d.050a0220.d55a8.3581SMTPIN_ADDED_MISSING@mx.google.com> Received: from [172.21.0.3] (unknown [172.18.0.240]) by postal.iol.unh.edu (Postfix) with ESMTP id 24EE96051830; Fri, 17 Oct 2025 12:00:13 -0400 (EDT) Subject: |SUCCESS| pw157812-157813 [PATCH] [v2,2/2] usertools/dpdk-telemetry- From: dpdklab@iol.unh.edu To: Test Report Cc: dpdk-test-reports@iol.unh.edu In-Reply-To: <20251017141927.1156370-3-bruce.richardson@intel.com> References: <20251017141927.1156370-3-bruce.richardson@intel.com> Content-Type: text/plain X-BeenThere: test-report@dpdk.org X-Mailman-Version: 2.1.29 Precedence: list List-Id: automatic DPDK test reports List-Unsubscribe: , List-Archive: List-Post: List-Help: List-Subscribe: , Errors-To: test-report-bounces@dpdk.org Test-Label: iol-unit-amd64-testing Test-Status: SUCCESS http://dpdk.org/patch/157813 _Testing PASS_ Submitter: Bruce Richardson Date: Friday, October 17 2025 14:19:27 DPDK git baseline: Repo:dpdk Branch: master CommitID:438491733c2d8a109574449d3d6de9b25a05c07c 157812-157813 --> testing pass Upstream job id: Generic-VM-Unit-Test-DPDK#31890 Test environment and result as below: +-------------------------------+----------------+ | Environment | dpdk_unit_test | +===============================+================+ | Fedora Linux 40 | PASS | +-------------------------------+----------------+ | CentOS Stream 10 | PASS | +-------------------------------+----------------+ | Debian GNU/Linux 12 | PASS | +-------------------------------+----------------+ | CentOS Stream 9 | PASS | +-------------------------------+----------------+ | Fedora Linux 41 | PASS | +-------------------------------+----------------+ | Red Hat Enterprise Linux 8.10 | PASS | +-------------------------------+----------------+ | Fedora Linux 42 | PASS | +-------------------------------+----------------+ | Ubuntu 22.04 | PASS | +-------------------------------+----------------+ | Red Hat Enterprise Linux 9.5 | PASS | +-------------------------------+----------------+ | Ubuntu 24.04 | PASS | +-------------------------------+----------------+ | Ubuntu 20.04 | PASS | +-------------------------------+----------------+ | Windows Server 2022 | PASS | +-------------------------------+----------------+ Fedora Linux 40 Kernel: 5.15 Compiler: gcc gcc (GCC) 14.2.1 20240912 (Red Hat 14.2.1-3) CentOS Stream 10 Kernel: 5.15 Compiler: gcc gcc (GCC) 14.2.1 20250110 (Red Hat 14.2.1-8) Debian GNU/Linux 12 Kernel: 5.15 Compiler: gcc gcc (Debian 12.2.0-14+deb12u1) 12.2.0 CentOS Stream 9 Kernel: 5.15 Compiler: gcc gcc (GCC) 11.5.0 20240719 (Red Hat 11.5.0-11) Fedora Linux 41 Kernel: 5.15 Compiler: gcc gcc (GCC) 14.3.1 20250523 (Red Hat 14.3.1-1) Red Hat Enterprise Linux 8.10 Kernel: 5.15 Compiler: gcc gcc (GCC) 8.5.0 20210514 (Red Hat 8.5.0-22) Fedora Linux 42 Kernel: 5.15 Compiler: gcc gcc (GCC) 15.2.1 20250808 (Red Hat 15.2.1-1) Ubuntu 22.04 Kernel: 5.15 Compiler: gcc gcc (Ubuntu 11.4.0-1ubuntu1~22.04) 11.4.0 Red Hat Enterprise Linux 9.5 Kernel: 5.15 Compiler: gcc gcc (GCC) 11.5.0 20240719 (Red Hat 11.5.0-2) Ubuntu 24.04 Kernel: 5.15 Compiler: gcc gcc (Ubuntu 13.3.0-6ubuntu2~24.04) 13.3.0 Ubuntu 20.04 Kernel: 5.15 Compiler: gcc gcc (Ubuntu 9.4.0-1ubuntu1~20.04.2) 9.4.0 Windows Server 2022 Kernel: 10.0.20348.2031 Compiler: clang 15.0.7, gcc 14.1.0 (MinGW), and MSVC VS 19.39.33521 To view detailed results, visit: https://lab.dpdk.org/results/dashboard/patchsets/34319/ UNH-IOL DPDK Community Lab To manage your email subscriptions, visit: https://lab.dpdk.org/results/dashboard/preferences/subscriptions/