From mboxrd@z Thu Jan 1 00:00:00 1970 Return-Path: Received: from mails.dpdk.org (mails.dpdk.org [217.70.189.124]) by inbox.dpdk.org (Postfix) with ESMTP id 1FA2248962 for ; Fri, 17 Oct 2025 18:01:58 +0200 (CEST) Received: from mails.dpdk.org (localhost [127.0.0.1]) by mails.dpdk.org (Postfix) with ESMTP id 09A62400D7; Fri, 17 Oct 2025 18:01:58 +0200 (CEST) Received: from mail-vk1-f228.google.com (mail-vk1-f228.google.com [209.85.221.228]) by mails.dpdk.org (Postfix) with ESMTP id 8BEC4400D7 for ; Fri, 17 Oct 2025 18:01:57 +0200 (CEST) Received: by mail-vk1-f228.google.com with SMTP id 71dfb90a1353d-554f1c13bcaso1450768e0c.0 for ; Fri, 17 Oct 2025 09:01:57 -0700 (PDT) DKIM-Signature: v=1; a=rsa-sha256; c=relaxed/relaxed; d=iol.unh.edu; s=unh-iol; t=1760716917; x=1761321717; darn=dpdk.org; h=references:in-reply-to:cc:to:from:subject:message-id:date:from:to :cc:subject:date:message-id:reply-to; bh=QzbHx4fLybmIn22nP7vAFINLW8Krx1VDlxfUa0/f7No=; b=iK27VXZLjmAkzjBs0Y1sLuJdakfVj9LDIMQipbq8Pb0jAgb3UZhZCowuMCYrpgqi7g 5ylzhi+WsDf689IfdSarIvgpajpVmtPDdrBWTr9v22zBBacsAy7VfPl6mY4OmckNUixy iF+lqIsMQ3QCXp9eEmmqVdAkciGzyYSsJk7Ho= X-Google-DKIM-Signature: v=1; a=rsa-sha256; c=relaxed/relaxed; d=1e100.net; s=20230601; t=1760716917; x=1761321717; h=references:in-reply-to:cc:to:from:subject:message-id:date :x-gm-message-state:from:to:cc:subject:date:message-id:reply-to; bh=QzbHx4fLybmIn22nP7vAFINLW8Krx1VDlxfUa0/f7No=; b=APdsong++jBuxNHnrb18iMVejn6mnCxVIkI4CmxJyIB5yHRVlWzZiVQqJXEw1drYqR SL0FRE+vL6I3ioc8YdqWtuUjKi6xu87YQbYHSiD5EFK1Xcwp9WFommI2qVK4+TpIvgWM rez6T57RIG7uj5Dy/KBxFehZpJUwS36JBM7MS3ncrMICUyrXbKHpf6gSFrDJUxogHgjd CEJcH8z97nANWkwV8BK0g7e216AW7jBYycntSP2nsj6n13IqWN0bOFAicFmV9KbMv9ko xjCHpAr9UrEodIEAHhxGoqY2zfKlTzajgz2jpdra+V9nbe75nD4MW5Yr49laZ2wFNo61 V6Rw== X-Gm-Message-State: AOJu0YzOfNL1gMBn79Z3yLPUZvCX6mOpUlOZd2bi2PqkL3UlM4sMYK+Q 6oe6GefliffKQOb7JUYcWzgpVEWZ3iHm35wAggYw1TkGHOzibU/yvZMU0dGgJiTA7JN85mCXIJo vmjh9gI+ZpFUDhy2rWoxQ/gF9BHjTkboowyScPV3iiGAd X-Gm-Gg: ASbGncuG/sf+YAokxwQzLefqhgtmeMBCA7XeCKrDtoUWMDt4gGOnpO8LszWPX4zzPsK lS/8A50Amja0AGyaRF378vx3HpW/0rZSdBSiJp2D3WqW/XCI4IFLPtks4Yavz7p47+6Y59wxMM9 jS/sP3KPK5smjG7slWMFi4OnjUb7XcoMe53WecKEJ9K9jcjKhbM0H6ZC1YGtYpBEruHNRjiOyhr /l5y/ffZvodb00JE/rZlA1i/7/bTnXdNE9Xhhgs3gufzgDImmNq8pY9SqvihCKb9U4WZUUSPt8n y75+9DaxqHEJe+91wpGEDmhQtaTRE7zpA0omXX5aOPy9/aanR4kNrgc4sk8Ek64t5YIkR1G/xAM Q9I1kJHBic09I/fL3OFHUD9wuVzCfr74= X-Google-Smtp-Source: AGHT+IEtSZHIcj20k3vTI/AwBhNuC3reJOoG4dA76+d60QiAJW6DLI4szFa6C+boR5fhS1IcxFQdSgC1KtHL X-Received: by 2002:a05:6122:d9a:b0:53c:6d68:1d2f with SMTP id 71dfb90a1353d-5564ef649bfmr1993205e0c.13.1760716903334; Fri, 17 Oct 2025 09:01:43 -0700 (PDT) Received: from postal.iol.unh.edu (postal.iol.unh.edu. [132.177.123.84]) by smtp-relay.gmail.com with ESMTPS id 71dfb90a1353d-554d7ef0fabsm2404455e0c.1.2025.10.17.09.01.43 (version=TLS1_2 cipher=ECDHE-ECDSA-AES128-GCM-SHA256 bits=128/128); Fri, 17 Oct 2025 09:01:43 -0700 (PDT) X-Relaying-Domain: iol.unh.edu Date: Fri, 17 Oct 2025 09:01:43 -0700 (PDT) Message-ID: <68f26867.050a0220.2f4f89.7da3SMTPIN_ADDED_MISSING@mx.google.com> Received: from [172.21.0.3] (unknown [172.18.0.240]) by postal.iol.unh.edu (Postfix) with ESMTP id 121306051830; Fri, 17 Oct 2025 12:01:43 -0400 (EDT) Subject: |WARNING| pw157784-157795 [PATCH] [v2,12/12] net/enetc: Add support From: dpdklab@iol.unh.edu To: Test Report Cc: dpdk-test-reports@iol.unh.edu, Stephen Hemminger In-Reply-To: <20251017091929.2723044-13-vanshika.shukla@nxp.com> References: <20251017091929.2723044-13-vanshika.shukla@nxp.com> Content-Type: text/plain X-BeenThere: test-report@dpdk.org X-Mailman-Version: 2.1.29 Precedence: list List-Id: automatic DPDK test reports List-Unsubscribe: , List-Archive: List-Post: List-Help: List-Subscribe: , Errors-To: test-report-bounces@dpdk.org Test-Label: iol-compile-amd64-testing Test-Status: WARNING http://dpdk.org/patch/157795 _Testing issues_ Submitter: Vanshika Shukla Date: Friday, October 17 2025 09:19:29 DPDK git baseline: Repo:dpdk-next-net Branch: master CommitID:535c49b6264f1df239703b8250b070e4c4cda2e9 157784-157795 --> testing issues Upstream job id: Generic-DPDK-Compile-Meson#435352 Test environment and result as below: +-------------------------------+--------------------+-------------------------+-------------------+----------------------+-------------------+------------------+ | Environment | dpdk_meson_compile | dpdk_llvm_clang_compile | dpdk_msvc_compile | dpdk_mingw64_compile | dpdk_compile_spdk | dpdk_compile_ovs | +===============================+====================+=========================+===================+======================+===================+==================+ | Ubuntu 20.04 | PASS | SKIPPED | SKIPPED | SKIPPED | SKIPPED | SKIPPED | +-------------------------------+--------------------+-------------------------+-------------------+----------------------+-------------------+------------------+ | FreeBSD 14.2 | PASS | SKIPPED | SKIPPED | SKIPPED | SKIPPED | SKIPPED | +-------------------------------+--------------------+-------------------------+-------------------+----------------------+-------------------+------------------+ | CentOS Stream 9 | PASS | SKIPPED | SKIPPED | SKIPPED | WARN | SKIPPED | +-------------------------------+--------------------+-------------------------+-------------------+----------------------+-------------------+------------------+ | CentOS Stream 10 | PASS | SKIPPED | SKIPPED | SKIPPED | SKIPPED | SKIPPED | +-------------------------------+--------------------+-------------------------+-------------------+----------------------+-------------------+------------------+ | Debian GNU/Linux 12 | PASS | SKIPPED | SKIPPED | SKIPPED | WARN | SKIPPED | +-------------------------------+--------------------+-------------------------+-------------------+----------------------+-------------------+------------------+ | Fedora Linux 42 | PASS | SKIPPED | SKIPPED | SKIPPED | WARN | PASS | +-------------------------------+--------------------+-------------------------+-------------------+----------------------+-------------------+------------------+ | openSUSE Leap 15.6 | PASS | SKIPPED | SKIPPED | SKIPPED | SKIPPED | SKIPPED | +-------------------------------+--------------------+-------------------------+-------------------+----------------------+-------------------+------------------+ | Red Hat Enterprise Linux 8.10 | PASS | SKIPPED | SKIPPED | SKIPPED | SKIPPED | SKIPPED | +-------------------------------+--------------------+-------------------------+-------------------+----------------------+-------------------+------------------+ | Red Hat Enterprise Linux 9.5 | PASS | SKIPPED | SKIPPED | SKIPPED | SKIPPED | SKIPPED | +-------------------------------+--------------------+-------------------------+-------------------+----------------------+-------------------+------------------+ | Ubuntu 22.04 | PASS | SKIPPED | SKIPPED | SKIPPED | WARN | SKIPPED | +-------------------------------+--------------------+-------------------------+-------------------+----------------------+-------------------+------------------+ | Ubuntu 24.04 | PASS | SKIPPED | SKIPPED | SKIPPED | WARN | PASS | +-------------------------------+--------------------+-------------------------+-------------------+----------------------+-------------------+------------------+ | Alpine Linux 3.22.0 | PASS | SKIPPED | SKIPPED | SKIPPED | SKIPPED | SKIPPED | +-------------------------------+--------------------+-------------------------+-------------------+----------------------+-------------------+------------------+ | Windows Server 2022 | SKIPPED | PASS | PASS | PASS | SKIPPED | SKIPPED | +-------------------------------+--------------------+-------------------------+-------------------+----------------------+-------------------+------------------+ ==== 20 line log output for Ubuntu 24.04 (dpdk_compile_spdk): ==== --- Failed to get log output --- ==== End log output ==== Ubuntu 20.04 Kernel: 4.19 Compiler: gcc gcc (Ubuntu 9.4.0-1ubuntu1~20.04.2) 9.4.0 FreeBSD 14.2 Kernel: 14.2-RELEASE Compiler: clang 18.1.6 CentOS Stream 9 Kernel: 5.15 Compiler: gcc gcc (GCC) 11.5.0 20240719 (Red Hat 11.5.0-11) CentOS Stream 10 Kernel: 5.15 Compiler: gcc gcc (GCC) 14.2.1 20250110 (Red Hat 14.2.1-8) Debian GNU/Linux 12 Kernel: 5.15 Compiler: gcc gcc (Debian 12.2.0-14+deb12u1) 12.2.0 Fedora Linux 42 Kernel: 5.15 Compiler: clang gcc (GCC) 15.2.1 20250808 (Red Hat 15.2.1-1) openSUSE Leap 15.6 Kernel: 5.15 Compiler: gcc gcc (SUSE Linux) 7.5.0 Red Hat Enterprise Linux 8.10 Kernel: 5.15 Compiler: gcc gcc (GCC) 8.5.0 20210514 (Red Hat 8.5.0-22) Red Hat Enterprise Linux 9.5 Kernel: 5.15 Compiler: gcc gcc (GCC) 11.5.0 20240719 (Red Hat 11.5.0-2) Ubuntu 22.04 Kernel: 5.15 Compiler: gcc gcc (Ubuntu 11.4.0-1ubuntu1~22.04) 11.4.0 Ubuntu 24.04 Kernel: 5.15 Compiler: gcc gcc (Ubuntu 13.3.0-6ubuntu2~24.04) 13.3.0 Alpine Linux 3.22.0 Kernel: 5.15 Compiler: gcc gcc (Alpine 14.2.0) 14.2.0 Windows Server 2022 Kernel: 10.0.20348.2031 Compiler: clang 15.0.7, gcc 14.1.0 (MinGW), and MSVC VS 19.39.33521 To view detailed results, visit: https://lab.dpdk.org/results/dashboard/patchsets/34309/ UNH-IOL DPDK Community Lab To manage your email subscriptions, visit: https://lab.dpdk.org/results/dashboard/preferences/subscriptions/