From mboxrd@z Thu Jan 1 00:00:00 1970 Return-Path: Received: from mails.dpdk.org (mails.dpdk.org [217.70.189.124]) by inbox.dpdk.org (Postfix) with ESMTP id D37C748962 for ; Fri, 17 Oct 2025 18:09:04 +0200 (CEST) Received: from mails.dpdk.org (localhost [127.0.0.1]) by mails.dpdk.org (Postfix) with ESMTP id A6655427BE; Fri, 17 Oct 2025 18:09:04 +0200 (CEST) Received: from mail-oa1-f97.google.com (mail-oa1-f97.google.com [209.85.160.97]) by mails.dpdk.org (Postfix) with ESMTP id B3A08400D7 for ; Fri, 17 Oct 2025 18:09:03 +0200 (CEST) Received: by mail-oa1-f97.google.com with SMTP id 586e51a60fabf-3c99a6a2afeso467371fac.1 for ; Fri, 17 Oct 2025 09:09:03 -0700 (PDT) DKIM-Signature: v=1; a=rsa-sha256; c=relaxed/relaxed; d=iol.unh.edu; s=unh-iol; t=1760717343; x=1761322143; darn=dpdk.org; h=references:in-reply-to:cc:to:from:subject:message-id:date:from:to :cc:subject:date:message-id:reply-to; bh=qetEeNPyqP9M0YR57N2NXH015HSrXFeK0/erhbZS7yk=; b=SAwjEkT9gE8K9sJGiRm6Mzs9GS9xQI8UgKKpkGRMMqWJA9S/4eY1tebJEHNiYY5Yqw dBu1bOgQbarpKw/7V3+8rSJNmDsWaDF6Obst63X/FMXniuTgrRJmcAXulOmxL25/LG1h jO/NfyFmN1ZTWPA3fUFwclnurRAvOnfDgKHYM= X-Google-DKIM-Signature: v=1; a=rsa-sha256; c=relaxed/relaxed; d=1e100.net; s=20230601; t=1760717343; x=1761322143; h=references:in-reply-to:cc:to:from:subject:message-id:date :x-gm-message-state:from:to:cc:subject:date:message-id:reply-to; bh=qetEeNPyqP9M0YR57N2NXH015HSrXFeK0/erhbZS7yk=; b=kJ0U4CFktspqTkgO4VL5KgFqy6sjdMQNfntZ1cg6JE6qF/8Uq47s9CIow3jnyVr+7d AR/AljywR3zcCiYI19hAD1Lr+4bCJ5pa4HqlZj6qT5/Eky3wseVoI3geVTBoJfWSQJ8p WS0kZjBolm0E6506gu22crK/Ob6FERY8cG+cpUpJj+hQmQl43o5Dp6anaBnbx5+XN1Th dNxDjMEiUD2GlDTcqnIRfyEt//oNFVjBM8mpK/x+gtIwvbpAWsoYldC4hWuVCDaKgbS7 nWFoigd+dc4MRhuxbtFKIuKyk3weB4UnRo6wUh8OrZrqDhYpXRPkDB7lEZNO/e39pr02 Gg6A== X-Gm-Message-State: AOJu0YxS7Bumv55B0CVdNTbkhFZAynVAPfX0qBK5L75Yc7X2iD9fALbx cw5du/l6xtcX6uv5+VCluP5nhF/VbCbAbyMyInWIEy+y/Ei9kfv2NlaQBG8VBE9thSwAjSeiz58 Eo2WcXCc2USCW+5SFscZ5mEtP5U+/jkmecmOwwGM6eSPQ X-Gm-Gg: ASbGnctJKMp2eqlOagR1l4HTJviM74UNl08hvYZHdkz883zlUMTBhe+4IitOLDrgTbV AJMV1Vl0buawdSEDP5MV2X//wwhuBqCy1hIeHjd+dxxdKgFrOBq6ZHRcZ/Qv6AYlI9Y+lz5+Tsx jwPXOmf5KILYcwmQYSfqyT7vnQIoE1vumXh7UJH3mFqfGqs9w3l3mtitK3Q/1fVSGZMZBI4NWn6 HiDNyH34RzpjcHkARryKCU3FvtlAdTBdzJ/oFSnjWwP4tXFIahrmjNpgmYQdoiQmwm7eHQGib5a DGb1ag1gHHRW0QiirhEa8ytqk1oNDrMyQikJVzDEF/4v+sHCngNk3NTyOhYrIFZNgLm6b66G7Eh wQQJHy+Pd9g7vVu5iU1kJdYMdjru8zaw= X-Google-Smtp-Source: AGHT+IEsqzNbgVsYnXWOlHLFhg9HFSeDmEawxhyq/jeeQAN5QY+5cxYS9JJJcZcEO+STxqm24i+b83B9dtrD X-Received: by 2002:a05:6870:6490:b0:35c:cfec:df79 with SMTP id 586e51a60fabf-3c98d17dc58mr1520159fac.51.1760717342866; Fri, 17 Oct 2025 09:09:02 -0700 (PDT) Received: from postal.iol.unh.edu (postal.iol.unh.edu. [132.177.123.84]) by smtp-relay.gmail.com with ESMTPS id 586e51a60fabf-3c8c8b11fa8sm2081450fac.1.2025.10.17.09.09.02 (version=TLS1_2 cipher=ECDHE-ECDSA-AES128-GCM-SHA256 bits=128/128); Fri, 17 Oct 2025 09:09:02 -0700 (PDT) X-Relaying-Domain: iol.unh.edu Date: Fri, 17 Oct 2025 09:09:02 -0700 (PDT) Message-ID: <68f26a1e.050a0220.251384.a635SMTPIN_ADDED_MISSING@mx.google.com> Received: from [172.21.0.3] (unknown [172.18.0.240]) by postal.iol.unh.edu (Postfix) with ESMTP id EF0636051830; Fri, 17 Oct 2025 12:09:01 -0400 (EDT) Subject: |SUCCESS| pw157812-157813 [PATCH] [v2,2/2] usertools/dpdk-telemetry- From: dpdklab@iol.unh.edu To: Test Report Cc: dpdk-test-reports@iol.unh.edu In-Reply-To: <20251017141927.1156370-3-bruce.richardson@intel.com> References: <20251017141927.1156370-3-bruce.richardson@intel.com> Content-Type: text/plain X-BeenThere: test-report@dpdk.org X-Mailman-Version: 2.1.29 Precedence: list List-Id: automatic DPDK test reports List-Unsubscribe: , List-Archive: List-Post: List-Help: List-Subscribe: , Errors-To: test-report-bounces@dpdk.org Test-Label: iol-unit-amd64-testing Test-Status: SUCCESS http://dpdk.org/patch/157813 _Testing PASS_ Submitter: Bruce Richardson Date: Friday, October 17 2025 14:19:27 DPDK git baseline: Repo:dpdk Branch: master CommitID:438491733c2d8a109574449d3d6de9b25a05c07c 157812-157813 --> testing pass Upstream job id: Generic-VM-Unit-Test-DPDK#31891 Test environment and result as below: +-------------------------------+----------------+ | Environment | dpdk_unit_test | +===============================+================+ | Fedora Linux 40 | PASS | +-------------------------------+----------------+ | CentOS Stream 10 | PASS | +-------------------------------+----------------+ | Debian GNU/Linux 12 | PASS | +-------------------------------+----------------+ | CentOS Stream 9 | PASS | +-------------------------------+----------------+ | Fedora Linux 41 | PASS | +-------------------------------+----------------+ | Red Hat Enterprise Linux 8.10 | PASS | +-------------------------------+----------------+ | Fedora Linux 42 | PASS | +-------------------------------+----------------+ | Ubuntu 22.04 | PASS | +-------------------------------+----------------+ | Red Hat Enterprise Linux 9.5 | PASS | +-------------------------------+----------------+ | Ubuntu 24.04 | PASS | +-------------------------------+----------------+ | Ubuntu 20.04 | PASS | +-------------------------------+----------------+ | Windows Server 2022 | PASS | +-------------------------------+----------------+ Fedora Linux 40 Kernel: 5.15 Compiler: gcc gcc (GCC) 14.2.1 20240912 (Red Hat 14.2.1-3) CentOS Stream 10 Kernel: 5.15 Compiler: gcc gcc (GCC) 14.2.1 20250110 (Red Hat 14.2.1-8) Debian GNU/Linux 12 Kernel: 5.15 Compiler: gcc gcc (Debian 12.2.0-14+deb12u1) 12.2.0 CentOS Stream 9 Kernel: 5.15 Compiler: gcc gcc (GCC) 11.5.0 20240719 (Red Hat 11.5.0-11) Fedora Linux 41 Kernel: 5.15 Compiler: gcc gcc (GCC) 14.3.1 20250523 (Red Hat 14.3.1-1) Red Hat Enterprise Linux 8.10 Kernel: 5.15 Compiler: gcc gcc (GCC) 8.5.0 20210514 (Red Hat 8.5.0-22) Fedora Linux 42 Kernel: 5.15 Compiler: gcc gcc (GCC) 15.2.1 20250808 (Red Hat 15.2.1-1) Ubuntu 22.04 Kernel: 5.15 Compiler: gcc gcc (Ubuntu 11.4.0-1ubuntu1~22.04) 11.4.0 Red Hat Enterprise Linux 9.5 Kernel: 5.15 Compiler: gcc gcc (GCC) 11.5.0 20240719 (Red Hat 11.5.0-2) Ubuntu 24.04 Kernel: 5.15 Compiler: gcc gcc (Ubuntu 13.3.0-6ubuntu2~24.04) 13.3.0 Ubuntu 20.04 Kernel: 5.15 Compiler: gcc gcc (Ubuntu 9.4.0-1ubuntu1~20.04.2) 9.4.0 Windows Server 2022 Kernel: 10.0.20348.2031 Compiler: clang 15.0.7, gcc 14.1.0 (MinGW), and MSVC VS 19.39.33521 To view detailed results, visit: https://lab.dpdk.org/results/dashboard/patchsets/34319/ UNH-IOL DPDK Community Lab To manage your email subscriptions, visit: https://lab.dpdk.org/results/dashboard/preferences/subscriptions/