automatic DPDK test reports
 help / color / mirror / Atom feed
From: dpdklab@iol.unh.edu
To: Test Report <test-report@dpdk.org>
Cc: dpdk-test-reports@iol.unh.edu
Subject: |SUCCESS| pw157814-157821 [PATCH] [v5,8/8] config: enable comma warn
Date: Fri, 17 Oct 2025 09:19:20 -0700 (PDT)	[thread overview]
Message-ID: <68f26c88.050a0220.39bb23.4e8cSMTPIN_ADDED_MISSING@mx.google.com> (raw)
In-Reply-To: <20251017150241.28511-9-stephen@networkplumber.org>

Test-Label: iol-unit-amd64-testing
Test-Status: SUCCESS
http://dpdk.org/patch/157821

_Testing PASS_

Submitter: Stephen Hemminger <stephen@networkplumber.org>
Date: Friday, October 17 2025 15:02:09 
DPDK git baseline: Repo:dpdk
  Branch: master
  CommitID:438491733c2d8a109574449d3d6de9b25a05c07c

157814-157821 --> testing pass

Upstream job id: Generic-VM-Unit-Test-DPDK#31892

Test environment and result as below:

+-------------------------------+----------------+
|          Environment          | dpdk_unit_test |
+===============================+================+
| Fedora Linux 40               | PASS           |
+-------------------------------+----------------+
| CentOS Stream 9               | PASS           |
+-------------------------------+----------------+
| Debian GNU/Linux 12           | PASS           |
+-------------------------------+----------------+
| Fedora Linux 41               | PASS           |
+-------------------------------+----------------+
| Fedora Linux 42               | PASS           |
+-------------------------------+----------------+
| Ubuntu 20.04                  | PASS           |
+-------------------------------+----------------+
| CentOS Stream 10              | PASS           |
+-------------------------------+----------------+
| Red Hat Enterprise Linux 8.10 | PASS           |
+-------------------------------+----------------+
| Ubuntu 22.04                  | PASS           |
+-------------------------------+----------------+
| Red Hat Enterprise Linux 9.5  | PASS           |
+-------------------------------+----------------+
| Ubuntu 24.04                  | PASS           |
+-------------------------------+----------------+
| Windows Server 2022           | PASS           |
+-------------------------------+----------------+


Fedora Linux 40
	Kernel: 5.15
	Compiler: gcc gcc (GCC) 14.2.1 20240912 (Red Hat 14.2.1-3)

CentOS Stream 9
	Kernel: 5.15
	Compiler: gcc gcc (GCC) 11.5.0 20240719 (Red Hat 11.5.0-11)

Debian GNU/Linux 12
	Kernel: 5.15
	Compiler: gcc gcc (Debian 12.2.0-14+deb12u1) 12.2.0

Fedora Linux 41
	Kernel: 5.15
	Compiler: gcc gcc (GCC) 14.3.1 20250523 (Red Hat 14.3.1-1)

Fedora Linux 42
	Kernel: 5.15
	Compiler: gcc gcc (GCC) 15.2.1 20250808 (Red Hat 15.2.1-1)

Ubuntu 20.04
	Kernel: 5.15
	Compiler: gcc gcc (Ubuntu 9.4.0-1ubuntu1~20.04.2) 9.4.0

CentOS Stream 10
	Kernel: 5.15
	Compiler: gcc gcc (GCC) 14.2.1 20250110 (Red Hat 14.2.1-8)

Red Hat Enterprise Linux 8.10
	Kernel: 5.15
	Compiler: gcc gcc (GCC) 8.5.0 20210514 (Red Hat 8.5.0-22)

Ubuntu 22.04
	Kernel: 5.15
	Compiler: gcc gcc (Ubuntu 11.4.0-1ubuntu1~22.04) 11.4.0

Red Hat Enterprise Linux 9.5
	Kernel: 5.15
	Compiler: gcc gcc (GCC) 11.5.0 20240719 (Red Hat 11.5.0-2)

Ubuntu 24.04
	Kernel: 5.15
	Compiler: gcc gcc (Ubuntu 13.3.0-6ubuntu2~24.04) 13.3.0

Windows Server 2022
	Kernel: 10.0.20348.2031
	Compiler: clang 15.0.7, gcc 14.1.0 (MinGW), and MSVC VS 19.39.33521

To view detailed results, visit:
https://lab.dpdk.org/results/dashboard/patchsets/34320/

UNH-IOL DPDK Community Lab

To manage your email subscriptions, visit: 
https://lab.dpdk.org/results/dashboard/preferences/subscriptions/

  parent reply	other threads:[~2025-10-17 16:19 UTC|newest]

Thread overview: 26+ messages / expand[flat|nested]  mbox.gz  Atom feed  top
     [not found] <20251017150241.28511-9-stephen@networkplumber.org>
2025-10-17 14:30 ` |SUCCESS| pw157814-157821 [PATCH v5 8/8] config: enable comma warnings qemudev
2025-10-17 14:35 ` qemudev
2025-10-17 15:05 ` |SUCCESS| pw157821 " checkpatch
2025-10-17 15:34 ` |PENDING| pw157814-157821 [PATCH] [v5,8/8] config: enable comma warn dpdklab
2025-10-17 15:35 ` |SUCCESS| " dpdklab
2025-10-17 15:35 ` |PENDING| " dpdklab
2025-10-17 15:39 ` |SUCCESS| " dpdklab
2025-10-17 15:42 ` |PENDING| " dpdklab
2025-10-17 15:52 ` |SUCCESS| " dpdklab
2025-10-17 15:53 ` dpdklab
2025-10-17 15:53 ` dpdklab
2025-10-17 15:55 ` |PENDING| " dpdklab
2025-10-17 15:55 ` |SUCCESS| " dpdklab
2025-10-17 15:55 ` dpdklab
2025-10-17 15:56 ` dpdklab
2025-10-17 16:19 ` dpdklab [this message]
2025-10-17 16:27 ` dpdklab
2025-10-17 17:40 ` dpdklab
2025-10-17 18:17 ` dpdklab
2025-10-17 18:36 ` dpdklab
2025-10-17 18:56 ` |SUCCESS| pw157821 [PATCH v5 8/8] config: enable comma warnings 0-day Robot
2025-10-17 18:57 ` 0-day Robot
2025-10-17 23:04 ` |PENDING| pw157814-157821 [PATCH] [v5,8/8] config: enable comma warn dpdklab
2025-10-17 23:35 ` |WARNING| " dpdklab
2025-10-17 23:56 ` |SUCCESS| " dpdklab
2025-10-18  7:18 ` dpdklab

Reply instructions:

You may reply publicly to this message via plain-text email
using any one of the following methods:

* Save the following mbox file, import it into your mail client,
  and reply-to-all from there: mbox

  Avoid top-posting and favor interleaved quoting:
  https://en.wikipedia.org/wiki/Posting_style#Interleaved_style

* Reply using the --to, --cc, and --in-reply-to
  switches of git-send-email(1):

  git send-email \
    --in-reply-to=68f26c88.050a0220.39bb23.4e8cSMTPIN_ADDED_MISSING@mx.google.com \
    --to=dpdklab@iol.unh.edu \
    --cc=dpdk-test-reports@iol.unh.edu \
    --cc=test-report@dpdk.org \
    /path/to/YOUR_REPLY

  https://kernel.org/pub/software/scm/git/docs/git-send-email.html

* If your mail client supports setting the In-Reply-To header
  via mailto: links, try the mailto: link
Be sure your reply has a Subject: header at the top and a blank line before the message body.
This is a public inbox, see mirroring instructions
for how to clone and mirror all data and code used for this inbox;
as well as URLs for NNTP newsgroup(s).