From mboxrd@z Thu Jan 1 00:00:00 1970 Return-Path: Received: from mails.dpdk.org (mails.dpdk.org [217.70.189.124]) by inbox.dpdk.org (Postfix) with ESMTP id B6F4148962 for ; Fri, 17 Oct 2025 18:19:22 +0200 (CEST) Received: from mails.dpdk.org (localhost [127.0.0.1]) by mails.dpdk.org (Postfix) with ESMTP id 8DC09400D7; Fri, 17 Oct 2025 18:19:22 +0200 (CEST) Received: from mail-pf1-f226.google.com (mail-pf1-f226.google.com [209.85.210.226]) by mails.dpdk.org (Postfix) with ESMTP id 70EEF400D7 for ; Fri, 17 Oct 2025 18:19:21 +0200 (CEST) Received: by mail-pf1-f226.google.com with SMTP id d2e1a72fcca58-77f5d497692so2807664b3a.1 for ; Fri, 17 Oct 2025 09:19:21 -0700 (PDT) DKIM-Signature: v=1; a=rsa-sha256; c=relaxed/relaxed; d=iol.unh.edu; s=unh-iol; t=1760717960; x=1761322760; darn=dpdk.org; h=references:in-reply-to:cc:to:from:subject:message-id:date:from:to :cc:subject:date:message-id:reply-to; bh=cnIEao+u0WtR+Q98DUvchmnKZoiBh6pudaa9ebh0z1c=; b=dl1Ye5NqbxAFL295NJtUHzcy4YzZUkqXrCJrhj4UA1ltuU341AV///Ec/8HCpvzNHp /MpuhQT1rINVGdbIoSzlXLJJmWkbnHoOx3UUJOnGJPcq8By8YBIyxkM8LZHkUhBC6xKP ySUoHNa20zDHjpT4ymCEl3Wa4bCvsa/jULamY= X-Google-DKIM-Signature: v=1; a=rsa-sha256; c=relaxed/relaxed; d=1e100.net; s=20230601; t=1760717960; x=1761322760; h=references:in-reply-to:cc:to:from:subject:message-id:date :x-gm-message-state:from:to:cc:subject:date:message-id:reply-to; bh=cnIEao+u0WtR+Q98DUvchmnKZoiBh6pudaa9ebh0z1c=; b=XZ+8XNLE88esilunySkFT6DiCWM/4szonG0to5PphGmU0NLvr/1uxjlrjBy9N+r6fN MiswegEaKdRh56El1croOCrAWNdgkaOP9myvb0jg94uIAIKWfEQCMUdc3SWX56K2YGLi S7gup+Nk1xnQiUYkw3Vqy5HpAfUeDxmAXDnILoD0G3DpbeXoDYdZv6sy3OzNu5aChwvf xCWncysmZtNFvfGcieeIFxZDR/bd5Fl6dcrBpA20CSCoKIYtIcNdbfM+zzuVMeRsO51d 26kS0CDc94oc9fM3MY44PtidSzWDfLptBLnyySH6Qy+Ky2BgtfUe2ua30HthNWHQrp5J syEw== X-Gm-Message-State: AOJu0YwrFd1ctbRGxzsNiPH5fEueSN+0/285UVAT/TZeBim6VFya+2Vf ltC1TpWAFP353ZDzKyRpe8JwjPTefpmJ4mayYnF7ZZ+t4nTXm6NhkNttDzpgnWEerm+phWJYpnF pw0CJfVVMbx/wb7YZTt5ECyNSi+6yM7lfNzrwJcV5lwodts69PaaszP++TsN+ X-Gm-Gg: ASbGncvrecUbxCdUzKCeqx56xmvjMmiQ9PXnEke/oV2NUPt2aQAB+lK/ECMredwu+Gu 1TfJgNA7oMbPVim3EldiV/qcFg2UFGxBD3a/YxEQa6/rjAZ98YCWutzKnGZUOYu2SYvEuCRNbnG TryrNa+Il4ybUh2SYhsT0ptkgxBF+hUKIy6S8IJlcYr9Rod9/IJn/ShJjTce0d6esfS87QAqMHm hUl/6gc2JKf4hUn7uEfLqrw26ez6Gl+PtagzNQUNHREEzbst5VUNdJKjKspWoKssYTEMuRcOYdb NILzq7Xefo9NZVRzVD+TZlpsAmaVF0z9sM2u8Ch8nIvHCifjI43ARy8WZnPZ2gs2XynFTTiN9La pssxyhHbt X-Google-Smtp-Source: AGHT+IGUZC77c7o+Yzo/Wvy9sDj2kNrSqnYsgVFoOxSojIqvegqkLgL4+xNuwpzOwnghb4wwmslQiwIkC/xG X-Received: by 2002:a05:6a00:3cd5:b0:783:cb49:c67b with SMTP id d2e1a72fcca58-7a220d2327emr5689314b3a.32.1760717960633; Fri, 17 Oct 2025 09:19:20 -0700 (PDT) Received: from postal.iol.unh.edu (postal.iol.unh.edu. [2606:4100:3880:1234::84]) by smtp-relay.gmail.com with ESMTPS id d2e1a72fcca58-7993086358fsm2063038b3a.7.2025.10.17.09.19.20 (version=TLS1_2 cipher=ECDHE-ECDSA-AES128-GCM-SHA256 bits=128/128); Fri, 17 Oct 2025 09:19:20 -0700 (PDT) X-Relaying-Domain: iol.unh.edu Date: Fri, 17 Oct 2025 09:19:20 -0700 (PDT) Message-ID: <68f26c88.050a0220.39bb23.4e8cSMTPIN_ADDED_MISSING@mx.google.com> Received: from [172.21.0.2] (unknown [172.18.0.240]) by postal.iol.unh.edu (Postfix) with ESMTP id D39D96051830; Fri, 17 Oct 2025 12:19:19 -0400 (EDT) Subject: |SUCCESS| pw157814-157821 [PATCH] [v5,8/8] config: enable comma warn From: dpdklab@iol.unh.edu To: Test Report Cc: dpdk-test-reports@iol.unh.edu In-Reply-To: <20251017150241.28511-9-stephen@networkplumber.org> References: <20251017150241.28511-9-stephen@networkplumber.org> Content-Type: text/plain X-BeenThere: test-report@dpdk.org X-Mailman-Version: 2.1.29 Precedence: list List-Id: automatic DPDK test reports List-Unsubscribe: , List-Archive: List-Post: List-Help: List-Subscribe: , Errors-To: test-report-bounces@dpdk.org Test-Label: iol-unit-amd64-testing Test-Status: SUCCESS http://dpdk.org/patch/157821 _Testing PASS_ Submitter: Stephen Hemminger Date: Friday, October 17 2025 15:02:09 DPDK git baseline: Repo:dpdk Branch: master CommitID:438491733c2d8a109574449d3d6de9b25a05c07c 157814-157821 --> testing pass Upstream job id: Generic-VM-Unit-Test-DPDK#31892 Test environment and result as below: +-------------------------------+----------------+ | Environment | dpdk_unit_test | +===============================+================+ | Fedora Linux 40 | PASS | +-------------------------------+----------------+ | CentOS Stream 9 | PASS | +-------------------------------+----------------+ | Debian GNU/Linux 12 | PASS | +-------------------------------+----------------+ | Fedora Linux 41 | PASS | +-------------------------------+----------------+ | Fedora Linux 42 | PASS | +-------------------------------+----------------+ | Ubuntu 20.04 | PASS | +-------------------------------+----------------+ | CentOS Stream 10 | PASS | +-------------------------------+----------------+ | Red Hat Enterprise Linux 8.10 | PASS | +-------------------------------+----------------+ | Ubuntu 22.04 | PASS | +-------------------------------+----------------+ | Red Hat Enterprise Linux 9.5 | PASS | +-------------------------------+----------------+ | Ubuntu 24.04 | PASS | +-------------------------------+----------------+ | Windows Server 2022 | PASS | +-------------------------------+----------------+ Fedora Linux 40 Kernel: 5.15 Compiler: gcc gcc (GCC) 14.2.1 20240912 (Red Hat 14.2.1-3) CentOS Stream 9 Kernel: 5.15 Compiler: gcc gcc (GCC) 11.5.0 20240719 (Red Hat 11.5.0-11) Debian GNU/Linux 12 Kernel: 5.15 Compiler: gcc gcc (Debian 12.2.0-14+deb12u1) 12.2.0 Fedora Linux 41 Kernel: 5.15 Compiler: gcc gcc (GCC) 14.3.1 20250523 (Red Hat 14.3.1-1) Fedora Linux 42 Kernel: 5.15 Compiler: gcc gcc (GCC) 15.2.1 20250808 (Red Hat 15.2.1-1) Ubuntu 20.04 Kernel: 5.15 Compiler: gcc gcc (Ubuntu 9.4.0-1ubuntu1~20.04.2) 9.4.0 CentOS Stream 10 Kernel: 5.15 Compiler: gcc gcc (GCC) 14.2.1 20250110 (Red Hat 14.2.1-8) Red Hat Enterprise Linux 8.10 Kernel: 5.15 Compiler: gcc gcc (GCC) 8.5.0 20210514 (Red Hat 8.5.0-22) Ubuntu 22.04 Kernel: 5.15 Compiler: gcc gcc (Ubuntu 11.4.0-1ubuntu1~22.04) 11.4.0 Red Hat Enterprise Linux 9.5 Kernel: 5.15 Compiler: gcc gcc (GCC) 11.5.0 20240719 (Red Hat 11.5.0-2) Ubuntu 24.04 Kernel: 5.15 Compiler: gcc gcc (Ubuntu 13.3.0-6ubuntu2~24.04) 13.3.0 Windows Server 2022 Kernel: 10.0.20348.2031 Compiler: clang 15.0.7, gcc 14.1.0 (MinGW), and MSVC VS 19.39.33521 To view detailed results, visit: https://lab.dpdk.org/results/dashboard/patchsets/34320/ UNH-IOL DPDK Community Lab To manage your email subscriptions, visit: https://lab.dpdk.org/results/dashboard/preferences/subscriptions/