From mboxrd@z Thu Jan 1 00:00:00 1970 Return-Path: Received: from mails.dpdk.org (mails.dpdk.org [217.70.189.124]) by inbox.dpdk.org (Postfix) with ESMTP id 054A348962 for ; Fri, 17 Oct 2025 18:22:13 +0200 (CEST) Received: from mails.dpdk.org (localhost [127.0.0.1]) by mails.dpdk.org (Postfix) with ESMTP id D1E4F400D7; Fri, 17 Oct 2025 18:22:13 +0200 (CEST) Received: from mail-yw1-f225.google.com (mail-yw1-f225.google.com [209.85.128.225]) by mails.dpdk.org (Postfix) with ESMTP id 6CDFF400D7 for ; Fri, 17 Oct 2025 18:22:12 +0200 (CEST) Received: by mail-yw1-f225.google.com with SMTP id 00721157ae682-7829fc3b7deso17035467b3.3 for ; Fri, 17 Oct 2025 09:22:12 -0700 (PDT) DKIM-Signature: v=1; a=rsa-sha256; c=relaxed/relaxed; d=iol.unh.edu; s=unh-iol; t=1760718132; x=1761322932; darn=dpdk.org; h=cc:to:from:subject:message-id:date:from:to:cc:subject:date :message-id:reply-to; bh=8W3Fv8aeX8ph38OMr2S+R5QWFsnzLdVJFS1UgP4a/Mc=; b=H4PHX2mizAIYKrOM8zSxpnShXBHdJN5gjm/pv6J5cTJNkWUMncZJSEzyjKAyLMHxx5 JVh8ATS3+Spa+gV3/PYXwkm9vJAgUBYjiHQoqIpgKxEsZusEEIUCRKSQf2+8RjZE8y9s 5BKPLOvh3YydOX/fWeDKIRLu/VpyXGr0tknK4= X-Google-DKIM-Signature: v=1; a=rsa-sha256; c=relaxed/relaxed; d=1e100.net; s=20230601; t=1760718132; x=1761322932; h=cc:to:from:subject:message-id:date:x-gm-message-state:from:to:cc :subject:date:message-id:reply-to; bh=8W3Fv8aeX8ph38OMr2S+R5QWFsnzLdVJFS1UgP4a/Mc=; b=Km2X12hC/sZpjlQhzHM6MPiHISs+aoVAv5DCj5KuAB+qdX4IPnukpz2zjaVmCEM+9R 55pgabV4LlMy5EXAHxHQMtktk/Dne1N/+dW57IxHi5OdNCV9PxPmK60zYKqEiIu6Hyrc 2Z8TausSi5/w7X224dtg2M2x7gKfkwt4HObVoPaBwk4I8XgMwB7GWRhAParN1rfQmhSp 9q0u2dIEEp01USZlAtOdZMFLyt/PRmhgdslHDKPvevNdp1h7FC3//h8rQFNq7bDImqh6 J0b+qOwRD9qv6Nl94O7nO96x8c3AdMBIbR10R0i9450Bdc5MkCnoat0zmTKMkqzhNndr PMRA== X-Gm-Message-State: AOJu0YxxqEZqRb6eYJjoE3utgOrRg6ilTVyag/NTumU+4qKYzcu2axSd tEdcM5TO1ytwQT/C4CSjdWZM2hJztame1mfKcxR6q2m7HTJdonIFUi21OlGRZpDgSkBq+KtmjNK EmTviSFPqr6LZIaXWTvhezk85ZtHAlDrcTbZQ X-Gm-Gg: ASbGncsA4bd4RBBu6qSQe8L13L5/H8OZlj8zyphGhv1dsA9Kj/pfuXBQqlABaNIXBbl JnxkUdAU48C3wo2fJXsnRYSJg6f8t1Db00CvSJ8H92npqMnGlM0uNMTu6yUfDcVPUCHyeRhFq1A P+mK6nOJFQ0k8aRYexlhc+OsYk1EzJTnd7jfdY7vmrAfZcQtUjkrEyGVohIMVbZIxvc9rcx+s7O Bu39Y6xLi4el2lxZRZbj0Mdjlpdk0u91LUJjrrQNS5e0D4JMV55E2CEDYsJgCTo1b7zdMGUx3K4 huV/xKSdNn3o2ivb+gmtukwsbsgkyzTCvVdv02BJBfi1K0bdvt0ZWvwUgrnyk/TsAwrEIX1YOED HrhJgPv0+m0BjQFoxhlpA3CkDLSZE1tE= X-Google-Smtp-Source: AGHT+IFKT/SMc+m+bmxaqofBhwQDPOycQCo4o0h8ReD4c/7rVpl2agaTKC9LB0NkSJpC+J1wcVtz4Xo13ls2 X-Received: by 2002:a05:690c:67c2:b0:74b:b0b0:80e4 with SMTP id 00721157ae682-7836d2de2d9mr38769347b3.45.1760718131602; Fri, 17 Oct 2025 09:22:11 -0700 (PDT) Received: from postal.iol.unh.edu (postal.iol.unh.edu. [132.177.123.84]) by smtp-relay.gmail.com with ESMTPS id 00721157ae682-7828d0d2164sm3735547b3.14.2025.10.17.09.22.11 (version=TLS1_2 cipher=ECDHE-ECDSA-AES128-GCM-SHA256 bits=128/128); Fri, 17 Oct 2025 09:22:11 -0700 (PDT) X-Relaying-Domain: iol.unh.edu Date: Fri, 17 Oct 2025 09:22:11 -0700 (PDT) Message-ID: <68f26d33.050a0220.2dd55d.25a7SMTPIN_ADDED_MISSING@mx.google.com> Received: from [172.21.0.2] (unknown [172.18.0.240]) by postal.iol.unh.edu (Postfix) with ESMTP id 497656051830; Fri, 17 Oct 2025 12:22:11 -0400 (EDT) Subject: |SUCCESS| [GIT MASTER] 3b43ce3f4a54468e7ef65760c2fd7b4d6ee6d9fc From: dpdklab@iol.unh.edu To: Test Report Cc: dpdk-test-reports@iol.unh.edu, Xueming Li , Christian Ehrhardt , Kevin Traynor , Luca Boccassi Content-Type: text/plain X-BeenThere: test-report@dpdk.org X-Mailman-Version: 2.1.29 Precedence: list List-Id: automatic DPDK test reports List-Unsubscribe: , List-Archive: List-Post: List-Help: List-Subscribe: , Errors-To: test-report-bounces@dpdk.org _Testing PASS_ Branch: tags/v22.11 3b43ce3f4a54468e7ef65760c2fd7b4d6ee6d9fc --> testing pass Upstream job id: Generic-DPDK-Compile-Meson#435190 Test environment and result as below: +------------------------------+--------------------+ | Environment | dpdk_meson_compile | +==============================+====================+ | Red Hat Enterprise Linux 9.5 | PASS | +------------------------------+--------------------+ | Ubuntu 20.04 | PASS | +------------------------------+--------------------+ | Fedora Linux 42 | PASS | +------------------------------+--------------------+ | Debian GNU/Linux 12 | PASS | +------------------------------+--------------------+ | Ubuntu 24.04 | PASS | +------------------------------+--------------------+ | Ubuntu 22.04 | PASS | +------------------------------+--------------------+ | CentOS Stream 9 | PASS | +------------------------------+--------------------+ | CentOS Stream 10 | PASS | +------------------------------+--------------------+ Red Hat Enterprise Linux 9.5 Kernel: 5.4 Compiler: gcc gcc (GCC) 11.5.0 20240719 (Red Hat 11.5.0-2) Ubuntu 20.04 Kernel: 5.15 Compiler: aarch64-linux-gnu-gcc gcc (Ubuntu 9.4.0-1ubuntu1~20.04.2) 9.4.0 Fedora Linux 42 Kernel: 5.4 Compiler: gcc gcc (GCC) 15.2.1 20250808 (Red Hat 15.2.1-1) Debian GNU/Linux 12 Kernel: 5.4 Compiler: gcc gcc (Debian 12.2.0-14+deb12u1) 12.2.0 Ubuntu 24.04 Kernel: 5.4 Compiler: gcc gcc (Ubuntu 13.3.0-6ubuntu2~24.04) 13.3.0 Ubuntu 22.04 Kernel: 5.4 Compiler: gcc gcc (Ubuntu 11.4.0-1ubuntu1~22.04) 11.4.0 CentOS Stream 9 Kernel: 5.4 Compiler: gcc gcc (GCC) 11.5.0 20240719 (Red Hat 11.5.0-11) CentOS Stream 10 Kernel: 5.4 Compiler: gcc gcc (GCC) 14.2.1 20250110 (Red Hat 14.2.1-8) To view detailed results, visit: https://lab.dpdk.org/results/dashboard/tarballs/35243/ UNH-IOL DPDK Community Lab To manage your email subscriptions, visit: https://lab.dpdk.org/results/dashboard/preferences/subscriptions/