From mboxrd@z Thu Jan 1 00:00:00 1970 Return-Path: Received: from mails.dpdk.org (mails.dpdk.org [217.70.189.124]) by inbox.dpdk.org (Postfix) with ESMTP id 69D1248962 for ; Fri, 17 Oct 2025 18:27:43 +0200 (CEST) Received: from mails.dpdk.org (localhost [127.0.0.1]) by mails.dpdk.org (Postfix) with ESMTP id 6370A400D7; Fri, 17 Oct 2025 18:27:43 +0200 (CEST) Received: from mail-pl1-f228.google.com (mail-pl1-f228.google.com [209.85.214.228]) by mails.dpdk.org (Postfix) with ESMTP id 09586400D7 for ; Fri, 17 Oct 2025 18:27:42 +0200 (CEST) Received: by mail-pl1-f228.google.com with SMTP id d9443c01a7336-26d0fbe238bso16276805ad.3 for ; Fri, 17 Oct 2025 09:27:41 -0700 (PDT) DKIM-Signature: v=1; a=rsa-sha256; c=relaxed/relaxed; d=iol.unh.edu; s=unh-iol; t=1760718461; x=1761323261; darn=dpdk.org; h=references:in-reply-to:cc:to:from:subject:message-id:date:from:to :cc:subject:date:message-id:reply-to; bh=q9UxM6MyqMw1UFtEvjr/q3GOfJ1qMjI0/9Ka4dBZxR4=; b=bUbIDZd+zt3NzF0AK3LO3wboyU0JQ45sJJo74kQ18kwCX/1xukNzbsKrsCz6GwIMWg IUXJ8oAh4gjrdC9A8eLG9ur0uKFSw1f0Lbr9/684RYQvZK9K3l3y5ckaIn6fl+7IGpgN rxnpPSuMnQsbMz7+/a7QfEv+Aw5uPCrcOryls= X-Google-DKIM-Signature: v=1; a=rsa-sha256; c=relaxed/relaxed; d=1e100.net; s=20230601; t=1760718461; x=1761323261; h=references:in-reply-to:cc:to:from:subject:message-id:date :x-gm-message-state:from:to:cc:subject:date:message-id:reply-to; bh=q9UxM6MyqMw1UFtEvjr/q3GOfJ1qMjI0/9Ka4dBZxR4=; b=eG8z/WTDvGH3fA/8GYvbpUhwv4T2iGrZcaXHblAVgaqL6TcIvvfaIQt3W+qiTKc17d 7n5LQsokC1ku1xogvrZF92madn6a/MAGQeZ+x7GvY8JwzUhkGfhv39uwHaXgMBCl/yBO hPW4MC3qqK4JeI83onGCnMT1hejffgJ1KLHcc8JoxhfWAnhEyXVKsdHdw4tA3tGhijJ/ WXhT42/HU5cIXbhrF8x0/fn+CtO+7HUDG0nnNCIR90fb6Mubg8HTUcSHzwy6vS6HlMQc bQ6/9V18lbvoerlKybCExVhIpV4ETipD+4qBfKx9g/U+7rmMGC20JIbk/fyY19xMS8x+ slgw== X-Gm-Message-State: AOJu0YzXk9Fhqu14dRZbW6IJcajmJ5wg8UfWPRctubie0DhG7sOTNr2Y u0oCtVYma2CwmObD1kQwY8UicaFINmkQC0aDWIu+pbiT23YoZIiWwWFCH3wFBVxrcmxzezvwX4R evmjyKyBa0mbVEhWjHr+DQWi8kAmJLSjLLcC/yHfiMuMdvi1NaCdSXQUzrVFY X-Gm-Gg: ASbGncs000mFzVyU6PCtyZZ0zpIwHj3i4Wp+ta42c+MbVHMZxB4aKV1laHk1Vbrk+4u I7md9BMXl3ANaxaES5/EvwIYFKHF7vTiGXCgNHNsICGZHungeA3Ij4Z/nsEnueF7SC4ATGhp1Sj fnJDoPqALMiAjxdKLqrEnAkc1vrE0DVd0dZ/L8mUzSfMKZ7+YKY6JmoiysNJz35R2oSvk7NL3g0 nRHhtxwghT354sBXgqrqw8doy2rk6KpJXFfkURrH2bERSjLDO/jde4ujvTnZXKSVDSuF48iRDiC J8JxnKGdrK52sbGEFQNtHgZ3+DItuatpYGKkwlADVyFBu0B55hmwOkN6K3rOngsG+YfW9h75nSJ 7bI4olehJ X-Google-Smtp-Source: AGHT+IH4tNDqp0qf8YEJXGasfmzFzHPH0FAyYzGf7sodWc1G8/+l5IzPWxjtbrHiOn+Mrpiey6mNGtRCC6eW X-Received: by 2002:a17:902:ea05:b0:267:f7bc:673c with SMTP id d9443c01a7336-290cb27af4cmr53852905ad.44.1760718461019; Fri, 17 Oct 2025 09:27:41 -0700 (PDT) Received: from postal.iol.unh.edu (postal.iol.unh.edu. [2606:4100:3880:1234::84]) by smtp-relay.gmail.com with ESMTPS id d9443c01a7336-2909997cce8sm6796225ad.47.2025.10.17.09.27.40 (version=TLS1_2 cipher=ECDHE-ECDSA-AES128-GCM-SHA256 bits=128/128); Fri, 17 Oct 2025 09:27:41 -0700 (PDT) X-Relaying-Domain: iol.unh.edu Date: Fri, 17 Oct 2025 09:27:41 -0700 (PDT) Message-ID: <68f26e7d.170a0220.2edeb4.172bSMTPIN_ADDED_MISSING@mx.google.com> Received: from [172.21.0.2] (unknown [172.18.0.240]) by postal.iol.unh.edu (Postfix) with ESMTP id 821DD6051830; Fri, 17 Oct 2025 12:27:40 -0400 (EDT) Subject: |SUCCESS| pw157814-157821 [PATCH] [v5,8/8] config: enable comma warn From: dpdklab@iol.unh.edu To: Test Report Cc: dpdk-test-reports@iol.unh.edu In-Reply-To: <20251017150241.28511-9-stephen@networkplumber.org> References: <20251017150241.28511-9-stephen@networkplumber.org> Content-Type: text/plain X-BeenThere: test-report@dpdk.org X-Mailman-Version: 2.1.29 Precedence: list List-Id: automatic DPDK test reports List-Unsubscribe: , List-Archive: List-Post: List-Help: List-Subscribe: , Errors-To: test-report-bounces@dpdk.org Test-Label: iol-unit-amd64-testing Test-Status: SUCCESS http://dpdk.org/patch/157821 _Testing PASS_ Submitter: Stephen Hemminger Date: Friday, October 17 2025 15:02:09 DPDK git baseline: Repo:dpdk Branch: master CommitID:438491733c2d8a109574449d3d6de9b25a05c07c 157814-157821 --> testing pass Upstream job id: Generic-VM-Unit-Test-DPDK#31893 Test environment and result as below: +-------------------------------+----------------+ | Environment | dpdk_unit_test | +===============================+================+ | Fedora Linux 40 | PASS | +-------------------------------+----------------+ | CentOS Stream 9 | PASS | +-------------------------------+----------------+ | Debian GNU/Linux 12 | PASS | +-------------------------------+----------------+ | Fedora Linux 41 | PASS | +-------------------------------+----------------+ | Fedora Linux 42 | PASS | +-------------------------------+----------------+ | Ubuntu 20.04 | PASS | +-------------------------------+----------------+ | CentOS Stream 10 | PASS | +-------------------------------+----------------+ | Red Hat Enterprise Linux 8.10 | PASS | +-------------------------------+----------------+ | Ubuntu 22.04 | PASS | +-------------------------------+----------------+ | Red Hat Enterprise Linux 9.5 | PASS | +-------------------------------+----------------+ | Ubuntu 24.04 | PASS | +-------------------------------+----------------+ | Windows Server 2022 | PASS | +-------------------------------+----------------+ Fedora Linux 40 Kernel: 5.15 Compiler: gcc gcc (GCC) 14.2.1 20240912 (Red Hat 14.2.1-3) CentOS Stream 9 Kernel: 5.15 Compiler: gcc gcc (GCC) 11.5.0 20240719 (Red Hat 11.5.0-11) Debian GNU/Linux 12 Kernel: 5.15 Compiler: gcc gcc (Debian 12.2.0-14+deb12u1) 12.2.0 Fedora Linux 41 Kernel: 5.15 Compiler: gcc gcc (GCC) 14.3.1 20250523 (Red Hat 14.3.1-1) Fedora Linux 42 Kernel: 5.15 Compiler: gcc gcc (GCC) 15.2.1 20250808 (Red Hat 15.2.1-1) Ubuntu 20.04 Kernel: 5.15 Compiler: gcc gcc (Ubuntu 9.4.0-1ubuntu1~20.04.2) 9.4.0 CentOS Stream 10 Kernel: 5.15 Compiler: gcc gcc (GCC) 14.2.1 20250110 (Red Hat 14.2.1-8) Red Hat Enterprise Linux 8.10 Kernel: 5.15 Compiler: gcc gcc (GCC) 8.5.0 20210514 (Red Hat 8.5.0-22) Ubuntu 22.04 Kernel: 5.15 Compiler: gcc gcc (Ubuntu 11.4.0-1ubuntu1~22.04) 11.4.0 Red Hat Enterprise Linux 9.5 Kernel: 5.15 Compiler: gcc gcc (GCC) 11.5.0 20240719 (Red Hat 11.5.0-2) Ubuntu 24.04 Kernel: 5.15 Compiler: gcc gcc (Ubuntu 13.3.0-6ubuntu2~24.04) 13.3.0 Windows Server 2022 Kernel: 10.0.20348.2031 Compiler: clang 15.0.7, gcc 14.1.0 (MinGW), and MSVC VS 19.39.33521 To view detailed results, visit: https://lab.dpdk.org/results/dashboard/patchsets/34320/ UNH-IOL DPDK Community Lab To manage your email subscriptions, visit: https://lab.dpdk.org/results/dashboard/preferences/subscriptions/