From mboxrd@z Thu Jan 1 00:00:00 1970 Return-Path: Received: from mails.dpdk.org (mails.dpdk.org [217.70.189.124]) by inbox.dpdk.org (Postfix) with ESMTP id 4E62048962 for ; Fri, 17 Oct 2025 18:35:56 +0200 (CEST) Received: from mails.dpdk.org (localhost [127.0.0.1]) by mails.dpdk.org (Postfix) with ESMTP id 47E12400D7; Fri, 17 Oct 2025 18:35:56 +0200 (CEST) Received: from mail-il1-f228.google.com (mail-il1-f228.google.com [209.85.166.228]) by mails.dpdk.org (Postfix) with ESMTP id 5B928400D7 for ; Fri, 17 Oct 2025 18:35:55 +0200 (CEST) Received: by mail-il1-f228.google.com with SMTP id e9e14a558f8ab-430d098121cso415405ab.0 for ; Fri, 17 Oct 2025 09:35:55 -0700 (PDT) DKIM-Signature: v=1; a=rsa-sha256; c=relaxed/relaxed; d=iol.unh.edu; s=unh-iol; t=1760718954; x=1761323754; darn=dpdk.org; h=references:in-reply-to:cc:to:from:subject:message-id:date:from:to :cc:subject:date:message-id:reply-to; bh=DJsBcho/Hg/M6eXlknv4tnfh3pWzMMSlnGNUT0AHf5g=; b=bZlcC9lrvbHw6Cs+NeB3ATwpBWepcqu2pYr9gAtW6RgF5NdKpUFJG+ux988/ipkA51 piE6iwNJn4jMpm1YmUObVK5xplHcwhO/OzoUaiH4FjnlXH2zVZUO4jWA1OdzAOLsolhu rgL4c8bOrYeoxoRACipt4xmWskxph7Kt/em8s= X-Google-DKIM-Signature: v=1; a=rsa-sha256; c=relaxed/relaxed; d=1e100.net; s=20230601; t=1760718954; x=1761323754; h=references:in-reply-to:cc:to:from:subject:message-id:date :x-gm-message-state:from:to:cc:subject:date:message-id:reply-to; bh=DJsBcho/Hg/M6eXlknv4tnfh3pWzMMSlnGNUT0AHf5g=; b=IUasDuh5N9AG3Y60jLePH51WFB49ZCrSMyR8dGvPQrE7QBU/47hlXEeRkdAryy64L8 xJFg9izCRUGmlpZ7lbVkuHxl5Y7WuDls0UDDiXLSqZoSiaYvAOkeyJQ9thbcO7iAbFer JEbiPQ2lEbpWa+rINRgQBNhhGF6LTK3QU2sA8eOzOPkfU+H7E56S+ojgTVNrUEbEiMP7 ZCIyw9RjxzRQ2+9BJHeMSzY8F0VWYQiXSEhckrOg1anCDZSqeszQa1JuhalIxVItzWLg rp36KU4OcRqK+7WRYO5qMllydZ0UUhAyDaJR2UKLPdzE3H7cy17TLmcJ7lAmOtDQfADt heqw== X-Gm-Message-State: AOJu0YzvPFycufZEz2mpeQf/GnlP5dXTkEZDHb5sAw/C40HcDYxpCwJ9 zgGaCnltMsmpcLJSChJOkN5p+LZPVQh1Go38LunRqg3UwSQ93IlujtJ2ldfrNK1LHLHFW3dTwy1 BOVt/kkLKFf3tmmXoDQSReuwKtgdSrAgSdeGuYcQEdPYQb8UtMoBEeNCDirg3 X-Gm-Gg: ASbGncvQesRhArhCDXY1Y29KS6PpPUezrsWLX9Jf3ExaqO2+eqE8A6BU/EDeom1vEue H+nNvu2aL4pw4aPN/TUFzG648XYyTtJrMODCRN/bsqpe0L0bWklswqfX2N3/A8TfaBDOu2PTk3c Zm3s9iSzSOd502WCZXf6qvabywbPwg5aJTMtdZOfKXeIOtMZpd3hEl7z+E5ZhnGG5HmNJnkdIBt SkTum9rvjjsm4M5omjktZkEBiZG9dY+cs7twyH198LGR3r1eu5lST+FSllI7/H/eZI7LsOu2bzo Mb33tnxK3cYKO/0TKQSaCyJkcAFbpAGpkaXf0BIJPw935VabgIgu088r2SsdFENu3r5xPLjZIcf xo9VmOFRi X-Google-Smtp-Source: AGHT+IFoA7qPRlecYPZGzJTiLv0Hc+2nk1PGFS7pTZ+Usbp+ypwHPUgwL77YhxgvQsa+Cjz0YKkScwctST/n X-Received: by 2002:a05:6e02:12e9:b0:430:9104:3894 with SMTP id e9e14a558f8ab-430c5318de7mr58273285ab.30.1760718954562; Fri, 17 Oct 2025 09:35:54 -0700 (PDT) Received: from postal.iol.unh.edu (postal.iol.unh.edu. [2606:4100:3880:1234::84]) by smtp-relay.gmail.com with ESMTPS id 8926c6da1cb9f-5a8a9745a35sm5741173.24.2025.10.17.09.35.54 (version=TLS1_2 cipher=ECDHE-ECDSA-AES128-GCM-SHA256 bits=128/128); Fri, 17 Oct 2025 09:35:54 -0700 (PDT) X-Relaying-Domain: iol.unh.edu Date: Fri, 17 Oct 2025 09:35:54 -0700 (PDT) Message-ID: <68f2706a.050a0220.268b13.04b7SMTPIN_ADDED_MISSING@mx.google.com> Received: from [172.21.0.2] (unknown [172.18.0.240]) by postal.iol.unh.edu (Postfix) with ESMTP id 2F27F6051830; Fri, 17 Oct 2025 12:35:54 -0400 (EDT) Subject: |SUCCESS| pw157760-157652 [PATCH] [v3,54/54] net/bnxt/tf_ulp: remove From: dpdklab@iol.unh.edu To: Test Report Cc: dpdk-test-reports@iol.unh.edu In-Reply-To: <20251015090024.32250-55-manish.kurup@broadcom.com> References: <20251015090024.32250-55-manish.kurup@broadcom.com> Content-Type: text/plain X-BeenThere: test-report@dpdk.org X-Mailman-Version: 2.1.29 Precedence: list List-Id: automatic DPDK test reports List-Unsubscribe: , List-Archive: List-Post: List-Help: List-Subscribe: , Errors-To: test-report-bounces@dpdk.org Test-Label: iol-unit-arm64-testing Test-Status: SUCCESS http://dpdk.org/patch/157652 _Testing PASS_ Submitter: Manish Kurup Date: Wednesday, October 15 2025 09:00:24 DPDK git baseline: Repo:dpdk Branch: master CommitID:16f4c522003dcfecf23c8d38e009b95a3bbefd03 157760-157652 --> testing pass Upstream job id: Generic-Unit-Test-DPDK#382355 Test environment and result as below: +------------------------------+------------------------------+---------------------------+--------------+----------------+ | Environment | cryptodev_sw_snow3g_autotest | cryptodev_sw_zuc_autotest | lpm_autotest | dpdk_unit_test | +==============================+==============================+===========================+==============+================+ | Debian 12 (arm) | PASS | PASS | SKIPPED | SKIPPED | +------------------------------+------------------------------+---------------------------+--------------+----------------+ | Ubuntu 20.04 | SKIPPED | SKIPPED | PASS | PASS | +------------------------------+------------------------------+---------------------------+--------------+----------------+ | Ubuntu 22.04 | SKIPPED | SKIPPED | SKIPPED | PASS | +------------------------------+------------------------------+---------------------------+--------------+----------------+ | Debian GNU/Linux 12 | SKIPPED | SKIPPED | SKIPPED | PASS | +------------------------------+------------------------------+---------------------------+--------------+----------------+ | Fedora Linux 40 | SKIPPED | SKIPPED | SKIPPED | PASS | +------------------------------+------------------------------+---------------------------+--------------+----------------+ | CentOS Stream 9 | SKIPPED | SKIPPED | SKIPPED | PASS | +------------------------------+------------------------------+---------------------------+--------------+----------------+ | CentOS Stream 10 | SKIPPED | SKIPPED | SKIPPED | PASS | +------------------------------+------------------------------+---------------------------+--------------+----------------+ | Fedora Linux 41 | SKIPPED | SKIPPED | SKIPPED | PASS | +------------------------------+------------------------------+---------------------------+--------------+----------------+ | Fedora Linux 42 | SKIPPED | SKIPPED | SKIPPED | PASS | +------------------------------+------------------------------+---------------------------+--------------+----------------+ | Ubuntu 24.04 | SKIPPED | SKIPPED | SKIPPED | PASS | +------------------------------+------------------------------+---------------------------+--------------+----------------+ | Red Hat Enterprise Linux 9.5 | SKIPPED | SKIPPED | SKIPPED | PASS | +------------------------------+------------------------------+---------------------------+--------------+----------------+ Debian 12 (arm) Kernel: Depends on container host Compiler: gcc (Debian 12.2.0-14) 12.2.0 Ubuntu 20.04 Kernel: 5.4 Compiler: gcc gcc (Ubuntu 9.4.0-1ubuntu1~20.04.2) 9.4.0 Ubuntu 22.04 Kernel: 5.15 Compiler: gcc gcc (Ubuntu 11.4.0-1ubuntu1~22.04.2) 11.4.0 Debian GNU/Linux 12 Kernel: 5.4 Compiler: gcc gcc (Debian 12.2.0-14+deb12u1) 12.2.0 Fedora Linux 40 Kernel: 5.4 Compiler: gcc gcc (GCC) 14.2.1 20240912 (Red Hat 14.2.1-3) CentOS Stream 9 Kernel: 5.4 Compiler: gcc gcc (GCC) 11.5.0 20240719 (Red Hat 11.5.0-11) CentOS Stream 10 Kernel: 5.4 Compiler: gcc gcc (GCC) 14.2.1 20250110 (Red Hat 14.2.1-8) Fedora Linux 41 Kernel: 5.4 Compiler: gcc gcc (GCC) 14.3.1 20250523 (Red Hat 14.3.1-1) Fedora Linux 42 Kernel: 5.4 Compiler: clang gcc (GCC) 15.2.1 20250808 (Red Hat 15.2.1-1) Ubuntu 24.04 Kernel: 5.4 Compiler: gcc gcc (Ubuntu 13.3.0-6ubuntu2~24.04) 13.3.0 Red Hat Enterprise Linux 9.5 Kernel: 5.4 Compiler: gcc gcc (GCC) 11.5.0 20240719 (Red Hat 11.5.0-2) To view detailed results, visit: https://lab.dpdk.org/results/dashboard/patchsets/34303/ UNH-IOL DPDK Community Lab To manage your email subscriptions, visit: https://lab.dpdk.org/results/dashboard/preferences/subscriptions/