From mboxrd@z Thu Jan 1 00:00:00 1970 Return-Path: Received: from mails.dpdk.org (mails.dpdk.org [217.70.189.124]) by inbox.dpdk.org (Postfix) with ESMTP id D2C8C48962 for ; Fri, 17 Oct 2025 18:39:41 +0200 (CEST) Received: from mails.dpdk.org (localhost [127.0.0.1]) by mails.dpdk.org (Postfix) with ESMTP id A6EF2400D7; Fri, 17 Oct 2025 18:39:41 +0200 (CEST) Received: from mail-pl1-f227.google.com (mail-pl1-f227.google.com [209.85.214.227]) by mails.dpdk.org (Postfix) with ESMTP id D435142DB0 for ; Fri, 17 Oct 2025 18:39:39 +0200 (CEST) Received: by mail-pl1-f227.google.com with SMTP id d9443c01a7336-26a0a694ea8so15984035ad.3 for ; Fri, 17 Oct 2025 09:39:39 -0700 (PDT) DKIM-Signature: v=1; a=rsa-sha256; c=relaxed/relaxed; d=iol.unh.edu; s=unh-iol; t=1760719179; x=1761323979; darn=dpdk.org; h=references:in-reply-to:cc:to:from:subject:message-id:date:from:to :cc:subject:date:message-id:reply-to; bh=Hg9ZbtRa1Eo0reLYlZ3BEj0mwcsMNhc4jTZKM0BmrxM=; b=Glme764wRmqAAbn0EjdiRavNIOk0B0XanZTg/vGN6z+XL+2oKLs82gR0iPP9jg3pJz 6ubb3eqWflzvs/7OvuAG54ohFCpBzDlNQNECt9DmOzk/lI7pPhic6BpRXgHMwLe54fQQ 3K8huGH9RKnAhycTVXeuvb/NMw4v0qEnHBjyo= X-Google-DKIM-Signature: v=1; a=rsa-sha256; c=relaxed/relaxed; d=1e100.net; s=20230601; t=1760719179; x=1761323979; h=references:in-reply-to:cc:to:from:subject:message-id:date :x-gm-message-state:from:to:cc:subject:date:message-id:reply-to; bh=Hg9ZbtRa1Eo0reLYlZ3BEj0mwcsMNhc4jTZKM0BmrxM=; b=SWJRY3mSK0qHTvv9ihEqrNUM9jQ7B8OZo/nDvccRUs7Ck8RIgeWfnMWeYlAgPJsSYv OSuoSNyR6oRUwLJ9rTvldQS/DWvEeDlqgKYUC8Xe+oKK77iJ2TJRB9RXh2BMmWZhtBVC U89Yhtl9YSanAyqSUjHaBzO09ixi3aUxB8/9QRHdaZyFZdgP9obaF1A7yrqt7MjUiKXX g3ciXHjmQ/XqBl0RkJ2cdG396BEOk3YDlNwO4S0icA/P8tHs7eDCkLaMuWOLdAoiBLxL 9vb9AUqXS0b8mPudvqMnJLRRWJjDCBH0fJTtdOA2EZp0o9pzHmWvigaM2OSX0kdkpTvg Sa7A== X-Gm-Message-State: AOJu0Yw0EV1O4wM2gx4Khakcfo8b3rosUJ/LZmhsp/0Rn69cti0/u3Xs YdxXFMHpY/Kqvl1BfRHZxSU2YAMYQr3h3XK/jQzXdOxcPhUUoP4jnlt6iPeaK6qe0zWFLyDOUhy M0Byu4cRrbIFijTuv6DWvh3PiZ5n168qB7V5HPxWGlGqn X-Gm-Gg: ASbGncsVkR/PCYlPQOo4aXkBpgBZIIp0duhICKQpVXwKrrMJSVzM/x++sxBSK4bdqiK hFje9/OwFwC3Gi3D4gGxjfTWI7W2kgoD+4WezpKQtitxQXseQTIp+7cH3npiJkqhAYZc5q/aiu7 NYs1kE8l+6ua32KPplL3tQloZzFuC2PTVKwEOPOB47IAgo2O+ybl3PwZSvpDyRK/2zYWHveGZTl 8TVaHqyusyG0HexaYShbnTRCWDp655k0ttBT7YTdEq2Oyv6Ip2pqmndByWoXBhWsRMzisiJTGv1 fxig2CXQqMiC8mGoDiSHUnHlqQnAlEcc+2v4QeLFOAjJN0xG1BG0IeUFO2YudRCEDCGBG5vYQV5 zOQvN30nKNXoXXN34TfLyKj8d5RjCmzM= X-Google-Smtp-Source: AGHT+IFYZAenGDwJS2rl4LlPKXLsaevo53msyi2k9//s2tqPO9IEMvpRRi+v96CRtDOHXDhfxNBjrjoLnSvB X-Received: by 2002:a17:902:cec7:b0:290:c09f:a48b with SMTP id d9443c01a7336-290c9ca3225mr63698825ad.16.1760719178824; Fri, 17 Oct 2025 09:39:38 -0700 (PDT) Received: from postal.iol.unh.edu (postal.iol.unh.edu. [132.177.123.84]) by smtp-relay.gmail.com with ESMTPS id d9443c01a7336-29098e8976asm6932005ad.1.2025.10.17.09.39.38 (version=TLS1_2 cipher=ECDHE-ECDSA-AES128-GCM-SHA256 bits=128/128); Fri, 17 Oct 2025 09:39:38 -0700 (PDT) X-Relaying-Domain: iol.unh.edu Date: Fri, 17 Oct 2025 09:39:38 -0700 (PDT) Message-ID: <68f2714a.170a0220.b8eea.2b8dSMTPIN_ADDED_MISSING@mx.google.com> Received: from [172.21.0.2] (unknown [172.18.0.240]) by postal.iol.unh.edu (Postfix) with ESMTP id 114D66051830; Fri, 17 Oct 2025 12:39:38 -0400 (EDT) Subject: |WARNING| pw157796 [PATCH] [v2,1/1] riscv support rte_memcpy in vect From: dpdklab@iol.unh.edu To: Test Report Cc: dpdk-test-reports@iol.unh.edu In-Reply-To: <20251017093617.1219267-2-chen.qiguo@zte.com.cn> References: <20251017093617.1219267-2-chen.qiguo@zte.com.cn> Content-Type: text/plain X-BeenThere: test-report@dpdk.org X-Mailman-Version: 2.1.29 Precedence: list List-Id: automatic DPDK test reports List-Unsubscribe: , List-Archive: List-Post: List-Help: List-Subscribe: , Errors-To: test-report-bounces@dpdk.org Test-Label: iol-compile-amd64-testing Test-Status: WARNING http://dpdk.org/patch/157796 _Testing issues_ Submitter: Qiguo Chen Date: Friday, October 17 2025 09:36:17 DPDK git baseline: Repo:dpdk Branch: master CommitID:438491733c2d8a109574449d3d6de9b25a05c07c 157796 --> testing issues Upstream job id: Generic-DPDK-Compile-Meson#435387 Test environment and result as below: +-------------------------------+--------------------+-------------------+-------------------------+----------------------+-------------------+------------------+ | Environment | dpdk_meson_compile | dpdk_msvc_compile | dpdk_llvm_clang_compile | dpdk_mingw64_compile | dpdk_compile_spdk | dpdk_compile_ovs | +===============================+====================+===================+=========================+======================+===================+==================+ | Ubuntu 20.04 | PASS | SKIPPED | SKIPPED | SKIPPED | SKIPPED | SKIPPED | +-------------------------------+--------------------+-------------------+-------------------------+----------------------+-------------------+------------------+ | FreeBSD 14.2 | PASS | SKIPPED | SKIPPED | SKIPPED | SKIPPED | SKIPPED | +-------------------------------+--------------------+-------------------+-------------------------+----------------------+-------------------+------------------+ | CentOS Stream 9 | PASS | SKIPPED | SKIPPED | SKIPPED | WARN | SKIPPED | +-------------------------------+--------------------+-------------------+-------------------------+----------------------+-------------------+------------------+ | CentOS Stream 10 | PASS | SKIPPED | SKIPPED | SKIPPED | SKIPPED | SKIPPED | +-------------------------------+--------------------+-------------------+-------------------------+----------------------+-------------------+------------------+ | Debian GNU/Linux 12 | PASS | SKIPPED | SKIPPED | SKIPPED | WARN | SKIPPED | +-------------------------------+--------------------+-------------------+-------------------------+----------------------+-------------------+------------------+ | Fedora Linux 42 | PASS | SKIPPED | SKIPPED | SKIPPED | WARN | PASS | +-------------------------------+--------------------+-------------------+-------------------------+----------------------+-------------------+------------------+ | openSUSE Leap 15.6 | PASS | SKIPPED | SKIPPED | SKIPPED | SKIPPED | SKIPPED | +-------------------------------+--------------------+-------------------+-------------------------+----------------------+-------------------+------------------+ | Red Hat Enterprise Linux 8.10 | PASS | SKIPPED | SKIPPED | SKIPPED | SKIPPED | SKIPPED | +-------------------------------+--------------------+-------------------+-------------------------+----------------------+-------------------+------------------+ | Red Hat Enterprise Linux 9.5 | PASS | SKIPPED | SKIPPED | SKIPPED | SKIPPED | SKIPPED | +-------------------------------+--------------------+-------------------+-------------------------+----------------------+-------------------+------------------+ | Ubuntu 22.04 | PASS | SKIPPED | SKIPPED | SKIPPED | WARN | SKIPPED | +-------------------------------+--------------------+-------------------+-------------------------+----------------------+-------------------+------------------+ | Ubuntu 24.04 | PASS | SKIPPED | SKIPPED | SKIPPED | WARN | PASS | +-------------------------------+--------------------+-------------------+-------------------------+----------------------+-------------------+------------------+ | Alpine Linux 3.22.0 | PASS | SKIPPED | SKIPPED | SKIPPED | SKIPPED | SKIPPED | +-------------------------------+--------------------+-------------------+-------------------------+----------------------+-------------------+------------------+ | Windows Server 2022 | SKIPPED | PASS | PASS | PASS | SKIPPED | SKIPPED | +-------------------------------+--------------------+-------------------+-------------------------+----------------------+-------------------+------------------+ ==== 20 line log output for Ubuntu 24.04 (dpdk_compile_spdk): ==== --- Failed to get log output --- ==== End log output ==== Ubuntu 20.04 Kernel: 4.19 Compiler: gcc gcc (Ubuntu 9.4.0-1ubuntu1~20.04.2) 9.4.0 FreeBSD 14.2 Kernel: 14.2-RELEASE Compiler: clang 18.1.6 CentOS Stream 9 Kernel: 5.15 Compiler: gcc gcc (GCC) 11.5.0 20240719 (Red Hat 11.5.0-11) CentOS Stream 10 Kernel: 5.15 Compiler: gcc gcc (GCC) 14.2.1 20250110 (Red Hat 14.2.1-8) Debian GNU/Linux 12 Kernel: 5.15 Compiler: gcc gcc (Debian 12.2.0-14+deb12u1) 12.2.0 Fedora Linux 42 Kernel: 5.15 Compiler: clang gcc (GCC) 15.2.1 20250808 (Red Hat 15.2.1-1) openSUSE Leap 15.6 Kernel: 5.15 Compiler: gcc gcc (SUSE Linux) 7.5.0 Red Hat Enterprise Linux 8.10 Kernel: 5.15 Compiler: gcc gcc (GCC) 8.5.0 20210514 (Red Hat 8.5.0-22) Red Hat Enterprise Linux 9.5 Kernel: 5.15 Compiler: gcc gcc (GCC) 11.5.0 20240719 (Red Hat 11.5.0-2) Ubuntu 22.04 Kernel: 5.15 Compiler: gcc gcc (Ubuntu 11.4.0-1ubuntu1~22.04) 11.4.0 Ubuntu 24.04 Kernel: 5.15 Compiler: gcc gcc (Ubuntu 13.3.0-6ubuntu2~24.04) 13.3.0 Alpine Linux 3.22.0 Kernel: 5.15 Compiler: gcc gcc (Alpine 14.2.0) 14.2.0 Windows Server 2022 Kernel: 10.0.20348.2031 Compiler: clang 15.0.7, gcc 14.1.0 (MinGW), and MSVC VS 19.39.33521 To view detailed results, visit: https://lab.dpdk.org/results/dashboard/patchsets/34310/ UNH-IOL DPDK Community Lab To manage your email subscriptions, visit: https://lab.dpdk.org/results/dashboard/preferences/subscriptions/