From mboxrd@z Thu Jan 1 00:00:00 1970 Return-Path: Received: from mails.dpdk.org (mails.dpdk.org [217.70.189.124]) by inbox.dpdk.org (Postfix) with ESMTP id 1B78648965 for ; Fri, 17 Oct 2025 19:23:38 +0200 (CEST) Received: from mails.dpdk.org (localhost [127.0.0.1]) by mails.dpdk.org (Postfix) with ESMTP id 1540F400D7; Fri, 17 Oct 2025 19:23:38 +0200 (CEST) Received: from mail-io1-f99.google.com (mail-io1-f99.google.com [209.85.166.99]) by mails.dpdk.org (Postfix) with ESMTP id 58419400D7 for ; Fri, 17 Oct 2025 19:23:37 +0200 (CEST) Received: by mail-io1-f99.google.com with SMTP id ca18e2360f4ac-937b40137b4so134686639f.0 for ; Fri, 17 Oct 2025 10:23:37 -0700 (PDT) DKIM-Signature: v=1; a=rsa-sha256; c=relaxed/relaxed; d=iol.unh.edu; s=unh-iol; t=1760721816; x=1761326616; darn=dpdk.org; h=cc:to:from:subject:message-id:date:from:to:cc:subject:date :message-id:reply-to; bh=NpdjfGc3eVj9YI+Bwvh3cAzavs/E7+mVoQAD5qH7c6c=; b=f1JxXziLpvrTSuuV9YeSqDEYGD/VjGFq2heYTYlyoLSSyV+EPMC9CvZ357dpUWtPEN l0cIlIM2OVDeoeqGNXrDJAbIx0aG6EUTCvp7dkqn9xQdaM/Xsl/3X6Ea69XFVCw6wHhc PGESg0hdGExERnqVyJFvv8Od3d2D5y/a34ZJo= X-Google-DKIM-Signature: v=1; a=rsa-sha256; c=relaxed/relaxed; d=1e100.net; s=20230601; t=1760721816; x=1761326616; h=cc:to:from:subject:message-id:date:x-gm-message-state:from:to:cc :subject:date:message-id:reply-to; bh=NpdjfGc3eVj9YI+Bwvh3cAzavs/E7+mVoQAD5qH7c6c=; b=LAgaLaEFi4eoiQcnuZbSSl3JtK0/eD9rDeDvz9y0Q9s2O/F9mxV1ikt2CdVLatnTw0 vQXDsE05rTZtUjSZbs7I1PDse6eihPeCrHQfoEu7SYzubt/MHCPl7jhYdoKdij2/4rwU wbF6TGdxc8iUIAXf4MuR7MOX54f5QMm8uO7h+WgXHGacQJcFg2DB2oApbHRgc/Uw6IxM 78031RTlrMNeEW2KXDaewC/KOdzawYoEIloS2shM9S32kCjx4k5abtdtSTXDeve2AGjx LyH8rXLaWZet/PAc5SJ2KqwxRmZ3djp6+a3S/1uzLueA2FDyrfIrH3UnRJmPAuxtyO++ yfYw== X-Gm-Message-State: AOJu0Yx4SJVpngma+wTxQZjQH/Fl1iljQIg51q8s7HWql761VzjudpvT 9HojOJ6TprFb20QVpW7NBJRFl0YE5z1LPGbhHZBtGxFPG/5R/EJ0SiT9PAwSxlsrPd9LHliXq/p 4n1tzrRnLcw/Zkitk54MfJL6x6gAzhCUBVQquFEL7xGJS X-Gm-Gg: ASbGnctdJVqjLsQcwzgCzbHVuUVJpi9iW7jfY6VKFRMjsd6/Ak0taGnugTDU6KSlBS3 Oh0tv4mZkEmAWt94UJbE1TSmxAnTqtmhLxtaFOw0gibTMiM8SLmFumYNVvMAbwmA7WZ4bSLOFJp SvdvcfrekCpLZDZZAyioXE1i392IGHvKKsT/JwBY2i2UDu60fesr490mRkw/qNsAcDXc9A4LS/2 KYP4B3K3sYotkuMC8su83ZHqdP8bVwxaeccykrz2fBtpmLfAPU5z1bnAJINGrJxD3+OVqU4hitd OM1EdS1/mHIqhsqRdfEsMFIPfH0ELYqbzVFxqE+0tSQfsTdFM5uu+SDWDOdgLDli/KtC0qums0i pICkjQcN4kL+BoUm4AlMwkvWiV2QTgkA= X-Google-Smtp-Source: AGHT+IGaPEOtt18eEK2Hb7yjbmp0ErrIkzhdv41gXlWAd36VQf4lAnN0SsX2khfN3HUTEwZiVCon6PIFG2Gg X-Received: by 2002:a05:6e02:1c03:b0:430:b004:3d5c with SMTP id e9e14a558f8ab-430b4366fc0mr111875935ab.9.1760721816519; Fri, 17 Oct 2025 10:23:36 -0700 (PDT) Received: from postal.iol.unh.edu (postal.iol.unh.edu. [132.177.123.84]) by smtp-relay.gmail.com with ESMTPS id 8926c6da1cb9f-5a8a9745a62sm13442173.20.2025.10.17.10.23.36 (version=TLS1_2 cipher=ECDHE-ECDSA-AES128-GCM-SHA256 bits=128/128); Fri, 17 Oct 2025 10:23:36 -0700 (PDT) X-Relaying-Domain: iol.unh.edu Date: Fri, 17 Oct 2025 10:23:36 -0700 (PDT) Message-ID: <68f27b98.050a0220.83784.0bb0SMTPIN_ADDED_MISSING@mx.google.com> Received: from [172.21.0.3] (unknown [172.18.0.240]) by postal.iol.unh.edu (Postfix) with ESMTP id 15ED66050A61; Fri, 17 Oct 2025 13:23:36 -0400 (EDT) Subject: |WARNING| [GIT MASTER] 6b997d6b9ffdbb4f8ecd14d1f217da69cdc783af From: dpdklab@iol.unh.edu To: Test Report Cc: dpdk-test-reports@iol.unh.edu, Bruce Richardson Content-Type: text/plain X-BeenThere: test-report@dpdk.org X-Mailman-Version: 2.1.29 Precedence: list List-Id: automatic DPDK test reports List-Unsubscribe: , List-Archive: List-Post: List-Help: List-Subscribe: , Errors-To: test-report-bounces@dpdk.org _Testing issues_ Branch: dpdk-next-net-intel 6b997d6b9ffdbb4f8ecd14d1f217da69cdc783af --> testing issues Upstream job id: Generic-DPDK-Compile-Meson#435405 Test environment and result as below: +-------------------------------+--------------------+-------------------+-------------------------+----------------------+-------------------+------------------+ | Environment | dpdk_meson_compile | dpdk_msvc_compile | dpdk_llvm_clang_compile | dpdk_mingw64_compile | dpdk_compile_spdk | dpdk_compile_ovs | +===============================+====================+===================+=========================+======================+===================+==================+ | FreeBSD 14.2 | PASS | SKIPPED | SKIPPED | SKIPPED | SKIPPED | SKIPPED | +-------------------------------+--------------------+-------------------+-------------------------+----------------------+-------------------+------------------+ | Ubuntu 20.04 | PASS | SKIPPED | SKIPPED | SKIPPED | SKIPPED | SKIPPED | +-------------------------------+--------------------+-------------------+-------------------------+----------------------+-------------------+------------------+ | CentOS Stream 9 | PASS | SKIPPED | SKIPPED | SKIPPED | WARN | SKIPPED | +-------------------------------+--------------------+-------------------+-------------------------+----------------------+-------------------+------------------+ | CentOS Stream 10 | PASS | SKIPPED | SKIPPED | SKIPPED | SKIPPED | SKIPPED | +-------------------------------+--------------------+-------------------+-------------------------+----------------------+-------------------+------------------+ | Debian GNU/Linux 12 | PASS | SKIPPED | SKIPPED | SKIPPED | WARN | SKIPPED | +-------------------------------+--------------------+-------------------+-------------------------+----------------------+-------------------+------------------+ | Fedora Linux 42 | PASS | SKIPPED | SKIPPED | SKIPPED | WARN | PASS | +-------------------------------+--------------------+-------------------+-------------------------+----------------------+-------------------+------------------+ | openSUSE Leap 15.6 | PASS | SKIPPED | SKIPPED | SKIPPED | SKIPPED | SKIPPED | +-------------------------------+--------------------+-------------------+-------------------------+----------------------+-------------------+------------------+ | Red Hat Enterprise Linux 8.10 | PASS | SKIPPED | SKIPPED | SKIPPED | SKIPPED | SKIPPED | +-------------------------------+--------------------+-------------------+-------------------------+----------------------+-------------------+------------------+ | Red Hat Enterprise Linux 9.5 | PASS | SKIPPED | SKIPPED | SKIPPED | SKIPPED | SKIPPED | +-------------------------------+--------------------+-------------------+-------------------------+----------------------+-------------------+------------------+ | Ubuntu 22.04 | PASS | SKIPPED | SKIPPED | SKIPPED | WARN | SKIPPED | +-------------------------------+--------------------+-------------------+-------------------------+----------------------+-------------------+------------------+ | Ubuntu 24.04 | PASS | SKIPPED | SKIPPED | SKIPPED | WARN | PASS | +-------------------------------+--------------------+-------------------+-------------------------+----------------------+-------------------+------------------+ | Alpine Linux 3.22.0 | PASS | SKIPPED | SKIPPED | SKIPPED | SKIPPED | SKIPPED | +-------------------------------+--------------------+-------------------+-------------------------+----------------------+-------------------+------------------+ | Windows Server 2022 | SKIPPED | PASS | PASS | PASS | SKIPPED | SKIPPED | +-------------------------------+--------------------+-------------------+-------------------------+----------------------+-------------------+------------------+ ==== 20 line log output for Ubuntu 24.04 (dpdk_compile_spdk): ==== --- Failed to get log output --- ==== End log output ==== FreeBSD 14.2 Kernel: 14.2-RELEASE Compiler: clang 18.1.6 Ubuntu 20.04 Kernel: 4.19 Compiler: gcc gcc (Ubuntu 9.4.0-1ubuntu1~20.04.2) 9.4.0 CentOS Stream 9 Kernel: 5.15 Compiler: gcc gcc (GCC) 11.5.0 20240719 (Red Hat 11.5.0-11) CentOS Stream 10 Kernel: 5.15 Compiler: gcc gcc (GCC) 14.2.1 20250110 (Red Hat 14.2.1-8) Debian GNU/Linux 12 Kernel: 5.15 Compiler: gcc gcc (Debian 12.2.0-14+deb12u1) 12.2.0 Fedora Linux 42 Kernel: 5.15 Compiler: clang gcc (GCC) 15.2.1 20250808 (Red Hat 15.2.1-1) openSUSE Leap 15.6 Kernel: 5.15 Compiler: gcc gcc (SUSE Linux) 7.5.0 Red Hat Enterprise Linux 8.10 Kernel: 5.15 Compiler: gcc gcc (GCC) 8.5.0 20210514 (Red Hat 8.5.0-22) Red Hat Enterprise Linux 9.5 Kernel: 5.15 Compiler: gcc gcc (GCC) 11.5.0 20240719 (Red Hat 11.5.0-2) Ubuntu 22.04 Kernel: 5.15 Compiler: gcc gcc (Ubuntu 11.4.0-1ubuntu1~22.04) 11.4.0 Ubuntu 24.04 Kernel: 5.15 Compiler: gcc gcc (Ubuntu 13.3.0-6ubuntu2~24.04) 13.3.0 Alpine Linux 3.22.0 Kernel: 5.15 Compiler: gcc gcc (Alpine 14.2.0) 14.2.0 Windows Server 2022 Kernel: 10.0.20348.2031 Compiler: clang 15.0.7, gcc 14.1.0 (MinGW), and MSVC VS 19.39.33521 To view detailed results, visit: https://lab.dpdk.org/results/dashboard/tarballs/35251/ UNH-IOL DPDK Community Lab To manage your email subscriptions, visit: https://lab.dpdk.org/results/dashboard/preferences/subscriptions/