From mboxrd@z Thu Jan 1 00:00:00 1970 Return-Path: Received: from mails.dpdk.org (mails.dpdk.org [217.70.189.124]) by inbox.dpdk.org (Postfix) with ESMTP id 2895448965 for ; Fri, 17 Oct 2025 19:23:47 +0200 (CEST) Received: from mails.dpdk.org (localhost [127.0.0.1]) by mails.dpdk.org (Postfix) with ESMTP id 22C99400D7; Fri, 17 Oct 2025 19:23:47 +0200 (CEST) Received: from mail-pl1-f228.google.com (mail-pl1-f228.google.com [209.85.214.228]) by mails.dpdk.org (Postfix) with ESMTP id 4164A400D7 for ; Fri, 17 Oct 2025 19:23:46 +0200 (CEST) Received: by mail-pl1-f228.google.com with SMTP id d9443c01a7336-28a5b8b12a1so22709915ad.0 for ; Fri, 17 Oct 2025 10:23:46 -0700 (PDT) DKIM-Signature: v=1; a=rsa-sha256; c=relaxed/relaxed; d=iol.unh.edu; s=unh-iol; t=1760721825; x=1761326625; darn=dpdk.org; h=cc:to:from:subject:message-id:date:from:to:cc:subject:date :message-id:reply-to; bh=N1wN0GPGgH5f/f2bd7tmve8UAMjPDpAGQWdqL8joJkM=; b=POfVsUJ9aX4nguU7RwR8ttGzRyaZrPdSKsvJj1o7/IUoimXNzb6kszQhC+yUp1y+BI WtCZhmLCpXf3/nreVGJs+N13ODRzD22xah386IOHceIGCLaqQqKhB12smfLedJc3Wcbt c85C+ovqKT5OKRTHV+Mtwt3E4fDqEjrXmyHOA= X-Google-DKIM-Signature: v=1; a=rsa-sha256; c=relaxed/relaxed; d=1e100.net; s=20230601; t=1760721825; x=1761326625; h=cc:to:from:subject:message-id:date:x-gm-message-state:from:to:cc :subject:date:message-id:reply-to; bh=N1wN0GPGgH5f/f2bd7tmve8UAMjPDpAGQWdqL8joJkM=; b=r7mQlL1VQfrcWPs0j3v0spEsu3wPA5wXVxUzeXlE7+161ELA+ChgsBrFBUX6cPcJxG zt2o0Hau8z67Oi2WE/9pY/SEkHPgbID8DnCbnmvPHNQGa8afvDgIBvSjDb7o6jSwsOep OTspD0wjDOra5rJ6xjOPRNJ+43DlUpqfi3FQniaO9dIT5bYwgx5N+oPYQmRv9NCtMBz2 5Z8H35rUEn4ZN2qydIuKMiVVx3+m+KzIqu7k2tatH0r+qVIVVyf5g3YC8HT4KU5Fnm37 mU4K96liECllK8WfwPFPEIvdplVo6ivdlj2BwPAYvPOPkRUXFVmnRejlM4v3IR3FaitX lx1g== X-Gm-Message-State: AOJu0YzrR8XsITDl1QA1+Y3tRH7qmfauG8xxNV4BDNJVC6sWCIgKZeBW 9jtsUvt47qMVVUWpqrxcE/zIWbRI4oScZwZM04EDrWZsTCYLqY2USA0NThYmyN/GkhR8KyTuYZQ VZJ393ElgM/cl2wg3hHcWYlSaznyO/OjxLfVRUL+lF5chpNVGwgOxBLufkEpH X-Gm-Gg: ASbGncv9hBLy3CmF+I+SCjASNgQVM5qxkqrYM7kqbCT7GwpswZETIyerUKYxSyiqX/c G/jvmoL5kfZ6PJlS0n/DY+1KAGQj5Relt8F/fwyRFy8cS2iR82xIVBj7rXhq1d4g/GLC4S5CFRs Mo2D71CH9E9F8sT8cFSxgU52p0kF87oiRqowQ8W0yteN6PX2oGh9x9jtxdPuRr2/d5Tf6e0m1jF FtlPUrWdDLG/4SEoMyaEJ/yYvnpn8actsPCr48lncjVHTlFJMPQ2YzeKYENuohRnKOcDGCudMht dVgrd4huMm1rNtSau+2DZVkPzZImdGCUqb9BX615i+xF30CkySaLpGdYWEu00YQSlk5/d+vnKNz hOjbqlVf7 X-Google-Smtp-Source: AGHT+IHKUxZfGbjifz/J8ix0gAk0CyYscTERN7L2qIT23SWcQT3O0ZfIVAVboGkfeGzCJ+0xebHfNe6HWJUA X-Received: by 2002:a17:903:3885:b0:290:bd71:3a2b with SMTP id d9443c01a7336-290cc4e9c43mr50398995ad.44.1760721825279; Fri, 17 Oct 2025 10:23:45 -0700 (PDT) Received: from postal.iol.unh.edu (postal.iol.unh.edu. [2606:4100:3880:1234::84]) by smtp-relay.gmail.com with ESMTPS id d9443c01a7336-29246feb49dsm52895ad.12.2025.10.17.10.23.45 (version=TLS1_2 cipher=ECDHE-ECDSA-AES128-GCM-SHA256 bits=128/128); Fri, 17 Oct 2025 10:23:45 -0700 (PDT) X-Relaying-Domain: iol.unh.edu Date: Fri, 17 Oct 2025 10:23:45 -0700 (PDT) Message-ID: <68f27ba1.170a0220.1e8b31.03edSMTPIN_ADDED_MISSING@mx.google.com> Received: from [172.21.0.6] (unknown [172.18.0.240]) by postal.iol.unh.edu (Postfix) with ESMTP id 855966050A61; Fri, 17 Oct 2025 13:23:44 -0400 (EDT) Subject: |WARNING| [GIT MASTER] 6b997d6b9ffdbb4f8ecd14d1f217da69cdc783af From: dpdklab@iol.unh.edu To: Test Report Cc: dpdk-test-reports@iol.unh.edu, Bruce Richardson Content-Type: text/plain X-BeenThere: test-report@dpdk.org X-Mailman-Version: 2.1.29 Precedence: list List-Id: automatic DPDK test reports List-Unsubscribe: , List-Archive: List-Post: List-Help: List-Subscribe: , Errors-To: test-report-bounces@dpdk.org _Testing issues_ Branch: dpdk-next-net-intel 6b997d6b9ffdbb4f8ecd14d1f217da69cdc783af --> testing issues Upstream job id: Generic-DPDK-Compile-Meson#435414 Test environment and result as below: +-------------------------------+--------------------+-------------------+-------------------------+----------------------+-------------------+------------------+ | Environment | dpdk_meson_compile | dpdk_msvc_compile | dpdk_llvm_clang_compile | dpdk_mingw64_compile | dpdk_compile_spdk | dpdk_compile_ovs | +===============================+====================+===================+=========================+======================+===================+==================+ | FreeBSD 14.2 | PASS | SKIPPED | SKIPPED | SKIPPED | SKIPPED | SKIPPED | +-------------------------------+--------------------+-------------------+-------------------------+----------------------+-------------------+------------------+ | Ubuntu 20.04 | PASS | SKIPPED | SKIPPED | SKIPPED | SKIPPED | SKIPPED | +-------------------------------+--------------------+-------------------+-------------------------+----------------------+-------------------+------------------+ | CentOS Stream 9 | PASS | SKIPPED | SKIPPED | SKIPPED | WARN | SKIPPED | +-------------------------------+--------------------+-------------------+-------------------------+----------------------+-------------------+------------------+ | CentOS Stream 10 | PASS | SKIPPED | SKIPPED | SKIPPED | SKIPPED | SKIPPED | +-------------------------------+--------------------+-------------------+-------------------------+----------------------+-------------------+------------------+ | Debian GNU/Linux 12 | PASS | SKIPPED | SKIPPED | SKIPPED | WARN | SKIPPED | +-------------------------------+--------------------+-------------------+-------------------------+----------------------+-------------------+------------------+ | Fedora Linux 42 | PASS | SKIPPED | SKIPPED | SKIPPED | WARN | PASS | +-------------------------------+--------------------+-------------------+-------------------------+----------------------+-------------------+------------------+ | openSUSE Leap 15.6 | PASS | SKIPPED | SKIPPED | SKIPPED | SKIPPED | SKIPPED | +-------------------------------+--------------------+-------------------+-------------------------+----------------------+-------------------+------------------+ | Red Hat Enterprise Linux 8.10 | PASS | SKIPPED | SKIPPED | SKIPPED | SKIPPED | SKIPPED | +-------------------------------+--------------------+-------------------+-------------------------+----------------------+-------------------+------------------+ | Red Hat Enterprise Linux 9.5 | PASS | SKIPPED | SKIPPED | SKIPPED | SKIPPED | SKIPPED | +-------------------------------+--------------------+-------------------+-------------------------+----------------------+-------------------+------------------+ | Ubuntu 22.04 | PASS | SKIPPED | SKIPPED | SKIPPED | WARN | SKIPPED | +-------------------------------+--------------------+-------------------+-------------------------+----------------------+-------------------+------------------+ | Ubuntu 24.04 | PASS | SKIPPED | SKIPPED | SKIPPED | WARN | PASS | +-------------------------------+--------------------+-------------------+-------------------------+----------------------+-------------------+------------------+ | Alpine Linux 3.22.0 | PASS | SKIPPED | SKIPPED | SKIPPED | SKIPPED | SKIPPED | +-------------------------------+--------------------+-------------------+-------------------------+----------------------+-------------------+------------------+ | Windows Server 2022 | SKIPPED | PASS | PASS | PASS | SKIPPED | SKIPPED | +-------------------------------+--------------------+-------------------+-------------------------+----------------------+-------------------+------------------+ ==== 20 line log output for Ubuntu 24.04 (dpdk_compile_spdk): ==== --- Failed to get log output --- ==== End log output ==== FreeBSD 14.2 Kernel: 14.2-RELEASE Compiler: clang 18.1.6 Ubuntu 20.04 Kernel: 4.19 Compiler: gcc gcc (Ubuntu 9.4.0-1ubuntu1~20.04.2) 9.4.0 CentOS Stream 9 Kernel: 5.15 Compiler: gcc gcc (GCC) 11.5.0 20240719 (Red Hat 11.5.0-11) CentOS Stream 10 Kernel: 5.15 Compiler: gcc gcc (GCC) 14.2.1 20250110 (Red Hat 14.2.1-8) Debian GNU/Linux 12 Kernel: 5.15 Compiler: gcc gcc (Debian 12.2.0-14+deb12u1) 12.2.0 Fedora Linux 42 Kernel: 5.15 Compiler: clang gcc (GCC) 15.2.1 20250808 (Red Hat 15.2.1-1) openSUSE Leap 15.6 Kernel: 5.15 Compiler: gcc gcc (SUSE Linux) 7.5.0 Red Hat Enterprise Linux 8.10 Kernel: 5.15 Compiler: gcc gcc (GCC) 8.5.0 20210514 (Red Hat 8.5.0-22) Red Hat Enterprise Linux 9.5 Kernel: 5.15 Compiler: gcc gcc (GCC) 11.5.0 20240719 (Red Hat 11.5.0-2) Ubuntu 22.04 Kernel: 5.15 Compiler: gcc gcc (Ubuntu 11.4.0-1ubuntu1~22.04) 11.4.0 Ubuntu 24.04 Kernel: 5.15 Compiler: gcc gcc (Ubuntu 13.3.0-6ubuntu2~24.04) 13.3.0 Alpine Linux 3.22.0 Kernel: 5.15 Compiler: gcc gcc (Alpine 14.2.0) 14.2.0 Windows Server 2022 Kernel: 10.0.20348.2031 Compiler: clang 15.0.7, gcc 14.1.0 (MinGW), and MSVC VS 19.39.33521 To view detailed results, visit: https://lab.dpdk.org/results/dashboard/tarballs/35251/ UNH-IOL DPDK Community Lab To manage your email subscriptions, visit: https://lab.dpdk.org/results/dashboard/preferences/subscriptions/