From mboxrd@z Thu Jan 1 00:00:00 1970 Return-Path: Received: from mails.dpdk.org (mails.dpdk.org [217.70.189.124]) by inbox.dpdk.org (Postfix) with ESMTP id 738FB48965 for ; Fri, 17 Oct 2025 19:26:43 +0200 (CEST) Received: from mails.dpdk.org (localhost [127.0.0.1]) by mails.dpdk.org (Postfix) with ESMTP id 6DA8D400D7; Fri, 17 Oct 2025 19:26:43 +0200 (CEST) Received: from mail-pj1-f99.google.com (mail-pj1-f99.google.com [209.85.216.99]) by mails.dpdk.org (Postfix) with ESMTP id 41803400D7 for ; Fri, 17 Oct 2025 19:26:42 +0200 (CEST) Received: by mail-pj1-f99.google.com with SMTP id 98e67ed59e1d1-33bc2178d6aso1283215a91.0 for ; Fri, 17 Oct 2025 10:26:42 -0700 (PDT) DKIM-Signature: v=1; a=rsa-sha256; c=relaxed/relaxed; d=iol.unh.edu; s=unh-iol; t=1760722001; x=1761326801; darn=dpdk.org; h=references:in-reply-to:cc:to:from:subject:message-id:date:from:to :cc:subject:date:message-id:reply-to; bh=Fm6hskkiGRa6aiLzUyhNXNigJkfKlCf6LyXU0namGqY=; b=ae2QahKZmS8CAUUhz/cgBvF1w2K7/Dl0ZI3EMr1GKbZ7VjOK1+cvKpZm0aosmbc+9J CZeg5tRqGzPFL0Noxn2xPKNOD3aUM6Ku6IFCGOXilBWOKMJyV/8N0fy16dF6tcJZaBBT IBA7cyW/U50Bvimpeq+Rf0GVpL/xfrg+5gtHQ= X-Google-DKIM-Signature: v=1; a=rsa-sha256; c=relaxed/relaxed; d=1e100.net; s=20230601; t=1760722001; x=1761326801; h=references:in-reply-to:cc:to:from:subject:message-id:date :x-gm-message-state:from:to:cc:subject:date:message-id:reply-to; bh=Fm6hskkiGRa6aiLzUyhNXNigJkfKlCf6LyXU0namGqY=; b=gvnxK6jV1xeRIclIJLBEJ4VTxHKB2e0Cbe8192ZbXmfWIkxCJSJwWs4Y6rX6z2VAUg A2qf7vkZS1fJVE/jLw5iIYS20rTzyabopabOno+ho2IARPETvNdUXXteSxDF95rjoVUp CubPDnNVaaT2/7iiDKy0HH+7rx/9cPdzwtD8ymaqZ0GUwz9qQ2BzY3QK7lpdPjl5g7b0 T/kCMsXrmaU04uWJ4+1s9yEhPfA4mC/o4yzFcoOdtFoU3cCivK7+h5Z8bMcNJPHKj5FK +B9LgihfalKCoWiI+b2XhJQyimfDpohFKsBi+iPBFQlyOrBRg9G7hryiK1vDh+tIIU8p 3zmg== X-Gm-Message-State: AOJu0YztOfM1y2gP/31KMZCcjW4SNOUK4nFrP6v1x1yMRnX9g+TN4ger yXpJE8Cm6GXMw7AYUOGLriJRHx8FGMsFlkuovKbLEmridpQAaN/ck1uyxhidNw5k68zAPhVVgGh h+GQ6PUzmjpPcQHjts5YAQSDdONNn/CyRzVs28YI04JLo X-Gm-Gg: ASbGncuKb33RwCtHb11OQUZ9yeWCsbcq0RvgEMKNXLoD3RJzK+9VDCv1r3p+gWJ09aL Na7TnlHaik6JW34EEduUTJMJJYviRhHhpveauBYGQ7rLXdVyKGb+hBF4jT6VJhMXWgPd5FJl38T AqYnVfddTiJGn4GcGOsI4l8+fiCQYYQCh05MQDYn3TibHIsRpd2+iKglIunL/z0W2ILmI/9lHWm fzWg0WjnaRrnqCDPhgOl49GXCUSGQgngmxm3idjxIzGbyUUbjjnZhYUAF+hxlED635bLdPhMlBT BEzKaZu497jtsJ92O4EdoK4iusz/1XbmhDDtQZeUrZ/1vY8MVweKPbGGZ0+BJE6FdX8gYDciDQb rGA1Fff6Psy8MTTr3p7pUWhiDKsKV6oE= X-Google-Smtp-Source: AGHT+IE4HZe/S6+wiNLe0v7mv5aJwcxqgP5P2MrbfBlYbh+28dsynV8GNa3oPXq6Qy2GCEUhOU+JqVoZBm1T X-Received: by 2002:a17:90b:2781:b0:32e:5646:d448 with SMTP id 98e67ed59e1d1-33bcf8e64a0mr4749651a91.21.1760722001170; Fri, 17 Oct 2025 10:26:41 -0700 (PDT) Received: from postal.iol.unh.edu (postal.iol.unh.edu. [132.177.123.84]) by smtp-relay.gmail.com with ESMTPS id 98e67ed59e1d1-33bb66920f8sm507020a91.5.2025.10.17.10.26.41 (version=TLS1_2 cipher=ECDHE-ECDSA-AES128-GCM-SHA256 bits=128/128); Fri, 17 Oct 2025 10:26:41 -0700 (PDT) X-Relaying-Domain: iol.unh.edu Date: Fri, 17 Oct 2025 10:26:41 -0700 (PDT) Message-ID: <68f27c51.170a0220.10cc20.83ceSMTPIN_ADDED_MISSING@mx.google.com> Received: from [172.21.0.3] (unknown [172.18.0.240]) by postal.iol.unh.edu (Postfix) with ESMTP id 6EAFE6050A61; Fri, 17 Oct 2025 13:26:40 -0400 (EDT) Subject: |WARNING| pw157800-157801 [PATCH] [2/2] app/pdump: improve cmdline a From: dpdklab@iol.unh.edu To: Test Report Cc: dpdk-test-reports@iol.unh.edu In-Reply-To: <20251017110638.1094371-2-bruce.richardson@intel.com> References: <20251017110638.1094371-2-bruce.richardson@intel.com> Content-Type: text/plain X-BeenThere: test-report@dpdk.org X-Mailman-Version: 2.1.29 Precedence: list List-Id: automatic DPDK test reports List-Unsubscribe: , List-Archive: List-Post: List-Help: List-Subscribe: , Errors-To: test-report-bounces@dpdk.org Test-Label: iol-compile-amd64-testing Test-Status: WARNING http://dpdk.org/patch/157801 _Testing issues_ Submitter: Bruce Richardson Date: Friday, October 17 2025 11:06:37 DPDK git baseline: Repo:dpdk Branch: master CommitID:438491733c2d8a109574449d3d6de9b25a05c07c 157800-157801 --> testing issues Upstream job id: Generic-DPDK-Compile-Meson#435441 Test environment and result as below: +-------------------------------+--------------------+-------------------+-------------------------+----------------------+-------------------+------------------+ | Environment | dpdk_meson_compile | dpdk_msvc_compile | dpdk_llvm_clang_compile | dpdk_mingw64_compile | dpdk_compile_spdk | dpdk_compile_ovs | +===============================+====================+===================+=========================+======================+===================+==================+ | Ubuntu 20.04 | PASS | SKIPPED | SKIPPED | SKIPPED | SKIPPED | SKIPPED | +-------------------------------+--------------------+-------------------+-------------------------+----------------------+-------------------+------------------+ | FreeBSD 14.2 | PASS | SKIPPED | SKIPPED | SKIPPED | SKIPPED | SKIPPED | +-------------------------------+--------------------+-------------------+-------------------------+----------------------+-------------------+------------------+ | Ubuntu 24.04 | PEND | SKIPPED | SKIPPED | SKIPPED | PEND | PEND | +-------------------------------+--------------------+-------------------+-------------------------+----------------------+-------------------+------------------+ | CentOS Stream 9 | PASS | SKIPPED | SKIPPED | SKIPPED | WARN | SKIPPED | +-------------------------------+--------------------+-------------------+-------------------------+----------------------+-------------------+------------------+ | CentOS Stream 10 | PASS | SKIPPED | SKIPPED | SKIPPED | SKIPPED | SKIPPED | +-------------------------------+--------------------+-------------------+-------------------------+----------------------+-------------------+------------------+ | Debian GNU/Linux 12 | PEND | SKIPPED | SKIPPED | SKIPPED | PEND | SKIPPED | +-------------------------------+--------------------+-------------------+-------------------------+----------------------+-------------------+------------------+ | Fedora Linux 42 | PEND | SKIPPED | SKIPPED | SKIPPED | PEND | PEND | +-------------------------------+--------------------+-------------------+-------------------------+----------------------+-------------------+------------------+ | openSUSE Leap 15.6 | PASS | SKIPPED | SKIPPED | SKIPPED | SKIPPED | SKIPPED | +-------------------------------+--------------------+-------------------+-------------------------+----------------------+-------------------+------------------+ | Red Hat Enterprise Linux 9.5 | PASS | SKIPPED | SKIPPED | SKIPPED | SKIPPED | SKIPPED | +-------------------------------+--------------------+-------------------+-------------------------+----------------------+-------------------+------------------+ | Red Hat Enterprise Linux 8.10 | PASS | SKIPPED | SKIPPED | SKIPPED | SKIPPED | SKIPPED | +-------------------------------+--------------------+-------------------+-------------------------+----------------------+-------------------+------------------+ | Ubuntu 22.04 | PEND | SKIPPED | SKIPPED | SKIPPED | PEND | SKIPPED | +-------------------------------+--------------------+-------------------+-------------------------+----------------------+-------------------+------------------+ | Windows Server 2022 | SKIPPED | PASS | PASS | PASS | SKIPPED | SKIPPED | +-------------------------------+--------------------+-------------------+-------------------------+----------------------+-------------------+------------------+ ==== 20 line log output for CentOS Stream 9 (dpdk_compile_spdk): ==== --- Failed to get log output --- ==== End log output ==== Ubuntu 20.04 Kernel: 4.19 Compiler: gcc gcc (Ubuntu 9.4.0-1ubuntu1~20.04.2) 9.4.0 FreeBSD 14.2 Kernel: 14.2-RELEASE Compiler: clang 18.1.6 Ubuntu 24.04 Kernel: 5.15 Compiler: gcc gcc (Ubuntu 13.3.0-6ubuntu2~24.04) 13.3.0 CentOS Stream 9 Kernel: 5.15 Compiler: gcc gcc (GCC) 11.5.0 20240719 (Red Hat 11.5.0-11) CentOS Stream 10 Kernel: 5.15 Compiler: gcc gcc (GCC) 14.2.1 20250110 (Red Hat 14.2.1-8) Debian GNU/Linux 12 Kernel: 5.15 Compiler: gcc gcc (Debian 12.2.0-14+deb12u1) 12.2.0 Fedora Linux 42 Kernel: 5.15 Compiler: gcc gcc (GCC) 15.2.1 20250808 (Red Hat 15.2.1-1) openSUSE Leap 15.6 Kernel: 5.15 Compiler: gcc gcc (SUSE Linux) 7.5.0 Red Hat Enterprise Linux 9.5 Kernel: 5.15 Compiler: gcc gcc (GCC) 11.5.0 20240719 (Red Hat 11.5.0-2) Red Hat Enterprise Linux 8.10 Kernel: 5.15 Compiler: gcc gcc (GCC) 8.5.0 20210514 (Red Hat 8.5.0-22) Ubuntu 22.04 Kernel: 5.15 Compiler: gcc gcc (Ubuntu 11.4.0-1ubuntu1~22.04) 11.4.0 Windows Server 2022 Kernel: 10.0.20348.2031 Compiler: clang 15.0.7, gcc 14.1.0 (MinGW), and MSVC VS 19.39.33521 To view detailed results, visit: https://lab.dpdk.org/results/dashboard/patchsets/34312/ UNH-IOL DPDK Community Lab To manage your email subscriptions, visit: https://lab.dpdk.org/results/dashboard/preferences/subscriptions/