From mboxrd@z Thu Jan 1 00:00:00 1970 Return-Path: Received: from mails.dpdk.org (mails.dpdk.org [217.70.189.124]) by inbox.dpdk.org (Postfix) with ESMTP id 2DBBA48965 for ; Fri, 17 Oct 2025 19:42:19 +0200 (CEST) Received: from mails.dpdk.org (localhost [127.0.0.1]) by mails.dpdk.org (Postfix) with ESMTP id 282A242D90; Fri, 17 Oct 2025 19:42:19 +0200 (CEST) Received: from mail-ot1-f98.google.com (mail-ot1-f98.google.com [209.85.210.98]) by mails.dpdk.org (Postfix) with ESMTP id 8F07D42D90 for ; Fri, 17 Oct 2025 19:42:17 +0200 (CEST) Received: by mail-ot1-f98.google.com with SMTP id 46e09a7af769-7c280b71af9so288281a34.2 for ; Fri, 17 Oct 2025 10:42:17 -0700 (PDT) DKIM-Signature: v=1; a=rsa-sha256; c=relaxed/relaxed; d=iol.unh.edu; s=unh-iol; t=1760722937; x=1761327737; darn=dpdk.org; h=references:in-reply-to:cc:to:from:subject:message-id:date:from:to :cc:subject:date:message-id:reply-to; bh=BzD3D1hVRmUIXFQWPl8/P0TVOoEiCFEiBMl3n1vtbL4=; b=Hiv9T2frap6tyWNG1mrF2cG6USok143uUlfgxD5VoqCyL/li15f6Hsuhgr/XdlfD/2 yS3OaYurmvCuvEWNW31MZFxgEAsSviMfc5CnD1331wsS5EuuSybWfsV71XqTNonin7ud cjfsJ0gKhG3zPr8hERoQDVHHssUF5HSHIOE0s= X-Google-DKIM-Signature: v=1; a=rsa-sha256; c=relaxed/relaxed; d=1e100.net; s=20230601; t=1760722937; x=1761327737; h=references:in-reply-to:cc:to:from:subject:message-id:date :x-gm-message-state:from:to:cc:subject:date:message-id:reply-to; bh=BzD3D1hVRmUIXFQWPl8/P0TVOoEiCFEiBMl3n1vtbL4=; b=CSVsKwld2v59BOjJBXlY96f55te6HC6napiMQug8gXwli40Z5QoD/Uq2vxeWjkSDVP 9VEKt8HOb4xF9EntIyK+owqeL2+L+jNw5hJtB1gnvuJi64TgHMQRAnpsQeVWwtCJKvMm nnH433evIu3QFbNgCv/YUn9U3W+u32mAdf7zThXO7gKTP4j/FQGk5u7DAlrOtR6Ga3eS qUJmW+0fv8ors4v5mxeF/0n54I2IYNr9REY0TH4Ts6Ls9WyfTIvNjvLext5V5zmNpKFq aCfOrLgMxmblt6kAqFYaKStsq/NmcgB4k9PBQpVlVsy9IRhumKP5bwNBIzokNHPYTpvU iwhA== X-Gm-Message-State: AOJu0YzKs4cLvu5riSO9AvgroHTkf9Zy/Dx2tytFZwmOfWAaNT2RHWuw NGgRjgoY4cdvTCpngvJSP5BWGppQG6Edqp1MWiq604br3okzuT+Ek3Ru5Iz5jfbW7Q++ZRWPi60 FL90OeYKzSb0KT6mdAieEhdNcg+h6Ah/XKiUoDKx/lWw8 X-Gm-Gg: ASbGncsBXnpCQCmYkVGQ3Q/mfW3Hm3H4fIeMuficIY++fTDSf6NCCGRaH8ukrKXS4vr lQlTci0oy8o0h6rhoc57PJXYSrZCbkSj6YhRJ1NA7VxngpHfkh+WLbH1eElZKyafD/FZtx12vhe Qxx8fdJ36Pcna1btWuV2ff+d3FVmK0d1DTE0tCGqFMLu90YPZYu4QwlulKFhVJPL089JXe3Xbcd wrKZlElxK4jMkU5JZ3TkA7WvW1fgsqNi1ntgsxwgTIwgeJdkOjoAQVVUoD1g93NoGyn0xywvHx6 CUuqMB4ZhCZxJoHdoqNQTNGfNlJuG3LY67MBR6afcPOtLSMpKyENc/O0FG2mUKcW8pfegYZby9n EZFRRo5c1vaJkNZ037sRvyvhY+H3psUs= X-Google-Smtp-Source: AGHT+IGydAgQ4+rREaMXy1f/g/McU5RHJqbgXUghmZu9k061lOmexd8oNp5IPd7ECAqRF68StxVg4OMCH305 X-Received: by 2002:a05:6830:6a88:b0:748:cb4c:97fd with SMTP id 46e09a7af769-7c27c9c51c0mr2005942a34.1.1760722936800; Fri, 17 Oct 2025 10:42:16 -0700 (PDT) Received: from postal.iol.unh.edu (postal.iol.unh.edu. [132.177.123.84]) by smtp-relay.gmail.com with ESMTPS id 46e09a7af769-7c2888a707dsm6281a34.7.2025.10.17.10.42.16 (version=TLS1_2 cipher=ECDHE-ECDSA-AES128-GCM-SHA256 bits=128/128); Fri, 17 Oct 2025 10:42:16 -0700 (PDT) X-Relaying-Domain: iol.unh.edu Date: Fri, 17 Oct 2025 10:42:16 -0700 (PDT) Message-ID: <68f27ff8.050a0220.237224.04acSMTPIN_ADDED_MISSING@mx.google.com> Received: from [172.21.0.2] (unknown [172.18.0.240]) by postal.iol.unh.edu (Postfix) with ESMTP id 514EC6050A61; Fri, 17 Oct 2025 13:42:16 -0400 (EDT) Subject: |SUCCESS| pw157822 [PATCH] test/ring_perf: add optional cross L3 cor From: dpdklab@iol.unh.edu To: Test Report Cc: dpdk-test-reports@iol.unh.edu In-Reply-To: <20251017163407.845502-1-sivaprasad.tummala@amd.com> References: <20251017163407.845502-1-sivaprasad.tummala@amd.com> Content-Type: text/plain X-BeenThere: test-report@dpdk.org X-Mailman-Version: 2.1.29 Precedence: list List-Id: automatic DPDK test reports List-Unsubscribe: , List-Archive: List-Post: List-Help: List-Subscribe: , Errors-To: test-report-bounces@dpdk.org Test-Label: iol-compile-amd64-testing Test-Status: SUCCESS http://dpdk.org/patch/157822 _Testing PASS_ Submitter: Sivaprasad Tummala Date: Friday, October 17 2025 16:34:04 DPDK git baseline: Repo:dpdk Branch: master CommitID:fd6bb586ca832c0cd6a84bcf7123a6063b3ae133 157822 --> testing pass Upstream job id: Windows-Compile-DPDK-Native#31724 Test environment and result as below: +---------------------+--------------------+-------------------------+-------------------+----------------------+ | Environment | dpdk_meson_compile | dpdk_llvm_clang_compile | dpdk_msvc_compile | dpdk_mingw64_compile | +=====================+====================+=========================+===================+======================+ | Ubuntu 20.04 | PASS | SKIPPED | SKIPPED | SKIPPED | +---------------------+--------------------+-------------------------+-------------------+----------------------+ | FreeBSD 14.2 | PASS | SKIPPED | SKIPPED | SKIPPED | +---------------------+--------------------+-------------------------+-------------------+----------------------+ | Windows Server 2022 | SKIPPED | PASS | PASS | PASS | +---------------------+--------------------+-------------------------+-------------------+----------------------+ Ubuntu 20.04 Kernel: 4.19 Compiler: gcc gcc (Ubuntu 9.4.0-1ubuntu1~20.04.2) 9.4.0 FreeBSD 14.2 Kernel: 14.2-RELEASE Compiler: clang 18.1.6 Windows Server 2022 Kernel: 10.0.20348.2031 Compiler: clang 15.0.7, gcc 14.1.0 (MinGW), and MSVC VS 19.39.33521 To view detailed results, visit: https://lab.dpdk.org/results/dashboard/patchsets/34321/ UNH-IOL DPDK Community Lab To manage your email subscriptions, visit: https://lab.dpdk.org/results/dashboard/preferences/subscriptions/