From mboxrd@z Thu Jan 1 00:00:00 1970 Return-Path: Received: from mails.dpdk.org (mails.dpdk.org [217.70.189.124]) by inbox.dpdk.org (Postfix) with ESMTP id C50C048965 for ; Fri, 17 Oct 2025 19:48:34 +0200 (CEST) Received: from mails.dpdk.org (localhost [127.0.0.1]) by mails.dpdk.org (Postfix) with ESMTP id BE521400D7; Fri, 17 Oct 2025 19:48:34 +0200 (CEST) Received: from mail-yw1-f227.google.com (mail-yw1-f227.google.com [209.85.128.227]) by mails.dpdk.org (Postfix) with ESMTP id 039E5400D7 for ; Fri, 17 Oct 2025 19:48:33 +0200 (CEST) Received: by mail-yw1-f227.google.com with SMTP id 00721157ae682-71d6014810fso23387427b3.0 for ; Fri, 17 Oct 2025 10:48:32 -0700 (PDT) DKIM-Signature: v=1; a=rsa-sha256; c=relaxed/relaxed; d=iol.unh.edu; s=unh-iol; t=1760723312; x=1761328112; darn=dpdk.org; h=references:in-reply-to:cc:to:from:subject:message-id:date:from:to :cc:subject:date:message-id:reply-to; bh=OXpw0pcGZRa4KnHRYEnMdiqoQEB41BeC1wkkPeVci2I=; b=YG2H/b01R0mPXDpB5cqS4a8sFRAfLXwbMIxIKhhqp2gaSX+s0EDJ/TKcqK62fNnTjp zdab7z3HgfgbpgT51mzpecVG0+N7XT9AcrG3GdAV6XxT6sY4S5j+bmfAun9QZb5qboR8 gIaSdVry8eedFKrEnNdpOeYN1uIoasPtKtlj4= X-Google-DKIM-Signature: v=1; a=rsa-sha256; c=relaxed/relaxed; d=1e100.net; s=20230601; t=1760723312; x=1761328112; h=references:in-reply-to:cc:to:from:subject:message-id:date :x-gm-message-state:from:to:cc:subject:date:message-id:reply-to; bh=OXpw0pcGZRa4KnHRYEnMdiqoQEB41BeC1wkkPeVci2I=; b=FsPo8UxNo2/M7Js1Lr3ScxZiPYYiGqcG85gc7W3HFW6QtctRLZOiXvQRoxIW8seF4e bbuYVeb8wd6Q61zA1H2Xf4CWy5dB1yDmVQgWTaK8TeSxqM496VDX1Zt+SrsPcrqM+v27 oTrulqa+9Bma/ap02n3xT6qxH36qnuDuUp7rU0zNp//8vqN1dcyhhl8uuKXEsD+PKIjT 66XZ/BfdyiaW+IDGpwoqCoBYlVddLOyBDaDfGJFJhHfu3uQVazolgAKWOkefdU14aTlO JuxEh1fpxDvWxB0EGmHFH9UnO25B9KjQfvPrDVts6XqqqoEBfVixqu4Waars2Wfry4VJ /FuA== X-Gm-Message-State: AOJu0YyOeQIAt0075RzgmYz/hphc5yr/tNV0WCv1jKW+e3sUcb61oP73 vn0Ws26bRS1RGTKuenCQqlbx5hWASpy71/jGV9erhC+xPMM+5Bs1HGGGPpGxttTnVqpmSgzTnrh m+wzs0CI5hD015BHssTzSDRqevbEc4gtQsJW5puM/dXpi X-Gm-Gg: ASbGncsuQ2M1Xgk0D1j6legawFi2W3MHfDKdek7fyD4unLGQbeHhbcSRDQb0urcvCK6 yOYv1/1O0R4sk+x3YZYGX0TNMcs+nq2t1ercBrn6OSEbQKBuWqTlxDPcfGuJonQ3jjall/U0jV3 i1M7ZC0lBg/Rayk565EkW09rm61fUrtcAeJZY9XO51g0o9F3VWEgn9uyuRXqFThQYkZFrZ7BLOE yHndWhG24Y9LtB11Jw5yxGlwRoUAHUEOSV66c45+jjNUmWZr0enY6hEQONJ/b6WqiQmBVWlxabK gK5bkuq0o4qSUjIYeUhzi1he+o33HXNQaqzDEwEJaFbiHHLb1mNdAmWs9RpAj8/vvETeJOuM/OW G5JLkhN1OCWfHDPjv+UjsCT2T43+WV7Y= X-Google-Smtp-Source: AGHT+IHVu7T0cq1gWcJh4TrV/1oe76X3+Hh5xFj6cLxRnVmKwsJy/vrsyXEc/CS8RciByOOcKh45ToU7btVH X-Received: by 2002:a05:690c:338b:b0:74e:a5d3:d95 with SMTP id 00721157ae682-7836d1dd58cmr44539317b3.22.1760723312363; Fri, 17 Oct 2025 10:48:32 -0700 (PDT) Received: from postal.iol.unh.edu (postal.iol.unh.edu. [132.177.123.84]) by smtp-relay.gmail.com with ESMTPS id 00721157ae682-784637634aesm109137b3.2.2025.10.17.10.48.32 (version=TLS1_2 cipher=ECDHE-ECDSA-AES128-GCM-SHA256 bits=128/128); Fri, 17 Oct 2025 10:48:32 -0700 (PDT) X-Relaying-Domain: iol.unh.edu Date: Fri, 17 Oct 2025 10:48:32 -0700 (PDT) Message-ID: <68f28170.050a0220.58a65.08a6SMTPIN_ADDED_MISSING@mx.google.com> Received: from [172.21.0.2] (unknown [172.18.0.240]) by postal.iol.unh.edu (Postfix) with ESMTP id 0BA2F604D421; Fri, 17 Oct 2025 13:48:32 -0400 (EDT) Subject: |WARNING| pw157797-157799 [PATCH] [v7,3/3] doc: note on unsupported From: dpdklab@iol.unh.edu To: Test Report Cc: dpdk-test-reports@iol.unh.edu, Bruce Richardson In-Reply-To: <20251017103415.114400-4-shaiq.wani@intel.com> References: <20251017103415.114400-4-shaiq.wani@intel.com> Content-Type: text/plain X-BeenThere: test-report@dpdk.org X-Mailman-Version: 2.1.29 Precedence: list List-Id: automatic DPDK test reports List-Unsubscribe: , List-Archive: List-Post: List-Help: List-Subscribe: , Errors-To: test-report-bounces@dpdk.org Test-Label: iol-compile-amd64-testing Test-Status: WARNING http://dpdk.org/patch/157799 _Testing issues_ Submitter: Shaiq Wani Date: Friday, October 17 2025 10:34:15 DPDK git baseline: Repo:dpdk-next-net-intel Branch: master CommitID:6b997d6b9ffdbb4f8ecd14d1f217da69cdc783af 157797-157799 --> testing issues Upstream job id: Generic-DPDK-Compile-Meson#435432 Test environment and result as below: +-------------------------------+--------------------+-------------------+-------------------------+----------------------+-------------------+------------------+ | Environment | dpdk_meson_compile | dpdk_msvc_compile | dpdk_llvm_clang_compile | dpdk_mingw64_compile | dpdk_compile_spdk | dpdk_compile_ovs | +===============================+====================+===================+=========================+======================+===================+==================+ | FreeBSD 14.2 | PASS | SKIPPED | SKIPPED | SKIPPED | SKIPPED | SKIPPED | +-------------------------------+--------------------+-------------------+-------------------------+----------------------+-------------------+------------------+ | Ubuntu 20.04 | PASS | SKIPPED | SKIPPED | SKIPPED | SKIPPED | SKIPPED | +-------------------------------+--------------------+-------------------+-------------------------+----------------------+-------------------+------------------+ | Ubuntu 24.04 | PASS | SKIPPED | SKIPPED | SKIPPED | WARN | PASS | +-------------------------------+--------------------+-------------------+-------------------------+----------------------+-------------------+------------------+ | CentOS Stream 9 | PASS | SKIPPED | SKIPPED | SKIPPED | WARN | SKIPPED | +-------------------------------+--------------------+-------------------+-------------------------+----------------------+-------------------+------------------+ | CentOS Stream 10 | PASS | SKIPPED | SKIPPED | SKIPPED | SKIPPED | SKIPPED | +-------------------------------+--------------------+-------------------+-------------------------+----------------------+-------------------+------------------+ | Debian GNU/Linux 12 | PASS | SKIPPED | SKIPPED | SKIPPED | WARN | SKIPPED | +-------------------------------+--------------------+-------------------+-------------------------+----------------------+-------------------+------------------+ | Fedora Linux 42 | PASS | SKIPPED | SKIPPED | SKIPPED | WARN | PASS | +-------------------------------+--------------------+-------------------+-------------------------+----------------------+-------------------+------------------+ | openSUSE Leap 15.6 | PASS | SKIPPED | SKIPPED | SKIPPED | SKIPPED | SKIPPED | +-------------------------------+--------------------+-------------------+-------------------------+----------------------+-------------------+------------------+ | Red Hat Enterprise Linux 8.10 | PASS | SKIPPED | SKIPPED | SKIPPED | SKIPPED | SKIPPED | +-------------------------------+--------------------+-------------------+-------------------------+----------------------+-------------------+------------------+ | Red Hat Enterprise Linux 9.5 | PASS | SKIPPED | SKIPPED | SKIPPED | SKIPPED | SKIPPED | +-------------------------------+--------------------+-------------------+-------------------------+----------------------+-------------------+------------------+ | Ubuntu 22.04 | PASS | SKIPPED | SKIPPED | SKIPPED | WARN | SKIPPED | +-------------------------------+--------------------+-------------------+-------------------------+----------------------+-------------------+------------------+ | Alpine Linux 3.22.0 | PASS | SKIPPED | SKIPPED | SKIPPED | SKIPPED | SKIPPED | +-------------------------------+--------------------+-------------------+-------------------------+----------------------+-------------------+------------------+ | Windows Server 2022 | SKIPPED | PASS | PASS | PASS | SKIPPED | SKIPPED | +-------------------------------+--------------------+-------------------+-------------------------+----------------------+-------------------+------------------+ ==== 20 line log output for Ubuntu 22.04 (dpdk_compile_spdk): ==== --- Failed to get log output --- ==== End log output ==== FreeBSD 14.2 Kernel: 14.2-RELEASE Compiler: clang 18.1.6 Ubuntu 20.04 Kernel: 4.19 Compiler: gcc gcc (Ubuntu 9.4.0-1ubuntu1~20.04.2) 9.4.0 Ubuntu 24.04 Kernel: 5.15 Compiler: gcc gcc (Ubuntu 13.3.0-6ubuntu2~24.04) 13.3.0 CentOS Stream 9 Kernel: 5.15 Compiler: gcc gcc (GCC) 11.5.0 20240719 (Red Hat 11.5.0-11) CentOS Stream 10 Kernel: 5.15 Compiler: gcc gcc (GCC) 14.2.1 20250110 (Red Hat 14.2.1-8) Debian GNU/Linux 12 Kernel: 5.15 Compiler: gcc gcc (Debian 12.2.0-14+deb12u1) 12.2.0 Fedora Linux 42 Kernel: 5.15 Compiler: clang gcc (GCC) 15.2.1 20250808 (Red Hat 15.2.1-1) openSUSE Leap 15.6 Kernel: 5.15 Compiler: gcc gcc (SUSE Linux) 7.5.0 Red Hat Enterprise Linux 8.10 Kernel: 5.15 Compiler: gcc gcc (GCC) 8.5.0 20210514 (Red Hat 8.5.0-22) Red Hat Enterprise Linux 9.5 Kernel: 5.15 Compiler: gcc gcc (GCC) 11.5.0 20240719 (Red Hat 11.5.0-2) Ubuntu 22.04 Kernel: 5.15 Compiler: gcc gcc (Ubuntu 11.4.0-1ubuntu1~22.04) 11.4.0 Alpine Linux 3.22.0 Kernel: 5.15 Compiler: gcc gcc (Alpine 14.2.0) 14.2.0 Windows Server 2022 Kernel: 10.0.20348.2031 Compiler: clang 15.0.7, gcc 14.1.0 (MinGW), and MSVC VS 19.39.33521 To view detailed results, visit: https://lab.dpdk.org/results/dashboard/patchsets/34311/ UNH-IOL DPDK Community Lab To manage your email subscriptions, visit: https://lab.dpdk.org/results/dashboard/preferences/subscriptions/