From mboxrd@z Thu Jan 1 00:00:00 1970 Return-Path: Received: from mails.dpdk.org (mails.dpdk.org [217.70.189.124]) by inbox.dpdk.org (Postfix) with ESMTP id 4639D48965 for ; Fri, 17 Oct 2025 19:52:57 +0200 (CEST) Received: from mails.dpdk.org (localhost [127.0.0.1]) by mails.dpdk.org (Postfix) with ESMTP id 28789400D7; Fri, 17 Oct 2025 19:52:57 +0200 (CEST) Received: from mail-io1-f100.google.com (mail-io1-f100.google.com [209.85.166.100]) by mails.dpdk.org (Postfix) with ESMTP id 7D020400D7 for ; Fri, 17 Oct 2025 19:52:55 +0200 (CEST) Received: by mail-io1-f100.google.com with SMTP id ca18e2360f4ac-93e2d42d9b4so91537839f.2 for ; Fri, 17 Oct 2025 10:52:55 -0700 (PDT) DKIM-Signature: v=1; a=rsa-sha256; c=relaxed/relaxed; d=iol.unh.edu; s=unh-iol; t=1760723575; x=1761328375; darn=dpdk.org; h=references:in-reply-to:cc:to:from:subject:message-id:date:from:to :cc:subject:date:message-id:reply-to; bh=x18r5aRGm1vBxehTgF19a41pTiqX5rmPWq643LP1LqA=; b=MVSINNgsXsThWt8+UgoGAzPb5sMHvw6GALhj4fepGKtRQ3PLhSYgt7caQK9+P+wVk0 S/MVipc39Mz9kQHNgx3CRH5DC+A40YnWgaTiEDJm9+rDasOBENt1tN/VyTGb5aht3Y3o qeNA9IQR7EBl0+WViD1FExz1Et779eqsinOjM= X-Google-DKIM-Signature: v=1; a=rsa-sha256; c=relaxed/relaxed; d=1e100.net; s=20230601; t=1760723575; x=1761328375; h=references:in-reply-to:cc:to:from:subject:message-id:date :x-gm-message-state:from:to:cc:subject:date:message-id:reply-to; bh=x18r5aRGm1vBxehTgF19a41pTiqX5rmPWq643LP1LqA=; b=YB64dBrvwRAf3TJRw0FEjIgWjI2/r78r6W2ZjskEX9bzqkYKfwHCxZh1dha+b1g0Y8 Ff/i9ZCFFQwUVystXlABdoVK6sKkERMgRReSgAuz7sZhRJLQnZVl8Wx+tl5TyGe51BW2 YT8r9ce259A4Pm6rRapY1IlDmj8HSbQnLaVEH+ft1Ksq7W5NGU51R4jSTCHUp+OrKVQM 3THZoZenU2nNpxBWbjdhJU3j2lOvwZfoLKJgLGbojjdsSemiyfhLpfJxXaVc0aZHr0aK tvFiLptbx1I9mvpbJpMrE2Ekfb6t3tMm51BROMl4MbWcuFb7w6N/KDQaVGbWw0601KYp jUhw== X-Gm-Message-State: AOJu0YxT4oIQdv9o8+v/I7cPEqscncWTMzPwG0xhdWK1oTo4T/S5guhm Mr7BBADzHo49RgPrU43SeOkiYO04P2ODtRjvMfnmoUQArsC1rkz95ReHUjEVbAUd/E/8f/dM09T 4m0CPPE8Zk7Hy2OOR4dmbMO+308fXnh4hg+i7SSyw9GBiYFeY1rnbRy5QyS2h X-Gm-Gg: ASbGncuMHpQaXxIoqckX/ej7PhK62SGL/A5KGaLGcO3WtC8f1LB2AzjC5wZ5W/Bt4Gz is7VMt8L5SZLBov8xxufYY7Gu+CF4/NbPXFmf7TbnnXdAwiqnB5JSNXf3F6gi/9e3YXm7oChr/E Do1zY88j8Ig9dN1OBdZXyda7EdHrIqyXpxEo2kBM7XzVE34RfKBToQ+Ftoa9st8i1ou6WBn/QqC VsHRoF4oGBJIA5McCMknejXNNhIMAeRWyEhVbqqO4iS/E/hU5MXy91CYsjarwQ9XuQ9e74UXFe5 Dsw61sMg3xxsv160quunwG5mKlv62opZKY7oqdockkOXnwvWUbDTA52vNb4rypTTr9HHYx7GKgL KohBZ7oeg X-Google-Smtp-Source: AGHT+IFvtkLMOxLEdo2zS6x99m3ahZC10bnmUesubRIN2uKyHBjbIKldMc9sVf9TSmLKdxAVdg+yjgmfRl2q X-Received: by 2002:a05:6e02:2584:b0:430:a4ba:d098 with SMTP id e9e14a558f8ab-430c526604amr64740705ab.14.1760723574705; Fri, 17 Oct 2025 10:52:54 -0700 (PDT) Received: from postal.iol.unh.edu (postal.iol.unh.edu. [2606:4100:3880:1234::84]) by smtp-relay.gmail.com with ESMTPS id 8926c6da1cb9f-5a8a9656e73sm20878173.19.2025.10.17.10.52.54 (version=TLS1_2 cipher=ECDHE-ECDSA-AES128-GCM-SHA256 bits=128/128); Fri, 17 Oct 2025 10:52:54 -0700 (PDT) X-Relaying-Domain: iol.unh.edu Date: Fri, 17 Oct 2025 10:52:54 -0700 (PDT) Message-ID: <68f28276.050a0220.18ca36.0ffaSMTPIN_ADDED_MISSING@mx.google.com> Received: from [172.21.0.2] (unknown [172.18.0.240]) by postal.iol.unh.edu (Postfix) with ESMTP id 427FD6051830; Fri, 17 Oct 2025 13:52:54 -0400 (EDT) Subject: |SUCCESS| pw157822 [PATCH] test/ring_perf: add optional cross L3 cor From: dpdklab@iol.unh.edu To: Test Report Cc: dpdk-test-reports@iol.unh.edu In-Reply-To: <20251017163407.845502-1-sivaprasad.tummala@amd.com> References: <20251017163407.845502-1-sivaprasad.tummala@amd.com> Content-Type: text/plain X-BeenThere: test-report@dpdk.org X-Mailman-Version: 2.1.29 Precedence: list List-Id: automatic DPDK test reports List-Unsubscribe: , List-Archive: List-Post: List-Help: List-Subscribe: , Errors-To: test-report-bounces@dpdk.org Test-Label: iol-unit-amd64-testing Test-Status: SUCCESS http://dpdk.org/patch/157822 _Testing PASS_ Submitter: Sivaprasad Tummala Date: Friday, October 17 2025 16:34:04 DPDK git baseline: Repo:dpdk Branch: master CommitID:fd6bb586ca832c0cd6a84bcf7123a6063b3ae133 157822 --> testing pass Upstream job id: Generic-Unit-Test-DPDK#382920 Test environment and result as below: +-------------------------------+----------------+ | Environment | dpdk_unit_test | +===============================+================+ | CentOS Stream 9 | PASS | +-------------------------------+----------------+ | CentOS Stream 10 | PASS | +-------------------------------+----------------+ | Fedora Linux 41 | PASS | +-------------------------------+----------------+ | Debian GNU/Linux 12 | PASS | +-------------------------------+----------------+ | Fedora Linux 40 | PASS | +-------------------------------+----------------+ | Fedora Linux 42 | PASS | +-------------------------------+----------------+ | Ubuntu 22.04 | PASS | +-------------------------------+----------------+ | Ubuntu 20.04 | PASS | +-------------------------------+----------------+ | Red Hat Enterprise Linux 9.5 | PASS | +-------------------------------+----------------+ | Red Hat Enterprise Linux 8.10 | PASS | +-------------------------------+----------------+ | Ubuntu 24.04 | PASS | +-------------------------------+----------------+ | Windows Server 2022 | PASS | +-------------------------------+----------------+ CentOS Stream 9 Kernel: 5.15 Compiler: gcc gcc (GCC) 11.5.0 20240719 (Red Hat 11.5.0-11) CentOS Stream 10 Kernel: 5.15 Compiler: gcc gcc (GCC) 14.2.1 20250110 (Red Hat 14.2.1-8) Fedora Linux 41 Kernel: 5.15 Compiler: gcc gcc (GCC) 14.3.1 20250523 (Red Hat 14.3.1-1) Debian GNU/Linux 12 Kernel: 5.15 Compiler: gcc gcc (Debian 12.2.0-14+deb12u1) 12.2.0 Fedora Linux 40 Kernel: 5.15 Compiler: clang gcc (GCC) 14.2.1 20240912 (Red Hat 14.2.1-3) Fedora Linux 42 Kernel: 5.15 Compiler: clang gcc (GCC) 15.2.1 20250808 (Red Hat 15.2.1-1) Ubuntu 22.04 Kernel: 5.15 Compiler: gcc gcc (Ubuntu 11.4.0-1ubuntu1~22.04) 11.4.0 Ubuntu 20.04 Kernel: 5.15 Compiler: gcc gcc (Ubuntu 9.4.0-1ubuntu1~20.04.2) 9.4.0 Red Hat Enterprise Linux 9.5 Kernel: 5.15 Compiler: gcc gcc (GCC) 11.5.0 20240719 (Red Hat 11.5.0-2) Red Hat Enterprise Linux 8.10 Kernel: 5.15 Compiler: gcc gcc (GCC) 8.5.0 20210514 (Red Hat 8.5.0-22) Ubuntu 24.04 Kernel: 5.15 Compiler: gcc gcc (Ubuntu 13.3.0-6ubuntu2~24.04) 13.3.0 Windows Server 2022 Kernel: 10.0.20348.2031 Compiler: clang 15.0.7, gcc 14.1.0 (MinGW), and MSVC VS 19.39.33521 To view detailed results, visit: https://lab.dpdk.org/results/dashboard/patchsets/34321/ UNH-IOL DPDK Community Lab To manage your email subscriptions, visit: https://lab.dpdk.org/results/dashboard/preferences/subscriptions/