From mboxrd@z Thu Jan 1 00:00:00 1970 Return-Path: Received: from mails.dpdk.org (mails.dpdk.org [217.70.189.124]) by inbox.dpdk.org (Postfix) with ESMTP id 5327F48966 for ; Fri, 17 Oct 2025 20:05:20 +0200 (CEST) Received: from mails.dpdk.org (localhost [127.0.0.1]) by mails.dpdk.org (Postfix) with ESMTP id 2BF90400D7; Fri, 17 Oct 2025 20:05:20 +0200 (CEST) Received: from mail-vs1-f100.google.com (mail-vs1-f100.google.com [209.85.217.100]) by mails.dpdk.org (Postfix) with ESMTP id 4C24B400D7 for ; Fri, 17 Oct 2025 20:05:18 +0200 (CEST) Received: by mail-vs1-f100.google.com with SMTP id ada2fe7eead31-583a520bd81so744743137.2 for ; Fri, 17 Oct 2025 11:05:18 -0700 (PDT) DKIM-Signature: v=1; a=rsa-sha256; c=relaxed/relaxed; d=iol.unh.edu; s=unh-iol; t=1760724317; x=1761329117; darn=dpdk.org; h=cc:to:from:subject:message-id:date:from:to:cc:subject:date :message-id:reply-to; bh=ZElgDK5C5mYxcWgnDang9Rl/hBn16zb/JcgBUjZEeUQ=; b=BlD5Rzy+va8itqq8gEqujeuW6E3bL5+oC9GU4XkgdSsrrHIqn804f3b2v8z8FRxea5 SNSHRO1706fG6v6hCkrZmS6zWyXHhq1j5VsxNnXDvWYqfVW5ozP9JrFFXyaAaeipmaqD wOBal3QbMRKwGISI1y2xItItvc4Hb5kX7RSi8= X-Google-DKIM-Signature: v=1; a=rsa-sha256; c=relaxed/relaxed; d=1e100.net; s=20230601; t=1760724317; x=1761329117; h=cc:to:from:subject:message-id:date:x-gm-message-state:from:to:cc :subject:date:message-id:reply-to; bh=ZElgDK5C5mYxcWgnDang9Rl/hBn16zb/JcgBUjZEeUQ=; b=evLAuZRF7RmJvVP7CYKQeHzOa/RmGjmP1xCtWptTWojjH0uzEwLNQPZfEbp1ZbVTdr YcAngnQsKpTmfzHocN4u0sV8bPK1bJa+D88fDwocIzpV1yadHw7xInDUwAx80cRJMci6 Ts94jVLK3mKjCjOnRiQ2zcQyXAfx9sgsN28M4gOLs6jDwOweMqFCZCSFyAxtJl6A+5dM WWKnDMnoTnbeYS7lvmaY0Th/l7OcHROTFQOx9ukdKTCCIdSHvSJCMuaND8kSZIzdvcVD aN2tKdMOtuVBB36V2F+hkRgU2zP94CdPbNh46N3eFXmUxa6Im2V29uDMPxtMqFViS+VY KulA== X-Gm-Message-State: AOJu0YyLR98X1SDHNObJz+xR7gnzbbqAMZMjZwy2IDnZ8wVp+5secFuN CAvsxLZ5IBCLZz5whzoDZmZxjE/pjEq5HicEr6fcVEBv1DbnjWb/zo/X9zkHLD711yl6rGPhPCx 3xTvLRnNxzEd44034nba5ktpCm0A8z2icyTRDdGPSCQBVH6kvKNvA X-Gm-Gg: ASbGncsYqPNpVOw51OtWkHCQ6YvXlpfAT36sl49M+0NWg9d7n6B4EC/A59Ts+i523Xn +lgMbBxNZMxhRTKcY4WmX5vxWNU/kO8xcZQVF2AlfwZ64JnX2d2fs4DCuxq21S4hj2eODUnh4a6 h0jvjk+gJKreuU0Zfv0ygsS+QVC0HlAZza1XmW5qFrAnC7zXzWrAkKFWCd/PGagwcYWSoGyxI9S X1SHtOIfblxESSNructZTxCV9CmdTIQKUCE2GeW+yS3f1Lenj1qYd5GMxzwL6wqDyfaBLco7e2y y8VnO3GcHRmzFuJkuG2xhWBnsj5CWAHcd/cfX6y8QSZ5fvf0fOPy3SnItOxWaacXjuXTJuJ08HU T2tQ++oV+ X-Google-Smtp-Source: AGHT+IGVv2dw3TcOTYJr1RGUT+YWXGkbAW0c3K2cW0Dq8xaI3XV/pgVoHI+5N5mETSEMO6nd5Q15ON1ovaFR X-Received: by 2002:a05:6102:e12:b0:5d6:155c:33aa with SMTP id ada2fe7eead31-5d7dd595ebemr2078241137.16.1760724317611; Fri, 17 Oct 2025 11:05:17 -0700 (PDT) Received: from postal.iol.unh.edu (postal.iol.unh.edu. [2606:4100:3880:1234::84]) by smtp-relay.gmail.com with ESMTPS id 6a1803df08f44-87cf54a0befsm332016d6.28.2025.10.17.11.05.17 (version=TLS1_2 cipher=ECDHE-ECDSA-AES128-GCM-SHA256 bits=128/128); Fri, 17 Oct 2025 11:05:17 -0700 (PDT) X-Relaying-Domain: iol.unh.edu Date: Fri, 17 Oct 2025 11:05:17 -0700 (PDT) Message-ID: <68f2855d.050a0220.2ab843.1989SMTPIN_ADDED_MISSING@mx.google.com> Received: from [172.21.0.2] (unknown [172.18.0.240]) by postal.iol.unh.edu (Postfix) with ESMTP id 4F9766050A61; Fri, 17 Oct 2025 14:05:17 -0400 (EDT) Subject: |SUCCESS| [GIT MASTER] b287e404643aeab5bb5db084c142789df187844e From: dpdklab@iol.unh.edu To: Test Report Cc: dpdk-test-reports@iol.unh.edu, Xueming Li , Christian Ehrhardt , Kevin Traynor , Luca Boccassi Content-Type: text/plain X-BeenThere: test-report@dpdk.org X-Mailman-Version: 2.1.29 Precedence: list List-Id: automatic DPDK test reports List-Unsubscribe: , List-Archive: List-Post: List-Help: List-Subscribe: , Errors-To: test-report-bounces@dpdk.org _Testing PASS_ Branch: tags/v24.11 b287e404643aeab5bb5db084c142789df187844e --> testing pass Upstream job id: Generic-DPDK-Compile-Meson#435247 Test environment and result as below: +------------------------------+--------------------+ | Environment | dpdk_meson_compile | +==============================+====================+ | Ubuntu 20.04 | PASS | +------------------------------+--------------------+ | Red Hat Enterprise Linux 9.5 | PASS | +------------------------------+--------------------+ | Fedora Linux 42 | PASS | +------------------------------+--------------------+ | Debian GNU/Linux 12 | PASS | +------------------------------+--------------------+ | Ubuntu 22.04 | PASS | +------------------------------+--------------------+ | Ubuntu 24.04 | PASS | +------------------------------+--------------------+ | CentOS Stream 9 | PASS | +------------------------------+--------------------+ | CentOS Stream 10 | PASS | +------------------------------+--------------------+ Ubuntu 20.04 Kernel: 5.15 Compiler: aarch64-linux-gnu-gcc gcc (Ubuntu 9.4.0-1ubuntu1~20.04.2) 9.4.0 Red Hat Enterprise Linux 9.5 Kernel: 5.4 Compiler: gcc gcc (GCC) 11.5.0 20240719 (Red Hat 11.5.0-2) Fedora Linux 42 Kernel: 5.4 Compiler: gcc gcc (GCC) 15.2.1 20250808 (Red Hat 15.2.1-1) Debian GNU/Linux 12 Kernel: 5.4 Compiler: gcc gcc (Debian 12.2.0-14+deb12u1) 12.2.0 Ubuntu 22.04 Kernel: 5.4 Compiler: gcc gcc (Ubuntu 11.4.0-1ubuntu1~22.04) 11.4.0 Ubuntu 24.04 Kernel: 5.4 Compiler: gcc gcc (Ubuntu 13.3.0-6ubuntu2~24.04) 13.3.0 CentOS Stream 9 Kernel: 5.4 Compiler: gcc gcc (GCC) 11.5.0 20240719 (Red Hat 11.5.0-11) CentOS Stream 10 Kernel: 5.4 Compiler: gcc gcc (GCC) 14.2.1 20250110 (Red Hat 14.2.1-8) To view detailed results, visit: https://lab.dpdk.org/results/dashboard/tarballs/35245/ UNH-IOL DPDK Community Lab To manage your email subscriptions, visit: https://lab.dpdk.org/results/dashboard/preferences/subscriptions/