From mboxrd@z Thu Jan 1 00:00:00 1970 Return-Path: Received: from mails.dpdk.org (mails.dpdk.org [217.70.189.124]) by inbox.dpdk.org (Postfix) with ESMTP id 7A2A048966 for ; Fri, 17 Oct 2025 20:32:59 +0200 (CEST) Received: from mails.dpdk.org (localhost [127.0.0.1]) by mails.dpdk.org (Postfix) with ESMTP id 52AD0400D7; Fri, 17 Oct 2025 20:32:59 +0200 (CEST) Received: from mail-yx1-f97.google.com (mail-yx1-f97.google.com [74.125.224.97]) by mails.dpdk.org (Postfix) with ESMTP id 97DDA400D7 for ; Fri, 17 Oct 2025 20:32:57 +0200 (CEST) Received: by mail-yx1-f97.google.com with SMTP id 956f58d0204a3-63e1c0fd7ddso927453d50.0 for ; Fri, 17 Oct 2025 11:32:57 -0700 (PDT) DKIM-Signature: v=1; a=rsa-sha256; c=relaxed/relaxed; d=iol.unh.edu; s=unh-iol; t=1760725977; x=1761330777; darn=dpdk.org; h=references:in-reply-to:cc:to:from:subject:message-id:date:from:to :cc:subject:date:message-id:reply-to; bh=ekMY31a1tEIZ3xm1+I+5kb/3RvjAcvI2002p1qHYVfY=; b=SfZ4s9QQuTdDpTAVxj0reRSogeQkRUjdypRTQHFYWWYkOBcn3RAAcP/3EYMrjAC2VS WbYboOSlB8SGThpTFGbwZ0CxawHIXMX6aTsPB0cymO5dQXHLdxEjiCX5FtXBolZFSLNF bnBD+HFSflZlcq13hhcK8+bMF5gfLeEx6hPns= X-Google-DKIM-Signature: v=1; a=rsa-sha256; c=relaxed/relaxed; d=1e100.net; s=20230601; t=1760725977; x=1761330777; h=references:in-reply-to:cc:to:from:subject:message-id:date :x-gm-message-state:from:to:cc:subject:date:message-id:reply-to; bh=ekMY31a1tEIZ3xm1+I+5kb/3RvjAcvI2002p1qHYVfY=; b=nQhYoUbgYJ4lHvdch93B4Hnz2GZp04tjVKHlj44sYD/NVirhXHCfb842QGC93QGskj /FvilMGDpobVBChE1cytVpUV6Q3g4X0lBoSmwOsyVN0WKIrEg0yps302WrElgmwZb/dR VkMU2hpAjqB43dV9rq3i/YvZ+wI+7BaZNOptrT9XVv4ibRokjUAC0m8qtrMel2SVVihH +5SavgkN/buYX5mMr20A4kZp4oUj4rqbUZlxaAqQgkWVe2Fb58MfuFSVDf3l8bFEWi9s il3GsJo2gfnv3CP2dZA5Rodyg4FmRPao9GYWv5Awni5eu/H05Qp1b9Fty0qQgpGjSgSF y61Q== X-Gm-Message-State: AOJu0YwPmfWZcO5L/MZf6v1D11+C+MP9C1ca78rpkedCn7S/YU3g4ige 1vnw+GVU5H/BBFCeMF1Qb4y5sslNCg2HROf19amQrymwrFII3gUe1CugXNDzXXnnyG0AkeiEve2 eaCqykw1ZgVBn4lmyGBGr8CjYiNFMHTPaAhrVjdDuvs41 X-Gm-Gg: ASbGnctxA64gCymGHJDLEsoBG29C5rsDXwcceCL7vfTYPesJczacaH08YX9arbPDIKP t3JuEV4OypAzFwG0o/MA/yoGnX2PsmSW3oivFuEEGYssFybuPFipRrp3esWgdlgaOEYMRJr+2ce W+qWW3cKRspfG+G3J0qwadQlWu2WPkXvFEdE1hFW1P6ViAA68phaEvSvpyhlCKOPtMfrupUZUwo JN0+ASfWMVWUNG9NK5zWspBpRBbQ4756nPWHzo8qiy+e+wlR7ppobtnBZsJ2/aZMkT3uPL4m5lx DI0R0ES8tRINdrr/s1vAwl35b74pWcfy2LcQfQ5+EiSW5cw5N//cg4Lcwr9gdnUw3y7o98UT6hi 4EYe3XpHcyu9WxcOqsFvyZ7z5qY4L/yg= X-Google-Smtp-Source: AGHT+IFz6H4W5cbBo8x4VUBSIVogkToACokym5TE46Xd6ttGJ9fcAqrssBICNcWfPTOjfZWybJ1piDHcqAD4 X-Received: by 2002:a05:690e:4185:b0:63e:ac3:7740 with SMTP id 956f58d0204a3-63e160e5a60mr3166014d50.1.1760725976583; Fri, 17 Oct 2025 11:32:56 -0700 (PDT) Received: from postal.iol.unh.edu (postal.iol.unh.edu. [132.177.123.84]) by smtp-relay.gmail.com with ESMTPS id 956f58d0204a3-63e26683cd2sm22373d50.4.2025.10.17.11.32.56 (version=TLS1_2 cipher=ECDHE-ECDSA-AES128-GCM-SHA256 bits=128/128); Fri, 17 Oct 2025 11:32:56 -0700 (PDT) X-Relaying-Domain: iol.unh.edu Date: Fri, 17 Oct 2025 11:32:56 -0700 (PDT) Message-ID: <68f28bd8.530a0220.202926.12a3SMTPIN_ADDED_MISSING@mx.google.com> Received: from [172.21.0.2] (unknown [172.18.0.240]) by postal.iol.unh.edu (Postfix) with ESMTP id 3A70B6050A61; Fri, 17 Oct 2025 14:32:56 -0400 (EDT) Subject: |SUCCESS| pw157783 [PATCH] [v4,1/1] lib/dma: introduce inter-process From: dpdklab@iol.unh.edu To: Test Report Cc: dpdk-test-reports@iol.unh.edu In-Reply-To: <20251017054210.3105218-1-vattunuru@marvell.com> References: <20251017054210.3105218-1-vattunuru@marvell.com> Content-Type: text/plain X-BeenThere: test-report@dpdk.org X-Mailman-Version: 2.1.29 Precedence: list List-Id: automatic DPDK test reports List-Unsubscribe: , List-Archive: List-Post: List-Help: List-Subscribe: , Errors-To: test-report-bounces@dpdk.org Test-Label: iol-compile-arm64-testing Test-Status: SUCCESS http://dpdk.org/patch/157783 _Testing PASS_ Submitter: Vamsi Krishna Date: Friday, October 17 2025 05:42:10 DPDK git baseline: Repo:dpdk Branch: master CommitID:438491733c2d8a109574449d3d6de9b25a05c07c 157783 --> testing pass Upstream job id: Generic-DPDK-Compile-Meson#435293 Test environment and result as below: +------------------------------+--------------------+ | Environment | dpdk_meson_compile | +==============================+====================+ | Red Hat Enterprise Linux 9.5 | PASS | +------------------------------+--------------------+ | Ubuntu 20.04 | PASS | +------------------------------+--------------------+ | Debian GNU/Linux 12 | PASS | +------------------------------+--------------------+ | Fedora Linux 42 | PASS | +------------------------------+--------------------+ | Ubuntu 22.04 | PASS | +------------------------------+--------------------+ | CentOS Stream 9 | PASS | +------------------------------+--------------------+ | Ubuntu 24.04 | PASS | +------------------------------+--------------------+ | CentOS Stream 10 | PASS | +------------------------------+--------------------+ Red Hat Enterprise Linux 9.5 Kernel: 5.4 Compiler: gcc gcc (GCC) 11.5.0 20240719 (Red Hat 11.5.0-2) Ubuntu 20.04 Kernel: 5.15 Compiler: aarch64-linux-gnu-gcc gcc (Ubuntu 9.4.0-1ubuntu1~20.04.2) 9.4.0 Debian GNU/Linux 12 Kernel: 5.4 Compiler: gcc gcc (Debian 12.2.0-14+deb12u1) 12.2.0 Fedora Linux 42 Kernel: 5.4 Compiler: gcc gcc (GCC) 15.2.1 20250808 (Red Hat 15.2.1-1) Ubuntu 22.04 Kernel: 5.4 Compiler: gcc gcc (Ubuntu 11.4.0-1ubuntu1~22.04) 11.4.0 CentOS Stream 9 Kernel: 5.4 Compiler: gcc gcc (GCC) 11.5.0 20240719 (Red Hat 11.5.0-11) Ubuntu 24.04 Kernel: 5.4 Compiler: gcc gcc (Ubuntu 13.3.0-6ubuntu2~24.04) 13.3.0 CentOS Stream 10 Kernel: 5.4 Compiler: gcc gcc (GCC) 14.2.1 20250110 (Red Hat 14.2.1-8) To view detailed results, visit: https://lab.dpdk.org/results/dashboard/patchsets/34308/ UNH-IOL DPDK Community Lab To manage your email subscriptions, visit: https://lab.dpdk.org/results/dashboard/preferences/subscriptions/