From mboxrd@z Thu Jan 1 00:00:00 1970 Return-Path: Received: from mails.dpdk.org (mails.dpdk.org [217.70.189.124]) by inbox.dpdk.org (Postfix) with ESMTP id 7589748966 for ; Fri, 17 Oct 2025 20:44:40 +0200 (CEST) Received: from mails.dpdk.org (localhost [127.0.0.1]) by mails.dpdk.org (Postfix) with ESMTP id 6DEC5400D7; Fri, 17 Oct 2025 20:44:40 +0200 (CEST) Received: from mail-io1-f98.google.com (mail-io1-f98.google.com [209.85.166.98]) by mails.dpdk.org (Postfix) with ESMTP id 913C5400D7 for ; Fri, 17 Oct 2025 20:44:38 +0200 (CEST) Received: by mail-io1-f98.google.com with SMTP id ca18e2360f4ac-91f6ccdbfc8so108201239f.1 for ; Fri, 17 Oct 2025 11:44:38 -0700 (PDT) DKIM-Signature: v=1; a=rsa-sha256; c=relaxed/relaxed; d=iol.unh.edu; s=unh-iol; t=1760726678; x=1761331478; darn=dpdk.org; h=references:in-reply-to:cc:to:from:subject:message-id:date:from:to :cc:subject:date:message-id:reply-to; bh=Ro0wWQ+veQUVDa1PAv/P4jJitg+yWH4OVrwEY9LpnXw=; b=W3ZHCks2u7LIFOa1KQYdCz2eSMhKHAVn5/gGtIoQ11EPiIUOXmi5Wg1AJVDyLaleLO 7+uypME9XFQB1pGfTj49MPPGgVjMz1dNQmU0+sGNEvv4cKoVyaSiB7acsotDecVOMUm2 ACatUL5wgVUt+LTBCrig41TfaZQNE279lyf6g= X-Google-DKIM-Signature: v=1; a=rsa-sha256; c=relaxed/relaxed; d=1e100.net; s=20230601; t=1760726678; x=1761331478; h=references:in-reply-to:cc:to:from:subject:message-id:date :x-gm-message-state:from:to:cc:subject:date:message-id:reply-to; bh=Ro0wWQ+veQUVDa1PAv/P4jJitg+yWH4OVrwEY9LpnXw=; b=cEnuyorCb5jRcbtvEFKeMB4VO8ybFs/lkFCgW1tQZg5b7G6GKt7ZYo7OeTQ9fkPe+A Q0Rd3/NgiZRYz1CnXvofb3xFP92ah0gDqPLhqbTORvW8kp8v20jLx5ZlMTjs+cNLesET lfw7W1PNF8xsn8LJZ6kxOygDiG6mJ0cGPYqWdDDiID273oMoHnp/uScjqr96pQai2I87 JdmqmYafV+mbzq4X8hBPH84qfIxWwZgXfk6kI0E9eiH/xDfeMxttPAnC2VpbUEMjnHZg fLeXB1/Gb0/phBq5+FCIaepBqUkri6g1JSb1FBM/l6NqQmR0qPxERU8bwbcwAqQemnas La/w== X-Gm-Message-State: AOJu0Yz17tkQajXk13ttIrhDcZc0/et9SAf/DtBsLS+ggzGn13c9NWNf 6AjGUsz0vHoECKjta4ZsQo+SQaE3PCrQJnbHyMiXkpWh2MzcgY646arIxkfzzvgfy0vfpuOtQ3o aVxmNeSw/5GAUd36I0p8QlfdrlF/h1L0WcrUFqng9FN9aJnsU0IQWZqdKaF8T X-Gm-Gg: ASbGncvgtclRNrRTLaXPjJXdKRE/XOO8E9ZYyZTgadD70KXexTdwdVkBHNGhuulgUQH yeFvaEBitbDK1NRYGmtxqT0VulqO4R1H1A9cxdQmsQtrPfRGZQGQhazmSVGRL8YGl/GiifJqlIp dm3WRfwBWZTaGui+4JQm4au4I8aAkVUnYTOKKwJBD5a4DjB5iIV6//OOaIs92T91WDvAlJEhAUa lSAaxJThsX0B52BTK4GHIbq3frskpkK8NbZMOFIcT0m5TBkxjofqzKgdNiEG9K64agFW6leKUFI nOY+n+Ovsqj6U7gi2ES/8qRMwib/4HAKlgJz+1ApN9w+s20PziNqToXUWRXvwQXhIIF9DVxUMx1 +oYi+cL3Z X-Google-Smtp-Source: AGHT+IF6dFSXhsehviwGC7ZzHfEq4jcuq3GSZvBz9fiheParzSF2rf5aYOubCDogCQq3P5nQfYcwGelSge9e X-Received: by 2002:a05:6602:2b83:b0:919:9bac:8bb0 with SMTP id ca18e2360f4ac-93e764a890cmr793416639f.19.1760726677835; Fri, 17 Oct 2025 11:44:37 -0700 (PDT) Received: from postal.iol.unh.edu (postal.iol.unh.edu. [2606:4100:3880:1234::84]) by smtp-relay.gmail.com with ESMTPS id ca18e2360f4ac-93e8663b577sm3121639f.6.2025.10.17.11.44.37 (version=TLS1_2 cipher=ECDHE-ECDSA-AES128-GCM-SHA256 bits=128/128); Fri, 17 Oct 2025 11:44:37 -0700 (PDT) X-Relaying-Domain: iol.unh.edu Date: Fri, 17 Oct 2025 11:44:37 -0700 (PDT) Message-ID: <68f28e95.5d0a0220.39251d.18e9SMTPIN_ADDED_MISSING@mx.google.com> Received: from [172.21.0.2] (unknown [172.18.0.240]) by postal.iol.unh.edu (Postfix) with ESMTP id C78B06050A61; Fri, 17 Oct 2025 14:44:36 -0400 (EDT) Subject: |WARNING| pw157805 [PATCH] net/tap: fix interrupt callback crash aft From: dpdklab@iol.unh.edu To: Test Report Cc: dpdk-test-reports@iol.unh.edu, Stephen Hemminger In-Reply-To: <20251017121946.421658-2-rjarry@redhat.com> References: <20251017121946.421658-2-rjarry@redhat.com> Content-Type: text/plain X-BeenThere: test-report@dpdk.org X-Mailman-Version: 2.1.29 Precedence: list List-Id: automatic DPDK test reports List-Unsubscribe: , List-Archive: List-Post: List-Help: List-Subscribe: , Errors-To: test-report-bounces@dpdk.org Test-Label: iol-compile-amd64-testing Test-Status: WARNING http://dpdk.org/patch/157805 _Testing issues_ Submitter: Robin Jarry Date: Friday, October 17 2025 12:19:47 DPDK git baseline: Repo:dpdk-next-net Branch: master CommitID:535c49b6264f1df239703b8250b070e4c4cda2e9 157805 --> testing issues Upstream job id: Generic-DPDK-Compile-Meson#435494 Test environment and result as below: +---------------------+--------------------+-------------------+-------------------------+----------------------+-------------------+------------------+ | Environment | dpdk_meson_compile | dpdk_msvc_compile | dpdk_llvm_clang_compile | dpdk_mingw64_compile | dpdk_compile_spdk | dpdk_compile_ovs | +=====================+====================+===================+=========================+======================+===================+==================+ | FreeBSD 14.2 | PASS | SKIPPED | SKIPPED | SKIPPED | SKIPPED | SKIPPED | +---------------------+--------------------+-------------------+-------------------------+----------------------+-------------------+------------------+ | Ubuntu 20.04 | PASS | SKIPPED | SKIPPED | SKIPPED | SKIPPED | SKIPPED | +---------------------+--------------------+-------------------+-------------------------+----------------------+-------------------+------------------+ | CentOS Stream 9 | PASS | SKIPPED | SKIPPED | SKIPPED | WARN | SKIPPED | +---------------------+--------------------+-------------------+-------------------------+----------------------+-------------------+------------------+ | CentOS Stream 10 | PASS | SKIPPED | SKIPPED | SKIPPED | SKIPPED | SKIPPED | +---------------------+--------------------+-------------------+-------------------------+----------------------+-------------------+------------------+ | Debian GNU/Linux 12 | PEND | SKIPPED | SKIPPED | SKIPPED | PEND | SKIPPED | +---------------------+--------------------+-------------------+-------------------------+----------------------+-------------------+------------------+ | Fedora Linux 42 | PEND | SKIPPED | SKIPPED | SKIPPED | PEND | PEND | +---------------------+--------------------+-------------------+-------------------------+----------------------+-------------------+------------------+ | Windows Server 2022 | SKIPPED | PASS | PASS | PASS | SKIPPED | SKIPPED | +---------------------+--------------------+-------------------+-------------------------+----------------------+-------------------+------------------+ ==== 20 line log output for CentOS Stream 9 (dpdk_compile_spdk): ==== --- Failed to get log output --- ==== End log output ==== FreeBSD 14.2 Kernel: 14.2-RELEASE Compiler: clang 18.1.6 Ubuntu 20.04 Kernel: 4.19 Compiler: gcc gcc (Ubuntu 9.4.0-1ubuntu1~20.04.2) 9.4.0 CentOS Stream 9 Kernel: 5.15 Compiler: gcc gcc (GCC) 11.5.0 20240719 (Red Hat 11.5.0-11) CentOS Stream 10 Kernel: 5.15 Compiler: gcc gcc (GCC) 14.2.1 20250110 (Red Hat 14.2.1-8) Debian GNU/Linux 12 Kernel: 5.15 Compiler: gcc gcc (Debian 12.2.0-14+deb12u1) 12.2.0 Fedora Linux 42 Kernel: 5.15 Compiler: clang gcc (GCC) 15.2.1 20250808 (Red Hat 15.2.1-1) Windows Server 2022 Kernel: 10.0.20348.2031 Compiler: clang 15.0.7, gcc 14.1.0 (MinGW), and MSVC VS 19.39.33521 To view detailed results, visit: https://lab.dpdk.org/results/dashboard/patchsets/34314/ UNH-IOL DPDK Community Lab To manage your email subscriptions, visit: https://lab.dpdk.org/results/dashboard/preferences/subscriptions/