From mboxrd@z Thu Jan 1 00:00:00 1970 Return-Path: Received: from mails.dpdk.org (mails.dpdk.org [217.70.189.124]) by inbox.dpdk.org (Postfix) with ESMTP id A678848966 for ; Fri, 17 Oct 2025 20:58:10 +0200 (CEST) Received: from mails.dpdk.org (localhost [127.0.0.1]) by mails.dpdk.org (Postfix) with ESMTP id A0B3B400D7; Fri, 17 Oct 2025 20:58:10 +0200 (CEST) Received: from mail-yw1-f225.google.com (mail-yw1-f225.google.com [209.85.128.225]) by mails.dpdk.org (Postfix) with ESMTP id 021DF400D7 for ; Fri, 17 Oct 2025 20:58:09 +0200 (CEST) Received: by mail-yw1-f225.google.com with SMTP id 00721157ae682-7815092cd0aso26652307b3.2 for ; Fri, 17 Oct 2025 11:58:09 -0700 (PDT) DKIM-Signature: v=1; a=rsa-sha256; c=relaxed/relaxed; d=iol.unh.edu; s=unh-iol; t=1760727489; x=1761332289; darn=dpdk.org; h=references:in-reply-to:cc:to:from:subject:message-id:date:from:to :cc:subject:date:message-id:reply-to; bh=JzFoRIZQpXPpW/UzvnPVrDLMGsQ+r5k2yfTkqOEADO8=; b=f7lj7ysfBbSgNKKD1tZ2ynzq0jK0XaTvPOMJzq8lwLZt7/Q6vkZk/IzHw14nauKtcP lMJLXXgMlHnA1Ql9Mah5MNfkKQ+CV8KemQyap/mWb1lNd+rAAhMBoQ5Y2NVeMVwZEfsn 9DZgZHWTZmmmXOMfwJRt/mXRZehvvLFByaFys= X-Google-DKIM-Signature: v=1; a=rsa-sha256; c=relaxed/relaxed; d=1e100.net; s=20230601; t=1760727489; x=1761332289; h=references:in-reply-to:cc:to:from:subject:message-id:date :x-gm-message-state:from:to:cc:subject:date:message-id:reply-to; bh=JzFoRIZQpXPpW/UzvnPVrDLMGsQ+r5k2yfTkqOEADO8=; b=sLw+MrjLHmamj71fEsrdxEl/vbVuEbP/ZljobHLalV7+RNNQaYHSFoas03W+bU8J1i d5hIa9Zmk3wuMB43oyGu5vb5l5h9dfKpTo8QPeBGsws5NEWm9q4xVJDb0byEmr/FxNk1 Z09ae5DoLlLofMBO9mcKnwoixixJEg4C7iiUFoDnUZF54fyRUeSdzlo8OjYQ5c2XjSKL 36EzVywBeFeKWismpywz3CZRNDx3O8PAKlkVC5+G2onN/FxkHsz2SNq/Ssrdpng4S43A yltVJQ9iGQG2w06pBBmSWStZwGCJQcebwCZc20BIfyTD8XVnx0mZKs1Y2fzXGYzkaGt6 FFgw== X-Gm-Message-State: AOJu0YxBAjwCjtsnq0QgttsBRzCVFpaekCB96ppWbZEtgQStAsVY2jXc ATqNgkvrsXT8UoTtBUBrLSBGDDjFytcLEJ8hk3h+AlAHIwKl5Ru0Ldxv7xG8AlSj4sH3jPINO+Q N4NGXmKH8lwmWHVsvlNq7UFnTQ2U4FOyJSmPmxhJGmHoFufx3VuSesEtVd1qm X-Gm-Gg: ASbGnctWXnpqZV3APdwlb1dgVEVUUbvk9p7Paep4vWh4lBbRxQcsCfKsn/skw5OD5YY uCSHXfnIjU/sDjSvH0l+j9VXlZDvoRAMDgCji6f79lMrqlAPCFYm5hZAlVGEL2m92h+iMn0bKzI Y7O9CGyWKRYuwdjikDYB4U3kB7Ca2TsMydg6SbdT1i8VPaDRt4ceEJiMXAMHPB3E6+aGdzYgezr TFfNXUObkDMwm/ODimfJRIH3am7Nkf1MwdBpnDlubSDsRJDqv1XR6xetCNLfZ9WVNLV9AtTafSS 9ohi3w2IqFXCm+54IA/t1wLyALAypNcv1yzVyHBxZeNDQ2D1rb32kt9M2RCVmHVXU/3O+Rge1gW kg1H90ZON X-Google-Smtp-Source: AGHT+IH0abXiBJCrX/bkB/hCPTvRElLyyY9pXomVCLvXxTgeJBQ2B3xJzuma4dw7Y3ceeKNiKh37Fd7E7Cwe X-Received: by 2002:a05:690c:6909:b0:77f:a4a2:fd30 with SMTP id 00721157ae682-7836d327843mr46169927b3.47.1760727489292; Fri, 17 Oct 2025 11:58:09 -0700 (PDT) Received: from postal.iol.unh.edu (postal.iol.unh.edu. [2606:4100:3880:1234::84]) by smtp-relay.gmail.com with ESMTPS id 00721157ae682-78463763578sm242227b3.7.2025.10.17.11.58.09 (version=TLS1_2 cipher=ECDHE-ECDSA-AES128-GCM-SHA256 bits=128/128); Fri, 17 Oct 2025 11:58:09 -0700 (PDT) X-Relaying-Domain: iol.unh.edu Date: Fri, 17 Oct 2025 11:58:09 -0700 (PDT) Message-ID: <68f291c1.050a0220.25bed.143bSMTPIN_ADDED_MISSING@mx.google.com> Received: from [172.21.0.2] (unknown [172.18.0.240]) by postal.iol.unh.edu (Postfix) with ESMTP id F160D604D420; Fri, 17 Oct 2025 14:58:08 -0400 (EDT) Subject: |WARNING| pw157802-157804 [PATCH] [RFC,3/3] app/testpmd: support por From: dpdklab@iol.unh.edu To: Test Report Cc: dpdk-test-reports@iol.unh.edu, Stephen Hemminger In-Reply-To: <20251017111109.1734792-4-ciara.loftus@intel.com> References: <20251017111109.1734792-4-ciara.loftus@intel.com> Content-Type: text/plain X-BeenThere: test-report@dpdk.org X-Mailman-Version: 2.1.29 Precedence: list List-Id: automatic DPDK test reports List-Unsubscribe: , List-Archive: List-Post: List-Help: List-Subscribe: , Errors-To: test-report-bounces@dpdk.org Test-Label: iol-compile-amd64-testing Test-Status: WARNING http://dpdk.org/patch/157804 _Testing issues_ Submitter: Loftus, Ciara Date: Friday, October 17 2025 11:11:09 DPDK git baseline: Repo:dpdk-next-net Branch: master CommitID:535c49b6264f1df239703b8250b070e4c4cda2e9 157802-157804 --> testing issues Upstream job id: Generic-DPDK-Compile-Meson#435491 Test environment and result as below: +-------------------------------+--------------------+-------------------+-------------------------+----------------------+-------------------+------------------+ | Environment | dpdk_meson_compile | dpdk_msvc_compile | dpdk_llvm_clang_compile | dpdk_mingw64_compile | dpdk_compile_spdk | dpdk_compile_ovs | +===============================+====================+===================+=========================+======================+===================+==================+ | FreeBSD 14.2 | PASS | SKIPPED | SKIPPED | SKIPPED | SKIPPED | SKIPPED | +-------------------------------+--------------------+-------------------+-------------------------+----------------------+-------------------+------------------+ | Ubuntu 20.04 | PASS | SKIPPED | SKIPPED | SKIPPED | SKIPPED | SKIPPED | +-------------------------------+--------------------+-------------------+-------------------------+----------------------+-------------------+------------------+ | CentOS Stream 9 | PASS | SKIPPED | SKIPPED | SKIPPED | WARN | SKIPPED | +-------------------------------+--------------------+-------------------+-------------------------+----------------------+-------------------+------------------+ | CentOS Stream 10 | PASS | SKIPPED | SKIPPED | SKIPPED | SKIPPED | SKIPPED | +-------------------------------+--------------------+-------------------+-------------------------+----------------------+-------------------+------------------+ | Debian GNU/Linux 12 | PASS | SKIPPED | SKIPPED | SKIPPED | WARN | SKIPPED | +-------------------------------+--------------------+-------------------+-------------------------+----------------------+-------------------+------------------+ | Fedora Linux 42 | PASS | SKIPPED | SKIPPED | SKIPPED | WARN | PASS | +-------------------------------+--------------------+-------------------+-------------------------+----------------------+-------------------+------------------+ | openSUSE Leap 15.6 | PASS | SKIPPED | SKIPPED | SKIPPED | SKIPPED | SKIPPED | +-------------------------------+--------------------+-------------------+-------------------------+----------------------+-------------------+------------------+ | Red Hat Enterprise Linux 8.10 | PASS | SKIPPED | SKIPPED | SKIPPED | SKIPPED | SKIPPED | +-------------------------------+--------------------+-------------------+-------------------------+----------------------+-------------------+------------------+ | Red Hat Enterprise Linux 9.5 | PASS | SKIPPED | SKIPPED | SKIPPED | SKIPPED | SKIPPED | +-------------------------------+--------------------+-------------------+-------------------------+----------------------+-------------------+------------------+ | Ubuntu 22.04 | PASS | SKIPPED | SKIPPED | SKIPPED | WARN | SKIPPED | +-------------------------------+--------------------+-------------------+-------------------------+----------------------+-------------------+------------------+ | Ubuntu 24.04 | PASS | SKIPPED | SKIPPED | SKIPPED | WARN | PASS | +-------------------------------+--------------------+-------------------+-------------------------+----------------------+-------------------+------------------+ | Alpine Linux 3.22.0 | PASS | SKIPPED | SKIPPED | SKIPPED | SKIPPED | SKIPPED | +-------------------------------+--------------------+-------------------+-------------------------+----------------------+-------------------+------------------+ | Windows Server 2022 | SKIPPED | PASS | PASS | PASS | SKIPPED | SKIPPED | +-------------------------------+--------------------+-------------------+-------------------------+----------------------+-------------------+------------------+ ==== 20 line log output for Ubuntu 24.04 (dpdk_compile_spdk): ==== --- Failed to get log output --- ==== End log output ==== FreeBSD 14.2 Kernel: 14.2-RELEASE Compiler: clang 18.1.6 Ubuntu 20.04 Kernel: 4.19 Compiler: gcc gcc (Ubuntu 9.4.0-1ubuntu1~20.04.2) 9.4.0 CentOS Stream 9 Kernel: 5.15 Compiler: gcc gcc (GCC) 11.5.0 20240719 (Red Hat 11.5.0-11) CentOS Stream 10 Kernel: 5.15 Compiler: gcc gcc (GCC) 14.2.1 20250110 (Red Hat 14.2.1-8) Debian GNU/Linux 12 Kernel: 5.15 Compiler: gcc gcc (Debian 12.2.0-14+deb12u1) 12.2.0 Fedora Linux 42 Kernel: 5.15 Compiler: clang gcc (GCC) 15.2.1 20250808 (Red Hat 15.2.1-1) openSUSE Leap 15.6 Kernel: 5.15 Compiler: gcc gcc (SUSE Linux) 7.5.0 Red Hat Enterprise Linux 8.10 Kernel: 5.15 Compiler: gcc gcc (GCC) 8.5.0 20210514 (Red Hat 8.5.0-22) Red Hat Enterprise Linux 9.5 Kernel: 5.15 Compiler: gcc gcc (GCC) 11.5.0 20240719 (Red Hat 11.5.0-2) Ubuntu 22.04 Kernel: 5.15 Compiler: gcc gcc (Ubuntu 11.4.0-1ubuntu1~22.04) 11.4.0 Ubuntu 24.04 Kernel: 5.15 Compiler: gcc gcc (Ubuntu 13.3.0-6ubuntu2~24.04) 13.3.0 Alpine Linux 3.22.0 Kernel: 5.15 Compiler: gcc gcc (Alpine 14.2.0) 14.2.0 Windows Server 2022 Kernel: 10.0.20348.2031 Compiler: clang 15.0.7, gcc 14.1.0 (MinGW), and MSVC VS 19.39.33521 To view detailed results, visit: https://lab.dpdk.org/results/dashboard/patchsets/34313/ UNH-IOL DPDK Community Lab To manage your email subscriptions, visit: https://lab.dpdk.org/results/dashboard/preferences/subscriptions/