From mboxrd@z Thu Jan 1 00:00:00 1970 Return-Path: Received: from mails.dpdk.org (mails.dpdk.org [217.70.189.124]) by inbox.dpdk.org (Postfix) with ESMTP id A954C48966 for ; Fri, 17 Oct 2025 21:26:27 +0200 (CEST) Received: from mails.dpdk.org (localhost [127.0.0.1]) by mails.dpdk.org (Postfix) with ESMTP id 9105F400D7; Fri, 17 Oct 2025 21:26:27 +0200 (CEST) Received: from mail-pg1-f227.google.com (mail-pg1-f227.google.com [209.85.215.227]) by mails.dpdk.org (Postfix) with ESMTP id F1452400D7 for ; Fri, 17 Oct 2025 21:26:26 +0200 (CEST) Received: by mail-pg1-f227.google.com with SMTP id 41be03b00d2f7-b6a225b7e9eso1608950a12.0 for ; Fri, 17 Oct 2025 12:26:26 -0700 (PDT) DKIM-Signature: v=1; a=rsa-sha256; c=relaxed/relaxed; d=iol.unh.edu; s=unh-iol; t=1760729186; x=1761333986; darn=dpdk.org; h=references:in-reply-to:cc:to:from:subject:message-id:date:from:to :cc:subject:date:message-id:reply-to; bh=acRUr+lQG+TSnj8h+cBOvDYjlm/bKJohpzYWA/OpliQ=; b=aTWSyutSKiCiBc690YD3g3oXgEAermRI5j1o89tinqqXvp6Vqo3oMb2xHHWmWs0UAL iRLmvwBapWykdYh5YD5KOhJzbb3Q7rbLJIRpe01yArNPHIXSjLPosk8VHOM8b+lO9hgw jeTUVWcqq0yJ7yI55sIXrUEWfysXMa5j1Y28w= X-Google-DKIM-Signature: v=1; a=rsa-sha256; c=relaxed/relaxed; d=1e100.net; s=20230601; t=1760729186; x=1761333986; h=references:in-reply-to:cc:to:from:subject:message-id:date :x-gm-message-state:from:to:cc:subject:date:message-id:reply-to; bh=acRUr+lQG+TSnj8h+cBOvDYjlm/bKJohpzYWA/OpliQ=; b=EK0+Pi/UmTrviVC53FG73PLp6MuarR+CzOD9JLgyBy2P9lOA0W5cXOCWtKv1GOEurJ +uAtlER8UkP/xp7ElnGjeiyyXc4Eiws3YQC9My0P9xkoPKo5KDfD43l/APYsHvn64sau tItZHXU8S8qbrxsYW1jEczJiI9p/3NG0WhGOxGcH8WiyIKwM1fnFDnuohn8RE+iLXbvX rySLgHANy5OtlHIMe23h5skQcZAKfxnZSbnIuT1hd3l14NVDR+AApUunPWoysgvXXV1I lnCoVLkQSR7lKH7G7MjNirbXG+5p9Pv9+DhmhqWqi0dvVQN1NVfZMPz3fVf9/mSKUkJY KZJA== X-Gm-Message-State: AOJu0YyMMPubhFSe6Oi04uumgYAq8WYsjWHageYrD/8qt1OLHGsAdMG4 Jz0cwrpJvq4qLdCKAdyBIfX9NVgGhTZzISMoq9nNK4q5L1qCLNd5md9ZERmGA6GKXKU3J1FtV+u hgfEUnNHLuowlpkthBBbfEegGKYTTofQRvGhRVFBlxmugfOQ4vVU8cC5Zfr25 X-Gm-Gg: ASbGncuMGJ9mEohr7dHbSCQxsrVSl5M4IJxZ/wrljtvvAg9ucvs7HVKPj1CZUBKsAHP cjdmLjBve3FL+nb9sfooSS++KkxShyfQbl9YwGHYSn4SnF5g/HujoVIor3/+J306jobGsquWE0B wk97q29jK2iQSIMchfxvLCR0cnPU6Uw45sGSxJdmFg/zsT9m8BsYXzugQe0OPtB8FYHZQkm56PJ ksSOOfqWGI+ImwJ2JC5NjtXOiFSQPvhqeFenHObRGAkoFKOYTZkTZinVQMUNxqLep5NGGn0NR38 x8odr+7KP8HC+M0HNmx75KhQQtvgd5ehEKJ0NqisB1k2piXo62fEb3+r1tmmn35IUlRwXNdeSNh mETT4+2gi X-Google-Smtp-Source: AGHT+IF4l3zb+PQVOvqckcFnBWAaxfcKhzs7kjGMf0Bp/ZLnb2kjUjHhw2kUNPMgTdOy6oYxqTGRUQO+Oq4z X-Received: by 2002:a17:903:19cf:b0:28e:cc41:b0df with SMTP id d9443c01a7336-290cba4840fmr61807255ad.61.1760729185982; Fri, 17 Oct 2025 12:26:25 -0700 (PDT) Received: from postal.iol.unh.edu (postal.iol.unh.edu. [2606:4100:3880:1234::84]) by smtp-relay.gmail.com with ESMTPS id d9443c01a7336-29246fea2b7sm278535ad.2.2025.10.17.12.26.25 (version=TLS1_2 cipher=ECDHE-ECDSA-AES128-GCM-SHA256 bits=128/128); Fri, 17 Oct 2025 12:26:25 -0700 (PDT) X-Relaying-Domain: iol.unh.edu Date: Fri, 17 Oct 2025 12:26:25 -0700 (PDT) Message-ID: <68f29861.170a0220.328657.1769SMTPIN_ADDED_MISSING@mx.google.com> Received: from [172.21.0.2] (unknown [172.18.0.240]) by postal.iol.unh.edu (Postfix) with ESMTP id 2E0F9604D420; Fri, 17 Oct 2025 15:26:25 -0400 (EDT) Subject: |WARNING| pw157805 [PATCH] net/tap: fix interrupt callback crash aft From: dpdklab@iol.unh.edu To: Test Report Cc: dpdk-test-reports@iol.unh.edu, Stephen Hemminger In-Reply-To: <20251017121946.421658-2-rjarry@redhat.com> References: <20251017121946.421658-2-rjarry@redhat.com> Content-Type: text/plain X-BeenThere: test-report@dpdk.org X-Mailman-Version: 2.1.29 Precedence: list List-Id: automatic DPDK test reports List-Unsubscribe: , List-Archive: List-Post: List-Help: List-Subscribe: , Errors-To: test-report-bounces@dpdk.org Test-Label: iol-compile-amd64-testing Test-Status: WARNING http://dpdk.org/patch/157805 _Testing issues_ Submitter: Robin Jarry Date: Friday, October 17 2025 12:19:47 DPDK git baseline: Repo:dpdk-next-net Branch: master CommitID:535c49b6264f1df239703b8250b070e4c4cda2e9 157805 --> testing issues Upstream job id: Generic-DPDK-Compile-Meson#435520 Test environment and result as below: +-------------------------------+--------------------+-------------------+-------------------------+----------------------+-------------------+------------------+ | Environment | dpdk_meson_compile | dpdk_msvc_compile | dpdk_llvm_clang_compile | dpdk_mingw64_compile | dpdk_compile_spdk | dpdk_compile_ovs | +===============================+====================+===================+=========================+======================+===================+==================+ | FreeBSD 14.2 | PASS | SKIPPED | SKIPPED | SKIPPED | SKIPPED | SKIPPED | +-------------------------------+--------------------+-------------------+-------------------------+----------------------+-------------------+------------------+ | Ubuntu 20.04 | PASS | SKIPPED | SKIPPED | SKIPPED | SKIPPED | SKIPPED | +-------------------------------+--------------------+-------------------+-------------------------+----------------------+-------------------+------------------+ | CentOS Stream 9 | PASS | SKIPPED | SKIPPED | SKIPPED | WARN | SKIPPED | +-------------------------------+--------------------+-------------------+-------------------------+----------------------+-------------------+------------------+ | CentOS Stream 10 | PASS | SKIPPED | SKIPPED | SKIPPED | SKIPPED | SKIPPED | +-------------------------------+--------------------+-------------------+-------------------------+----------------------+-------------------+------------------+ | Debian GNU/Linux 12 | PASS | SKIPPED | SKIPPED | SKIPPED | WARN | SKIPPED | +-------------------------------+--------------------+-------------------+-------------------------+----------------------+-------------------+------------------+ | Fedora Linux 42 | PASS | SKIPPED | SKIPPED | SKIPPED | WARN | PASS | +-------------------------------+--------------------+-------------------+-------------------------+----------------------+-------------------+------------------+ | openSUSE Leap 15.6 | PASS | SKIPPED | SKIPPED | SKIPPED | SKIPPED | SKIPPED | +-------------------------------+--------------------+-------------------+-------------------------+----------------------+-------------------+------------------+ | Red Hat Enterprise Linux 8.10 | PASS | SKIPPED | SKIPPED | SKIPPED | SKIPPED | SKIPPED | +-------------------------------+--------------------+-------------------+-------------------------+----------------------+-------------------+------------------+ | Red Hat Enterprise Linux 9.5 | PASS | SKIPPED | SKIPPED | SKIPPED | SKIPPED | SKIPPED | +-------------------------------+--------------------+-------------------+-------------------------+----------------------+-------------------+------------------+ | Ubuntu 22.04 | PASS | SKIPPED | SKIPPED | SKIPPED | WARN | SKIPPED | +-------------------------------+--------------------+-------------------+-------------------------+----------------------+-------------------+------------------+ | Ubuntu 24.04 | PASS | SKIPPED | SKIPPED | SKIPPED | WARN | PASS | +-------------------------------+--------------------+-------------------+-------------------------+----------------------+-------------------+------------------+ | Alpine Linux 3.22.0 | PASS | SKIPPED | SKIPPED | SKIPPED | SKIPPED | SKIPPED | +-------------------------------+--------------------+-------------------+-------------------------+----------------------+-------------------+------------------+ | Windows Server 2022 | SKIPPED | PASS | PASS | PASS | SKIPPED | SKIPPED | +-------------------------------+--------------------+-------------------+-------------------------+----------------------+-------------------+------------------+ ==== 20 line log output for Ubuntu 24.04 (dpdk_compile_spdk): ==== --- Failed to get log output --- ==== End log output ==== FreeBSD 14.2 Kernel: 14.2-RELEASE Compiler: clang 18.1.6 Ubuntu 20.04 Kernel: 4.19 Compiler: gcc gcc (Ubuntu 9.4.0-1ubuntu1~20.04.2) 9.4.0 CentOS Stream 9 Kernel: 5.15 Compiler: gcc gcc (GCC) 11.5.0 20240719 (Red Hat 11.5.0-11) CentOS Stream 10 Kernel: 5.15 Compiler: gcc gcc (GCC) 14.2.1 20250110 (Red Hat 14.2.1-8) Debian GNU/Linux 12 Kernel: 5.15 Compiler: gcc gcc (Debian 12.2.0-14+deb12u1) 12.2.0 Fedora Linux 42 Kernel: 5.15 Compiler: clang gcc (GCC) 15.2.1 20250808 (Red Hat 15.2.1-1) openSUSE Leap 15.6 Kernel: 5.15 Compiler: gcc gcc (SUSE Linux) 7.5.0 Red Hat Enterprise Linux 8.10 Kernel: 5.15 Compiler: gcc gcc (GCC) 8.5.0 20210514 (Red Hat 8.5.0-22) Red Hat Enterprise Linux 9.5 Kernel: 5.15 Compiler: gcc gcc (GCC) 11.5.0 20240719 (Red Hat 11.5.0-2) Ubuntu 22.04 Kernel: 5.15 Compiler: gcc gcc (Ubuntu 11.4.0-1ubuntu1~22.04) 11.4.0 Ubuntu 24.04 Kernel: 5.15 Compiler: gcc gcc (Ubuntu 13.3.0-6ubuntu2~24.04) 13.3.0 Alpine Linux 3.22.0 Kernel: 5.15 Compiler: gcc gcc (Alpine 14.2.0) 14.2.0 Windows Server 2022 Kernel: 10.0.20348.2031 Compiler: clang 15.0.7, gcc 14.1.0 (MinGW), and MSVC VS 19.39.33521 To view detailed results, visit: https://lab.dpdk.org/results/dashboard/patchsets/34314/ UNH-IOL DPDK Community Lab To manage your email subscriptions, visit: https://lab.dpdk.org/results/dashboard/preferences/subscriptions/