From mboxrd@z Thu Jan 1 00:00:00 1970 Return-Path: Received: from mails.dpdk.org (mails.dpdk.org [217.70.189.124]) by inbox.dpdk.org (Postfix) with ESMTP id 293A348967 for ; Fri, 17 Oct 2025 22:08:37 +0200 (CEST) Received: from mails.dpdk.org (localhost [127.0.0.1]) by mails.dpdk.org (Postfix) with ESMTP id 1F2FC400D7; Fri, 17 Oct 2025 22:08:37 +0200 (CEST) Received: from mail-io1-f97.google.com (mail-io1-f97.google.com [209.85.166.97]) by mails.dpdk.org (Postfix) with ESMTP id 0857C400D7 for ; Fri, 17 Oct 2025 22:08:32 +0200 (CEST) Received: by mail-io1-f97.google.com with SMTP id ca18e2360f4ac-93e871dbe94so19459839f.0 for ; Fri, 17 Oct 2025 13:08:31 -0700 (PDT) DKIM-Signature: v=1; a=rsa-sha256; c=relaxed/relaxed; d=iol.unh.edu; s=unh-iol; t=1760731711; x=1761336511; darn=dpdk.org; h=references:in-reply-to:cc:to:from:subject:message-id:date:from:to :cc:subject:date:message-id:reply-to; bh=zokxa4H6rbJe2FQ3V3cp+6BR2j59/ZVelqBs7Rtv0T0=; b=cVFVuE7nsQNI2QTik5gacBcGyo5k/MQZfjhKPdt8AHPF7cc+tXmcFkf1LKzxUonAzD kWae9n2LT8LzMhj9qaVrSJ0iH2b80WNpFGBAF13MftpJzmuBw/zjqn3ZNEGwzw9Qnmc0 G7ZLQRuyvUq2QLXcv2rBNIbgycuwMgjNYZ8s0= X-Google-DKIM-Signature: v=1; a=rsa-sha256; c=relaxed/relaxed; d=1e100.net; s=20230601; t=1760731711; x=1761336511; h=references:in-reply-to:cc:to:from:subject:message-id:date :x-gm-message-state:from:to:cc:subject:date:message-id:reply-to; bh=zokxa4H6rbJe2FQ3V3cp+6BR2j59/ZVelqBs7Rtv0T0=; b=qAY65242aZDm2V+P53onPMJLomCGQi6WiXS5KjdlWTXAziBz5or65jSiIZbWsfUprd A1SkzquOkztXzPH+zFGAghtiI+Ui6IuqpZkj3GXPCBu5XCuUBxlaCR+AOFf3tgdyIEtC 5I1pAdE6pJNxRYcKz1HWGYyO2ys89n5UFBGvCsuBljcP5dYViDcT5AkFh44tD95S4LuS 8v0djsTtKXirDWDRnyNyWXRacUZJnQCRmOuVu1zgAg32kufvJrgNr4rrKog+CUP3wR8D VM9kbj87t0N8J9wE/9o4YUpSxfoOFodBE0dNtk2YlDAzbEmtwsPMaONnmuzHnJ2x0W0J qQqw== X-Gm-Message-State: AOJu0YyQs2GSavCUei1fmH6GgFRzeySBXw77Wrv40CpeksEr7Rfw9UCs q4MqYQNoLUKZKzEox3KbFlpK37KVFXF1Jleu3zdl/oUx7ctoaBoqPJM2WFNv6sUvJWDCr7UYaXw yHAUBP7qE3PAM/rP8jtGBnEUKrq/TKmTYNejKjpNtfoUT X-Gm-Gg: ASbGncvd74JsXjGBCheg2UohC0BNe/BUxU+cgbZu/qMm25IDlnsKhPxarmwV64W7Zei fhXdZffllc/DIqMlAenG6oxbg7v5R1QtiNB0vjRw/I4oWQ0pz9IqrL5cKZ/+DXma+qr3vrb51rh Xe/FxaNXvtUwgrd7P8gbxxo3tUdA+PhwgfjcGphMe3gQWrcafHGxwV+HwGN5EwpGT1IuFS0nrpg Tr2CkoymuSkI7Kj2xMgDjSXBoK8nN0BxIXIhRPjsduOuHZhrYJEVan3CIYfs5ck7DoaeUC460Tw BgMluDreaBr6h1Vbhgw4/wWZyLO+7gr/4D4hFOH0ukKxHYAgzYz6I1vRpMBJUhKtT8Uu25maEzQ q2ZTCrj2ubYJ+BVqZ9QVw28Fkn2bud4g= X-Google-Smtp-Source: AGHT+IEnNMFwLDjkxLUHfVAD4UfzQWr6pIa/4cIRYuSgbzCIAvGtMa1hEADSj4P3pDamknOO7L+hpaoz4VJp X-Received: by 2002:a05:6e02:1a2b:b0:42f:95af:9594 with SMTP id e9e14a558f8ab-430c527e5bbmr74558645ab.23.1760731711318; Fri, 17 Oct 2025 13:08:31 -0700 (PDT) Received: from postal.iol.unh.edu (postal.iol.unh.edu. [132.177.123.84]) by smtp-relay.gmail.com with ESMTPS id e9e14a558f8ab-430d0715fe6sm544655ab.8.2025.10.17.13.08.31 (version=TLS1_2 cipher=ECDHE-ECDSA-AES128-GCM-SHA256 bits=128/128); Fri, 17 Oct 2025 13:08:31 -0700 (PDT) X-Relaying-Domain: iol.unh.edu Date: Fri, 17 Oct 2025 13:08:31 -0700 (PDT) Message-ID: <68f2a23f.050a0220.c64b.2f01SMTPIN_ADDED_MISSING@mx.google.com> Received: from [172.21.0.3] (unknown [172.18.0.240]) by postal.iol.unh.edu (Postfix) with ESMTP id DA6F06051830; Fri, 17 Oct 2025 16:08:30 -0400 (EDT) Subject: |WARNING| pw157807-157808 [PATCH] [v3,2/2] mailmap: sort mailmap From: dpdklab@iol.unh.edu To: Test Report Cc: dpdk-test-reports@iol.unh.edu In-Reply-To: <20251017133812.1109638-3-bruce.richardson@intel.com> References: <20251017133812.1109638-3-bruce.richardson@intel.com> Content-Type: text/plain X-BeenThere: test-report@dpdk.org X-Mailman-Version: 2.1.29 Precedence: list List-Id: automatic DPDK test reports List-Unsubscribe: , List-Archive: List-Post: List-Help: List-Subscribe: , Errors-To: test-report-bounces@dpdk.org Test-Label: iol-compile-amd64-testing Test-Status: WARNING http://dpdk.org/patch/157808 _Testing issues_ Submitter: Bruce Richardson Date: Friday, October 17 2025 13:38:08 DPDK git baseline: Repo:dpdk Branch: master CommitID:438491733c2d8a109574449d3d6de9b25a05c07c 157807-157808 --> testing issues Upstream job id: Generic-DPDK-Compile-Meson#435535 Test environment and result as below: +-------------------------------+-------------------------+-------------------+--------------------+----------------------+-------------------+------------------+ | Environment | dpdk_llvm_clang_compile | dpdk_msvc_compile | dpdk_meson_compile | dpdk_mingw64_compile | dpdk_compile_spdk | dpdk_compile_ovs | +===============================+=========================+===================+====================+======================+===================+==================+ | Windows Server 2022 | PASS | PASS | SKIPPED | PASS | SKIPPED | SKIPPED | +-------------------------------+-------------------------+-------------------+--------------------+----------------------+-------------------+------------------+ | FreeBSD 14.2 | SKIPPED | SKIPPED | PASS | SKIPPED | SKIPPED | SKIPPED | +-------------------------------+-------------------------+-------------------+--------------------+----------------------+-------------------+------------------+ | Ubuntu 20.04 | SKIPPED | SKIPPED | PASS | SKIPPED | SKIPPED | SKIPPED | +-------------------------------+-------------------------+-------------------+--------------------+----------------------+-------------------+------------------+ | CentOS Stream 9 | SKIPPED | SKIPPED | PASS | SKIPPED | WARN | SKIPPED | +-------------------------------+-------------------------+-------------------+--------------------+----------------------+-------------------+------------------+ | CentOS Stream 10 | SKIPPED | SKIPPED | PASS | SKIPPED | SKIPPED | SKIPPED | +-------------------------------+-------------------------+-------------------+--------------------+----------------------+-------------------+------------------+ | Debian GNU/Linux 12 | SKIPPED | SKIPPED | PASS | SKIPPED | WARN | SKIPPED | +-------------------------------+-------------------------+-------------------+--------------------+----------------------+-------------------+------------------+ | Fedora Linux 42 | SKIPPED | SKIPPED | PASS | SKIPPED | WARN | PASS | +-------------------------------+-------------------------+-------------------+--------------------+----------------------+-------------------+------------------+ | openSUSE Leap 15.6 | SKIPPED | SKIPPED | PASS | SKIPPED | SKIPPED | SKIPPED | +-------------------------------+-------------------------+-------------------+--------------------+----------------------+-------------------+------------------+ | Red Hat Enterprise Linux 8.10 | SKIPPED | SKIPPED | PASS | SKIPPED | SKIPPED | SKIPPED | +-------------------------------+-------------------------+-------------------+--------------------+----------------------+-------------------+------------------+ | Red Hat Enterprise Linux 9.5 | SKIPPED | SKIPPED | PASS | SKIPPED | SKIPPED | SKIPPED | +-------------------------------+-------------------------+-------------------+--------------------+----------------------+-------------------+------------------+ | Ubuntu 22.04 | SKIPPED | SKIPPED | PASS | SKIPPED | WARN | SKIPPED | +-------------------------------+-------------------------+-------------------+--------------------+----------------------+-------------------+------------------+ | Ubuntu 24.04 | SKIPPED | SKIPPED | PASS | SKIPPED | WARN | PASS | +-------------------------------+-------------------------+-------------------+--------------------+----------------------+-------------------+------------------+ | Alpine Linux 3.22.0 | SKIPPED | SKIPPED | PASS | SKIPPED | SKIPPED | SKIPPED | +-------------------------------+-------------------------+-------------------+--------------------+----------------------+-------------------+------------------+ ==== 20 line log output for Ubuntu 24.04 (dpdk_compile_spdk): ==== --- Failed to get log output --- ==== End log output ==== Windows Server 2022 Kernel: 10.0.20348.2031 Compiler: clang 15.0.7, gcc 14.1.0 (MinGW), and MSVC VS 19.39.33521 FreeBSD 14.2 Kernel: 14.2-RELEASE Compiler: clang 18.1.6 Ubuntu 20.04 Kernel: 4.19 Compiler: gcc gcc (Ubuntu 9.4.0-1ubuntu1~20.04.2) 9.4.0 CentOS Stream 9 Kernel: 5.15 Compiler: gcc gcc (GCC) 11.5.0 20240719 (Red Hat 11.5.0-11) CentOS Stream 10 Kernel: 5.15 Compiler: gcc gcc (GCC) 14.2.1 20250110 (Red Hat 14.2.1-8) Debian GNU/Linux 12 Kernel: 5.15 Compiler: gcc gcc (Debian 12.2.0-14+deb12u1) 12.2.0 Fedora Linux 42 Kernel: 5.15 Compiler: clang gcc (GCC) 15.2.1 20250808 (Red Hat 15.2.1-1) openSUSE Leap 15.6 Kernel: 5.15 Compiler: gcc gcc (SUSE Linux) 7.5.0 Red Hat Enterprise Linux 8.10 Kernel: 5.15 Compiler: gcc gcc (GCC) 8.5.0 20210514 (Red Hat 8.5.0-22) Red Hat Enterprise Linux 9.5 Kernel: 5.15 Compiler: gcc gcc (GCC) 11.5.0 20240719 (Red Hat 11.5.0-2) Ubuntu 22.04 Kernel: 5.15 Compiler: gcc gcc (Ubuntu 11.4.0-1ubuntu1~22.04) 11.4.0 Ubuntu 24.04 Kernel: 5.15 Compiler: gcc gcc (Ubuntu 13.3.0-6ubuntu2~24.04) 13.3.0 Alpine Linux 3.22.0 Kernel: 5.15 Compiler: gcc gcc (Alpine 14.2.0) 14.2.0 To view detailed results, visit: https://lab.dpdk.org/results/dashboard/patchsets/34316/ UNH-IOL DPDK Community Lab To manage your email subscriptions, visit: https://lab.dpdk.org/results/dashboard/preferences/subscriptions/