From mboxrd@z Thu Jan 1 00:00:00 1970 Return-Path: Received: from mails.dpdk.org (mails.dpdk.org [217.70.189.124]) by inbox.dpdk.org (Postfix) with ESMTP id 9269B48967 for ; Fri, 17 Oct 2025 22:24:21 +0200 (CEST) Received: from mails.dpdk.org (localhost [127.0.0.1]) by mails.dpdk.org (Postfix) with ESMTP id 8ECAB400D7; Fri, 17 Oct 2025 22:24:21 +0200 (CEST) Received: from mail-pg1-f225.google.com (mail-pg1-f225.google.com [209.85.215.225]) by mails.dpdk.org (Postfix) with ESMTP id C4275400D7 for ; Fri, 17 Oct 2025 22:24:18 +0200 (CEST) Received: by mail-pg1-f225.google.com with SMTP id 41be03b00d2f7-b5515eaefceso1931254a12.2 for ; Fri, 17 Oct 2025 13:24:18 -0700 (PDT) DKIM-Signature: v=1; a=rsa-sha256; c=relaxed/relaxed; d=iol.unh.edu; s=unh-iol; t=1760732658; x=1761337458; darn=dpdk.org; h=cc:to:from:subject:message-id:date:from:to:cc:subject:date :message-id:reply-to; bh=TUN6iphb+pmhOimktdnCTOdyyWlccvQ03x1ByXMw5jY=; b=f9W1feuiwU9alOf/MOxeVE+o4tlh0vKiP4wiG9VFjxSxfAVIFHa+ayC+7bQilMRTIt JPE7soybrHz13jq9cVMYwub5dSsq+yfMEoZBnW9aYzuZm1Ne3cxx8klI2bBgh38xuj+a +zOET1pMXVMu3CcXicvTi8WlyuehWQzzXBOnA= X-Google-DKIM-Signature: v=1; a=rsa-sha256; c=relaxed/relaxed; d=1e100.net; s=20230601; t=1760732658; x=1761337458; h=cc:to:from:subject:message-id:date:x-gm-message-state:from:to:cc :subject:date:message-id:reply-to; bh=TUN6iphb+pmhOimktdnCTOdyyWlccvQ03x1ByXMw5jY=; b=CFJnolnuLn0qf3uypeMU+mtjTPzVrFU8SP+9e7HJNtPjJf3v98FmoRly6suYNGv7ct Sxha4HLk8c1XGQrPdDmKiTwBsU+vsQhIZcYGNPeY/MZR26SLHSifVekoiViZCOSN3Pru BXQitKFMJgzvbXMnrlffuBTgStz23G1D+gpwMQOiWWs4yHWTFEZ3ahtZCsIP9ss8QLre n7TFGVsC+GKwSeE5zWcj7Txp+ThZS39yI0IpzvbsFXJaPied5YiqZDTP8I8rWzpCQxz4 VHvP5eqxGSjfZhiN9oCz+2CYB4NrnmYOodGWaF4XgSL5Q8XM3DirXaq9mq1rsOMpGUvo ACsg== X-Gm-Message-State: AOJu0Yy6CFQt+LXOb36KRy9Dv/oKmkhEJVAJFtDzLA1XFJIOAvHkoM/m Rh3iMXOCUG9hH3zDU1WdS9Y3UWVW8qLOsTLpTTeaRRdcDLDVN5BlI2x4b1cgVCRK1KVzlulmv9w wHchV2/0ipEi2oJLOG6TaE+1Yt8MyOl9j3kuxxmn7wgNjpsQfpxBlotyEa581 X-Gm-Gg: ASbGncs0lF0nmmKguMFWYRqS9KVN2Uf2U0wMN9sbK8sSm63ezk4PohD+xkcgVu1oIvM vUs96U+zhmY33XywjneZMV4A7NlbhlN5iVbohOL6lxWDeEPBDBiTujTrpAH5gSb+bNQnL1iBbOv YXHvN+0BQTm5dMYQu3jHVpRGWPffMqrz8wlh4CMwXDZFiyWkmslKfV1dWAZKdMFln41539MGbNI 9nzYNfP70uMoVuptxF34Fuif+hzNW74b7gyRi6UyPmMKUiIevA+kJ/Bz4iRw2OAsBBton61z6EK d0aanPJcoASC530P/m+wZADTfxl1y0BR6IA/VmpGamRe2ZBsXd7lrdD7bMQOg2V85Y+G2aMJLsI k29E3IwO5 X-Google-Smtp-Source: AGHT+IH2yUSS69n63EeFFUChPAj+oBlBwXF9tNWxAc9gjBgoxjQe57qRs62xGPn/D66G0GFWCBGwlyJS9ck+ X-Received: by 2002:a17:903:8c6:b0:290:c0b1:edb8 with SMTP id d9443c01a7336-290cbb4a2ccmr65279565ad.40.1760732657941; Fri, 17 Oct 2025 13:24:17 -0700 (PDT) Received: from postal.iol.unh.edu (postal.iol.unh.edu. [2606:4100:3880:1234::84]) by smtp-relay.gmail.com with ESMTPS id d9443c01a7336-2924701657esm428025ad.24.2025.10.17.13.24.17 (version=TLS1_2 cipher=ECDHE-ECDSA-AES128-GCM-SHA256 bits=128/128); Fri, 17 Oct 2025 13:24:17 -0700 (PDT) X-Relaying-Domain: iol.unh.edu Date: Fri, 17 Oct 2025 13:24:17 -0700 (PDT) Message-ID: <68f2a5f1.170a0220.219116.24a8SMTPIN_ADDED_MISSING@mx.google.com> Received: from [172.21.0.4] (unknown [172.18.0.240]) by postal.iol.unh.edu (Postfix) with ESMTP id 734656051830; Fri, 17 Oct 2025 16:24:17 -0400 (EDT) Subject: |SUCCESS| [GIT MASTER] ce93b6d6b1bb030c87db8666c5403402b362cf5c From: dpdklab@iol.unh.edu To: Test Report Cc: dpdk-test-reports@iol.unh.edu, Akhil Goyal Content-Type: text/plain X-BeenThere: test-report@dpdk.org X-Mailman-Version: 2.1.29 Precedence: list List-Id: automatic DPDK test reports List-Unsubscribe: , List-Archive: List-Post: List-Help: List-Subscribe: , Errors-To: test-report-bounces@dpdk.org _Testing PASS_ Branch: dpdk-next-crypto ce93b6d6b1bb030c87db8666c5403402b362cf5c --> testing pass Upstream job id: Windows-Compile-DPDK-Native#31726 Test environment and result as below: +---------------------+--------------------+-------------------------+-------------------+----------------------+ | Environment | dpdk_meson_compile | dpdk_llvm_clang_compile | dpdk_msvc_compile | dpdk_mingw64_compile | +=====================+====================+=========================+===================+======================+ | Ubuntu 20.04 | PASS | SKIPPED | SKIPPED | SKIPPED | +---------------------+--------------------+-------------------------+-------------------+----------------------+ | FreeBSD 14.2 | PASS | SKIPPED | SKIPPED | SKIPPED | +---------------------+--------------------+-------------------------+-------------------+----------------------+ | Windows Server 2022 | SKIPPED | PASS | PASS | PASS | +---------------------+--------------------+-------------------------+-------------------+----------------------+ Ubuntu 20.04 Kernel: 4.19 Compiler: gcc gcc (Ubuntu 9.4.0-1ubuntu1~20.04.2) 9.4.0 FreeBSD 14.2 Kernel: 14.2-RELEASE Compiler: clang 18.1.6 Windows Server 2022 Kernel: 10.0.20348.2031 Compiler: clang 15.0.7, gcc 14.1.0 (MinGW), and MSVC VS 19.39.33521 To view detailed results, visit: https://lab.dpdk.org/results/dashboard/tarballs/35260/ UNH-IOL DPDK Community Lab To manage your email subscriptions, visit: https://lab.dpdk.org/results/dashboard/preferences/subscriptions/