From mboxrd@z Thu Jan 1 00:00:00 1970 Return-Path: Received: from mails.dpdk.org (mails.dpdk.org [217.70.189.124]) by inbox.dpdk.org (Postfix) with ESMTP id A64FE48967 for ; Fri, 17 Oct 2025 22:32:22 +0200 (CEST) Received: from mails.dpdk.org (localhost [127.0.0.1]) by mails.dpdk.org (Postfix) with ESMTP id A0A82427C7; Fri, 17 Oct 2025 22:32:22 +0200 (CEST) Received: from mail-il1-f228.google.com (mail-il1-f228.google.com [209.85.166.228]) by mails.dpdk.org (Postfix) with ESMTP id A588142DFA for ; Fri, 17 Oct 2025 22:32:21 +0200 (CEST) Received: by mail-il1-f228.google.com with SMTP id e9e14a558f8ab-430cadec5deso7764705ab.1 for ; Fri, 17 Oct 2025 13:32:21 -0700 (PDT) DKIM-Signature: v=1; a=rsa-sha256; c=relaxed/relaxed; d=iol.unh.edu; s=unh-iol; t=1760733141; x=1761337941; darn=dpdk.org; h=cc:to:from:subject:message-id:date:from:to:cc:subject:date :message-id:reply-to; bh=45mSe/l9Whj1S9Cc/QDeDu92d4cYJVS2zsUDUrI7uWI=; b=gAYMoRlilVqFuTVx2fQgm3n63Qab+D3qE+honv5eiKN/lS3YMvIu+iCaaBn0yP3gnu DHm0gopmbbm+FYDymaYvZjZeRDNtULgrtRqTqdPiWNOmmUeMjI9ciGotxL22sb8HfRIJ Fix06ryLWyz6W25aRgs8mL1PJVVlXB9Xbv53Y= X-Google-DKIM-Signature: v=1; a=rsa-sha256; c=relaxed/relaxed; d=1e100.net; s=20230601; t=1760733141; x=1761337941; h=cc:to:from:subject:message-id:date:x-gm-message-state:from:to:cc :subject:date:message-id:reply-to; bh=45mSe/l9Whj1S9Cc/QDeDu92d4cYJVS2zsUDUrI7uWI=; b=HKwSr2ecvBsechj4tI7g9PqJkLvjnarsea5yvhPWsQEuE/xukcV6vQYiL2aGnhfZme +8MLWLn0v6aAMPciIba8pgck+nSkLfmY0GiHcUzkk5O9zP3joSqg8yIymK4uKDZWyQGD wLZJS0nyV45aVcRMIEoyHCNxAiLSxzVJ/F2FUJTruHte+euv8u/C6/afS4hlXOzEuwyt vI/f2Dij65JB2/fyHMCOACAQNWyJutqXg6KOxVpPcOCLeZaKMrxW+jQEWZ1qxgQSdJmC GGdFwIfebih+R5e+n1opM4MmABTunmbPYNO+pexXKojlF0jIb5FUm+WQxGqPz9MTpO1Q TOgg== X-Gm-Message-State: AOJu0YwRh9lg9f6BqVpl4JcfuXodaED6TIcFB12a8JC5P+L1Ff+P4GOC yxVSLTZZ03AtNTZeXh1wkvYY1TuATNH7nbZXJet6raF8uripYu/1NWKd7uaKMXBXGGtP/EB7HhR PuArDcxYnWZZ7FUP91oa+IlZPmWDn5hr/4VhIrREXyqmYWsHAlYzmfGcUGbvq X-Gm-Gg: ASbGnculOdV+2LKScg22QfmZ/OLwLXtPklbTZCoBr7REYrMVNMKwEDsEJdnUKzct3YF PP6KangM3ux+rTTFm8d0UVwSdHrmzIha8FgGBNQ1QUMN8Ap6u9XO9CNylYgZAWWShJlaqfI2H/9 YHgezaoQZIf7LE/ygSFCi4fU5YPF9txG8GvHPN/7ETZBTugquKG8D/IZJNLBuqmZmuLROwBXsBT cynVGCEmYZR+Xtx8be8JfLAxKeYWugczlBs8v1thHlqtCFFruABpomFbqrlvgUNID9zKEvLk/Gp pCtY0EdjgkvQcaSaZ8Ec22MTR17fSTKdNOjJoC2yq2oIXYFQ47qJt458VnZvc9Hw1Ezgvu8dIL/ uaqBAZMAD X-Google-Smtp-Source: AGHT+IEsrbt79ngotiq5/yXbU6JSKf+udiLF5SnrjtAE3cjo4DCxznBzw5o+1Wxvf14+mdnDcSlBSd5foZ7L X-Received: by 2002:a05:6e02:1a66:b0:430:bfbf:4e4a with SMTP id e9e14a558f8ab-430c527a5ddmr69493855ab.16.1760733140990; Fri, 17 Oct 2025 13:32:20 -0700 (PDT) Received: from postal.iol.unh.edu (postal.iol.unh.edu. [2606:4100:3880:1234::84]) by smtp-relay.gmail.com with ESMTPS id 8926c6da1cb9f-5a8a962718csm52724173.11.2025.10.17.13.32.20 (version=TLS1_2 cipher=ECDHE-ECDSA-AES128-GCM-SHA256 bits=128/128); Fri, 17 Oct 2025 13:32:20 -0700 (PDT) X-Relaying-Domain: iol.unh.edu Date: Fri, 17 Oct 2025 13:32:20 -0700 (PDT) Message-ID: <68f2a7d4.050a0220.227212.2ce8SMTPIN_ADDED_MISSING@mx.google.com> Received: from [172.21.0.2] (unknown [172.18.0.240]) by postal.iol.unh.edu (Postfix) with ESMTP id 922356050A61; Fri, 17 Oct 2025 16:32:20 -0400 (EDT) Subject: |SUCCESS| [GIT MASTER] ce93b6d6b1bb030c87db8666c5403402b362cf5c From: dpdklab@iol.unh.edu To: Test Report Cc: dpdk-test-reports@iol.unh.edu, Akhil Goyal Content-Type: text/plain X-BeenThere: test-report@dpdk.org X-Mailman-Version: 2.1.29 Precedence: list List-Id: automatic DPDK test reports List-Unsubscribe: , List-Archive: List-Post: List-Help: List-Subscribe: , Errors-To: test-report-bounces@dpdk.org _Testing PASS_ Branch: dpdk-next-crypto ce93b6d6b1bb030c87db8666c5403402b362cf5c --> testing pass Upstream job id: Generic-VM-Unit-Test-DPDK#31897 Test environment and result as below: +-------------------------------+----------------+ | Environment | dpdk_unit_test | +===============================+================+ | Fedora Linux 42 | PASS | +-------------------------------+----------------+ | Fedora Linux 40 | PASS | +-------------------------------+----------------+ | CentOS Stream 9 | PASS | +-------------------------------+----------------+ | Debian GNU/Linux 12 | PASS | +-------------------------------+----------------+ | Fedora Linux 41 | PASS | +-------------------------------+----------------+ | CentOS Stream 10 | PASS | +-------------------------------+----------------+ | Ubuntu 20.04 | PASS | +-------------------------------+----------------+ | Windows Server 2022 | PASS | +-------------------------------+----------------+ | Ubuntu 24.04 | PASS | +-------------------------------+----------------+ | Ubuntu 22.04 | PASS | +-------------------------------+----------------+ | Red Hat Enterprise Linux 8.10 | PASS | +-------------------------------+----------------+ | Red Hat Enterprise Linux 9.5 | PASS | +-------------------------------+----------------+ Fedora Linux 42 Kernel: 5.15 Compiler: gcc gcc (GCC) 15.2.1 20250808 (Red Hat 15.2.1-1) Fedora Linux 40 Kernel: 5.15 Compiler: clang gcc (GCC) 14.2.1 20240912 (Red Hat 14.2.1-3) CentOS Stream 9 Kernel: 5.15 Compiler: gcc gcc (GCC) 11.5.0 20240719 (Red Hat 11.5.0-11) Debian GNU/Linux 12 Kernel: 5.15 Compiler: gcc gcc (Debian 12.2.0-14+deb12u1) 12.2.0 Fedora Linux 41 Kernel: 5.15 Compiler: gcc gcc (GCC) 14.3.1 20250523 (Red Hat 14.3.1-1) CentOS Stream 10 Kernel: 5.15 Compiler: gcc gcc (GCC) 14.2.1 20250110 (Red Hat 14.2.1-8) Ubuntu 20.04 Kernel: 5.15 Compiler: gcc gcc (Ubuntu 9.4.0-1ubuntu1~20.04.2) 9.4.0 Windows Server 2022 Kernel: 10.0.20348.2031 Compiler: clang 15.0.7, gcc 14.1.0 (MinGW), and MSVC VS 19.39.33521 Ubuntu 24.04 Kernel: 5.15 Compiler: gcc gcc (Ubuntu 13.3.0-6ubuntu2~24.04) 13.3.0 Ubuntu 22.04 Kernel: 5.15 Compiler: gcc gcc (Ubuntu 11.4.0-1ubuntu1~22.04) 11.4.0 Red Hat Enterprise Linux 8.10 Kernel: 5.15 Compiler: gcc gcc (GCC) 8.5.0 20210514 (Red Hat 8.5.0-22) Red Hat Enterprise Linux 9.5 Kernel: 5.15 Compiler: gcc gcc (GCC) 11.5.0 20240719 (Red Hat 11.5.0-2) To view detailed results, visit: https://lab.dpdk.org/results/dashboard/tarballs/35260/ UNH-IOL DPDK Community Lab To manage your email subscriptions, visit: https://lab.dpdk.org/results/dashboard/preferences/subscriptions/