From mboxrd@z Thu Jan 1 00:00:00 1970 Return-Path: Received: from mails.dpdk.org (mails.dpdk.org [217.70.189.124]) by inbox.dpdk.org (Postfix) with ESMTP id DD42148967 for ; Fri, 17 Oct 2025 23:04:40 +0200 (CEST) Received: from mails.dpdk.org (localhost [127.0.0.1]) by mails.dpdk.org (Postfix) with ESMTP id D7119400D7; Fri, 17 Oct 2025 23:04:40 +0200 (CEST) Received: from mail-vk1-f225.google.com (mail-vk1-f225.google.com [209.85.221.225]) by mails.dpdk.org (Postfix) with ESMTP id 0257B400D7 for ; Fri, 17 Oct 2025 23:04:39 +0200 (CEST) Received: by mail-vk1-f225.google.com with SMTP id 71dfb90a1353d-554eb1f3118so867729e0c.0 for ; Fri, 17 Oct 2025 14:04:39 -0700 (PDT) DKIM-Signature: v=1; a=rsa-sha256; c=relaxed/relaxed; d=iol.unh.edu; s=unh-iol; t=1760735079; x=1761339879; darn=dpdk.org; h=references:in-reply-to:cc:to:from:subject:message-id:date:from:to :cc:subject:date:message-id:reply-to; bh=hNmJeQ3Z24BOakXwIoHVPYuUz87Gtgr2VhTBvWDLpUc=; b=Jq2u5eKQpmkbKQjDuzK5o/jy3GEgaIEowzUTZ00IRVWSWV+Ha1odi/uSPzSBeGAs5E D+eQgLe2Qspu23RHT/MEWAT/jkjQFnaLdytTSdRjF1dlF2zOPZDSG/n68d6P+4bB3Rfx aX3dne9JaNq9H0oshT+q0Pk7TMRS4HWunc+20= X-Google-DKIM-Signature: v=1; a=rsa-sha256; c=relaxed/relaxed; d=1e100.net; s=20230601; t=1760735079; x=1761339879; h=references:in-reply-to:cc:to:from:subject:message-id:date :x-gm-message-state:from:to:cc:subject:date:message-id:reply-to; bh=hNmJeQ3Z24BOakXwIoHVPYuUz87Gtgr2VhTBvWDLpUc=; b=trY3B4tD25bzdXC4IuzdwhweiwJreztN06l4kP4zn4Tksk8cOMTlEzsbGU7dfvbC/7 FxhDXTpW/6i1fEebEiwu4sNrYLfhcbDPGdgAPPkIJPUCUItudH/BUC2TGvVeeaCUIyOB XJ6MztRaNuT2z6Qr0u9Ylnx7FpXWS+MM2qs64js7aI6z4LD3GFJPK+1G/49hOiZp3kzz NCCn3ctxp/CkBmXltD3zLAajamSViBCbpzA1IBm9LZ9gbXoseC40pyC/VB7whKT72T2v 34itZROyh/r1e7Ja8bl/BvS4PDri2QCTctLX91O398WAxFVQetTMPA7ZO1Z49GVA9LXM isZQ== X-Gm-Message-State: AOJu0Yyb1LoI6VnqcoTCzcGSEIGLZNBbG2Q5fKxZYcRzTheziq/13fnY Q5pBJiCTtVvqCylT5oxovIVxIAvwDS196lZc6nBJLUPcHj+zPHmOS4F4aj0V/Taai6riGKTfxx0 LqvSMpJCP61Zx1ptRj0KtyKdhtLcr16692L07E0LV1Unl X-Gm-Gg: ASbGncug48jCL1SA+ZMdb1ZqN03u/RZtYBSkIDb2FmIn7tRLAdjuobMcdmB6A9W026Y 1kJNRtVnAzW5ogKikXRZk578RCE0zqzvoxhZhaPZ42Pga4P2y3MDe4BwDJfZAskdftbGXuMi2bv ez+quvn35SRs0ffRHNsW3UWz8Q9+B9WMu8aDZx8k1bnrv45UROxjkNlQ+vS4rBhVL7ZIFSIx/Sj hpkuH9GtpmaMw01oPSuaA1E03qzdSQNWEVM7znVd+0M895GvHxh539BOD4X1fpaasXjA8sFXsKq 8VHacuFGEhg1HtcDkM4TCx3okQCVrMAR2HhFhbg7mtqpX6QmyqKB+oo7ygyXn3aWRx9w2AXGzC+ /cmta1vDQSFzFD0H4B0rjD3uy9XtFSUg= X-Google-Smtp-Source: AGHT+IEa+MgYvrGjOuVCFwvb3q8UpzTer265KylRbdSOCH3J7w5W4rQk0LFAbjwZcYa19BpS4U2H/WeTOzQl X-Received: by 2002:a05:6122:4584:b0:531:19f4:ec19 with SMTP id 71dfb90a1353d-5564ef309famr2266108e0c.9.1760735079243; Fri, 17 Oct 2025 14:04:39 -0700 (PDT) Received: from postal.iol.unh.edu (postal.iol.unh.edu. [132.177.123.84]) by smtp-relay.gmail.com with ESMTPS id 71dfb90a1353d-5566203ec14sm63657e0c.4.2025.10.17.14.04.39 (version=TLS1_2 cipher=ECDHE-ECDSA-AES128-GCM-SHA256 bits=128/128); Fri, 17 Oct 2025 14:04:39 -0700 (PDT) X-Relaying-Domain: iol.unh.edu Date: Fri, 17 Oct 2025 14:04:39 -0700 (PDT) Message-ID: <68f2af67.050a0220.484b2.35c9SMTPIN_ADDED_MISSING@mx.google.com> Received: from [172.21.0.4] (unknown [172.18.0.240]) by postal.iol.unh.edu (Postfix) with ESMTP id EB90D6051830; Fri, 17 Oct 2025 17:04:38 -0400 (EDT) Subject: |SUCCESS| pw157778-157782 [PATCH] [v5,6/6] net/dpaa: fix resource le From: dpdklab@iol.unh.edu To: Test Report Cc: dpdk-test-reports@iol.unh.edu, Stephen Hemminger In-Reply-To: <20251017044848.3269627-7-g.singh@nxp.com> References: <20251017044848.3269627-7-g.singh@nxp.com> Content-Type: text/plain X-BeenThere: test-report@dpdk.org X-Mailman-Version: 2.1.29 Precedence: list List-Id: automatic DPDK test reports List-Unsubscribe: , List-Archive: List-Post: List-Help: List-Subscribe: , Errors-To: test-report-bounces@dpdk.org Test-Label: iol-compile-arm64-testing Test-Status: SUCCESS http://dpdk.org/patch/157782 _Testing PASS_ Submitter: Gagandeep Singh Date: Friday, October 17 2025 04:48:48 DPDK git baseline: Repo:dpdk-next-net Branch: master CommitID:535c49b6264f1df239703b8250b070e4c4cda2e9 157778-157782 --> testing pass Upstream job id: Generic-DPDK-Compile-Meson#435270 Test environment and result as below: +------------------------------+--------------------+ | Environment | dpdk_meson_compile | +==============================+====================+ | Red Hat Enterprise Linux 9.5 | PASS | +------------------------------+--------------------+ | Ubuntu 20.04 | PASS | +------------------------------+--------------------+ | Debian GNU/Linux 12 | PASS | +------------------------------+--------------------+ | Fedora Linux 42 | PASS | +------------------------------+--------------------+ | Ubuntu 22.04 | PASS | +------------------------------+--------------------+ | CentOS Stream 9 | PASS | +------------------------------+--------------------+ | Ubuntu 24.04 | PASS | +------------------------------+--------------------+ | CentOS Stream 10 | PASS | +------------------------------+--------------------+ Red Hat Enterprise Linux 9.5 Kernel: 5.4 Compiler: gcc gcc (GCC) 11.5.0 20240719 (Red Hat 11.5.0-2) Ubuntu 20.04 Kernel: 5.15 Compiler: aarch64-linux-gnu-gcc gcc (Ubuntu 9.4.0-1ubuntu1~20.04.2) 9.4.0 Debian GNU/Linux 12 Kernel: 5.4 Compiler: gcc gcc (Debian 12.2.0-14+deb12u1) 12.2.0 Fedora Linux 42 Kernel: 5.4 Compiler: gcc gcc (GCC) 15.2.1 20250808 (Red Hat 15.2.1-1) Ubuntu 22.04 Kernel: 5.4 Compiler: gcc gcc (Ubuntu 11.4.0-1ubuntu1~22.04) 11.4.0 CentOS Stream 9 Kernel: 5.4 Compiler: gcc gcc (GCC) 11.5.0 20240719 (Red Hat 11.5.0-11) Ubuntu 24.04 Kernel: 5.4 Compiler: gcc gcc (Ubuntu 13.3.0-6ubuntu2~24.04) 13.3.0 CentOS Stream 10 Kernel: 5.4 Compiler: gcc gcc (GCC) 14.2.1 20250110 (Red Hat 14.2.1-8) To view detailed results, visit: https://lab.dpdk.org/results/dashboard/patchsets/34306/ UNH-IOL DPDK Community Lab To manage your email subscriptions, visit: https://lab.dpdk.org/results/dashboard/preferences/subscriptions/