From mboxrd@z Thu Jan 1 00:00:00 1970 Return-Path: Received: from mails.dpdk.org (mails.dpdk.org [217.70.189.124]) by inbox.dpdk.org (Postfix) with ESMTP id 0CAD448967 for ; Fri, 17 Oct 2025 23:26:46 +0200 (CEST) Received: from mails.dpdk.org (localhost [127.0.0.1]) by mails.dpdk.org (Postfix) with ESMTP id 08D03400D7; Fri, 17 Oct 2025 23:26:46 +0200 (CEST) Received: from mail-il1-f227.google.com (mail-il1-f227.google.com [209.85.166.227]) by mails.dpdk.org (Postfix) with ESMTP id 6894C400D7 for ; Fri, 17 Oct 2025 23:26:44 +0200 (CEST) Received: by mail-il1-f227.google.com with SMTP id e9e14a558f8ab-430bf3b7608so17491695ab.3 for ; Fri, 17 Oct 2025 14:26:44 -0700 (PDT) DKIM-Signature: v=1; a=rsa-sha256; c=relaxed/relaxed; d=iol.unh.edu; s=unh-iol; t=1760736403; x=1761341203; darn=dpdk.org; h=references:in-reply-to:cc:to:from:subject:message-id:date:from:to :cc:subject:date:message-id:reply-to; bh=FMF+U3N6tTjUnwCKIBJPssGsAUj50VqTUrYlF2QQuVs=; b=HaVYeq+hRreyrMJR4Z20Fj8UKHapGBYpLvRkXk0Gtqdruukevono+yHYNENNIBn8rB EsCndJznArtC/PNTju9Gtu9YxOzXyn9EX0d6rZA7E1pAL7l5m1H1175jFqrsffr3PLxU 0b1na/0UWwxmyecZh+0tnMivLDhV8ukvINgLo= X-Google-DKIM-Signature: v=1; a=rsa-sha256; c=relaxed/relaxed; d=1e100.net; s=20230601; t=1760736403; x=1761341203; h=references:in-reply-to:cc:to:from:subject:message-id:date :x-gm-message-state:from:to:cc:subject:date:message-id:reply-to; bh=FMF+U3N6tTjUnwCKIBJPssGsAUj50VqTUrYlF2QQuVs=; b=itOoAsnYBTN+ju8IZdFC6r6e6kr8Aso/6aTgDp41qj6kvoU7TXleqGVtMbNZQI7xJp TLUZu4pg15xBC6q1YptAeqSZ2cf3TQKed8byDbuOb5CZaVrWCci9AlkHcKccxFg/TEnZ 8exEMYyA9m2V0gKfAMnZXUSfIBYvwU0z0tmLX/c7AvqNo+DVgPpFADM9VtzhiGox6Pwn 6NHWSZ5bfQqOssRH9vy7vk1QVZUi2RBNrFQ0VeW/hNXKyvXJdiyoWsuwxfd2PaFmbMTl pkMo6ZpHLbCmo38jrIZmmUd2rwP9jMCwZumzvdVtgciGDbJRM2z0WJiNVBfor7hTKa2M 9kdQ== X-Gm-Message-State: AOJu0Yy/3xqzLYF96ENcIMyWgZ63JftehtZpnwGQ/rYG/0WIqSPYIeq+ o9atO83QoL7LVghTd6e3oVDPDtYFPMjYqvgESgHtc7omppJSLR5YUWYb9pYFrGqX+r2S7imzMs3 HMrzpsS0AMFvS7StHwLOocgZWH3JsamweZJMgDNLa1GEF X-Gm-Gg: ASbGncvsGm0/9MnBTOuIsTE31aTPpDI7FpMil3cU4x1I0To+PM8QF9DUeqNSZZgRj9x 0TZNrXf1KzorpMsBfjR67mtfgGHhdfsGDYSnFiaqXNzc/PPiSmwXr3y1OeCXpoGbbtBMq4RTBTQ 1dnm3d4HsLn2O2AhdAdL2VbjDopoWYeMU74fgpXlu6f7lLnhUQ0IZ4rRfez4IoK/uEZ7yLTTzpv K7e7VoAekHZTxuqxRMv1t1nNmV+cJFxE6pBs3lTjGMk28xCFoav7QPs3L9STYYSBxpcu3GUSmRv HLwurF3rdGqh0O8z6wqackIjWT4OpwZaca+t8VyH7kGPhMO7c2RDSnwV1efMTOD+vE0x1VF17lV kqBo/L4VUEJ5JZNVT1IszyrS7zQSktTY= X-Google-Smtp-Source: AGHT+IEn6ELlrEA0YXW1jD+H25870pV5unFPP9UTuhYqOZ/pUMNU9VC4u6MdOytCbMgiJfNxCRQdP9a0J7Ty X-Received: by 2002:a05:6e02:1a82:b0:430:cf19:e682 with SMTP id e9e14a558f8ab-430cf19e837mr35129655ab.13.1760736403664; Fri, 17 Oct 2025 14:26:43 -0700 (PDT) Received: from postal.iol.unh.edu (postal.iol.unh.edu. [132.177.123.84]) by smtp-relay.gmail.com with ESMTPS id 8926c6da1cb9f-5a8a9745a35sm59318173.24.2025.10.17.14.26.43 (version=TLS1_2 cipher=ECDHE-ECDSA-AES128-GCM-SHA256 bits=128/128); Fri, 17 Oct 2025 14:26:43 -0700 (PDT) X-Relaying-Domain: iol.unh.edu Date: Fri, 17 Oct 2025 14:26:43 -0700 (PDT) Message-ID: <68f2b493.050a0220.268b13.2f2dSMTPIN_ADDED_MISSING@mx.google.com> Received: from [172.21.0.2] (unknown [172.18.0.240]) by postal.iol.unh.edu (Postfix) with ESMTP id 550846051830; Fri, 17 Oct 2025 17:26:43 -0400 (EDT) Subject: |SUCCESS| pw157823-157824 [PATCH] [v2,2/2] dts: add QinQ test suite From: dpdklab@iol.unh.edu To: Test Report Cc: dpdk-test-reports@iol.unh.edu In-Reply-To: <20251017203159.557830-2-dmarx@iol.unh.edu> References: <20251017203159.557830-2-dmarx@iol.unh.edu> Content-Type: text/plain X-BeenThere: test-report@dpdk.org X-Mailman-Version: 2.1.29 Precedence: list List-Id: automatic DPDK test reports List-Unsubscribe: , List-Archive: List-Post: List-Help: List-Subscribe: , Errors-To: test-report-bounces@dpdk.org Test-Label: iol-compile-amd64-testing Test-Status: SUCCESS http://dpdk.org/patch/157824 _Testing PASS_ Submitter: Dean Marx Date: Friday, October 17 2025 20:31:59 DPDK git baseline: Repo:dpdk-next-dts Branch: master CommitID:c1a9d3e5a721be9be66f0c4bfd9fa4d6e6af3b98 157823-157824 --> testing pass Upstream job id: Windows-Compile-DPDK-Native#31728 Test environment and result as below: +---------------------+--------------------+-------------------------+-------------------+----------------------+ | Environment | dpdk_meson_compile | dpdk_llvm_clang_compile | dpdk_msvc_compile | dpdk_mingw64_compile | +=====================+====================+=========================+===================+======================+ | Ubuntu 20.04 | PASS | SKIPPED | SKIPPED | SKIPPED | +---------------------+--------------------+-------------------------+-------------------+----------------------+ | FreeBSD 14.2 | PASS | SKIPPED | SKIPPED | SKIPPED | +---------------------+--------------------+-------------------------+-------------------+----------------------+ | Windows Server 2022 | SKIPPED | PASS | PASS | PASS | +---------------------+--------------------+-------------------------+-------------------+----------------------+ Ubuntu 20.04 Kernel: 4.19 Compiler: gcc gcc (Ubuntu 9.4.0-1ubuntu1~20.04.2) 9.4.0 FreeBSD 14.2 Kernel: 14.2-RELEASE Compiler: clang 18.1.6 Windows Server 2022 Kernel: 10.0.20348.2031 Compiler: clang 15.0.7, gcc 14.1.0 (MinGW), and MSVC VS 19.39.33521 To view detailed results, visit: https://lab.dpdk.org/results/dashboard/patchsets/34322/ UNH-IOL DPDK Community Lab To manage your email subscriptions, visit: https://lab.dpdk.org/results/dashboard/preferences/subscriptions/