From mboxrd@z Thu Jan 1 00:00:00 1970 Return-Path: Received: from mails.dpdk.org (mails.dpdk.org [217.70.189.124]) by inbox.dpdk.org (Postfix) with ESMTP id A17D848967 for ; Fri, 17 Oct 2025 23:33:21 +0200 (CEST) Received: from mails.dpdk.org (localhost [127.0.0.1]) by mails.dpdk.org (Postfix) with ESMTP id 9D638400D7; Fri, 17 Oct 2025 23:33:21 +0200 (CEST) Received: from mail-il1-f228.google.com (mail-il1-f228.google.com [209.85.166.228]) by mails.dpdk.org (Postfix) with ESMTP id 032F5400D7 for ; Fri, 17 Oct 2025 23:33:20 +0200 (CEST) Received: by mail-il1-f228.google.com with SMTP id e9e14a558f8ab-430ca464785so8731425ab.0 for ; Fri, 17 Oct 2025 14:33:19 -0700 (PDT) DKIM-Signature: v=1; a=rsa-sha256; c=relaxed/relaxed; d=iol.unh.edu; s=unh-iol; t=1760736799; x=1761341599; darn=dpdk.org; h=references:in-reply-to:cc:to:from:subject:message-id:date:from:to :cc:subject:date:message-id:reply-to; bh=eh91a8klt/LgzfYmVt8hEGx62728bMBtGwjWQTqZuMI=; b=b/XvUW3MYL8+0/oEADsp32rO16PmxCHxkAE8yXXqrbVP9KIKEV7m/ol/7s/EDylYeX sUq/4NHNRLMFR3WkQcuYUxb1fUJQ2eijKC4Y4MkK38LBP/lIBxkXsyRRYRNpphvbE6cp SX9b4Szkd06W1TOrXQEo7XJ0vYQmWpDInv5PE= X-Google-DKIM-Signature: v=1; a=rsa-sha256; c=relaxed/relaxed; d=1e100.net; s=20230601; t=1760736799; x=1761341599; h=references:in-reply-to:cc:to:from:subject:message-id:date :x-gm-message-state:from:to:cc:subject:date:message-id:reply-to; bh=eh91a8klt/LgzfYmVt8hEGx62728bMBtGwjWQTqZuMI=; b=YmmjPruYkgGwHq5NKOR0BpG6IMec4qu+IO1BegkoQyHy0Yiki8J/YRj/X4JjNQ2Bj1 RaXxBsl5ajtvH8CpeeC/LkpUUixmg6DsoZCphkWrzNmgItehcP9EkKe/3eac+gyTqFnG iJ0OsdYqa9t/O+qmYgSjZfZFnCTdTGgKCJou9BwD6P95UwlkEqIiFNnQzrNYBUWGG5lO GIEh36A3HLmRs87cNlM7ZkQpoFoxXUcLVCe4nlMfZkvxZ9HtqZBUyqOLDwbFsSe7JmIZ E+e5DFqfs7X8Oay/PnrHf3In/7dxVF2A7GO1klZONO0xwN6AtigzZEN40NHHEJvqpl56 qBBg== X-Gm-Message-State: AOJu0YxMWT98AOICT/wdHADGroxf/QkmXGSWrXYkix9mAs4W/mN83K75 6fza2y9Sf4t4/W7oRS8D4oNB0SYq/JwCXn+hP6eBrYMbleUneKzFEJ2EGAPoOQ45GB164ZYFQO4 VFhUfRGXpM2PxteuB52u+lG4EAZIf13BpEJQLbmkxnCRY X-Gm-Gg: ASbGncuy1ETifmXF7b4fjENdDvqjqfe1a0IwWjbWDruxTXQL1UT2Sbnpko04xC19to0 mahwUpthwN51QGwz2HJN9SWsSQi+MWxX0KiWiBWN2sPtThJgcIzFdZBM6IhF538xiO+y5eg9oH0 FTt/pr5EgeQWwqh5G+fS0HkP1KUHv1LWIuwk8CNW0nJjy5IyMGmCmaqkV9BJcruKIfzWjk0karB s103nXI/QEdD0kUGzDWQjQhsUvDJRyK8FlZ12l9OL8dxZPI4TEmI6yXgAmMXaOZlGKEtPlE6mJP Kdy+UQMbT+4+AwOasVyCSb/N9ML9h7Ufo1KC1vWbhqokXyJ4YJA7zs3Pnk/8r0V0/zYC3Pm71AG XulBptw87ZUjq0w3CRb4uYRCedtB3FZ8= X-Google-Smtp-Source: AGHT+IFSRIC3Wm9Hwa48JEaOcVSNB9SQps4E97z3WFxBOK7DI1gAQM0dFXJ3pPVwvucFB9WBxfxXVxPICwNo X-Received: by 2002:a05:6e02:4718:b0:430:c547:e769 with SMTP id e9e14a558f8ab-430c547ebb2mr79409725ab.15.1760736799354; Fri, 17 Oct 2025 14:33:19 -0700 (PDT) Received: from postal.iol.unh.edu (postal.iol.unh.edu. [132.177.123.84]) by smtp-relay.gmail.com with ESMTPS id 8926c6da1cb9f-5a8a962759esm62643173.15.2025.10.17.14.33.19 (version=TLS1_2 cipher=ECDHE-ECDSA-AES128-GCM-SHA256 bits=128/128); Fri, 17 Oct 2025 14:33:19 -0700 (PDT) X-Relaying-Domain: iol.unh.edu Date: Fri, 17 Oct 2025 14:33:19 -0700 (PDT) Message-ID: <68f2b61f.050a0220.171d79.3232SMTPIN_ADDED_MISSING@mx.google.com> Received: from [172.21.0.4] (unknown [172.18.0.240]) by postal.iol.unh.edu (Postfix) with ESMTP id E9CBB6051830; Fri, 17 Oct 2025 17:33:18 -0400 (EDT) Subject: |SUCCESS| pw157823-157824 [PATCH] [v2,2/2] dts: add QinQ test suite From: dpdklab@iol.unh.edu To: Test Report Cc: dpdk-test-reports@iol.unh.edu In-Reply-To: <20251017203159.557830-2-dmarx@iol.unh.edu> References: <20251017203159.557830-2-dmarx@iol.unh.edu> Content-Type: text/plain X-BeenThere: test-report@dpdk.org X-Mailman-Version: 2.1.29 Precedence: list List-Id: automatic DPDK test reports List-Unsubscribe: , List-Archive: List-Post: List-Help: List-Subscribe: , Errors-To: test-report-bounces@dpdk.org Test-Label: iol-unit-amd64-testing Test-Status: SUCCESS http://dpdk.org/patch/157824 _Testing PASS_ Submitter: Dean Marx Date: Friday, October 17 2025 20:31:59 DPDK git baseline: Repo:dpdk-next-dts Branch: master CommitID:c1a9d3e5a721be9be66f0c4bfd9fa4d6e6af3b98 157823-157824 --> testing pass Upstream job id: Generic-VM-Unit-Test-DPDK#31899 Test environment and result as below: +-------------------------------+----------------+ | Environment | dpdk_unit_test | +===============================+================+ | CentOS Stream 9 | PASS | +-------------------------------+----------------+ | Debian GNU/Linux 12 | PASS | +-------------------------------+----------------+ | Fedora Linux 40 | PASS | +-------------------------------+----------------+ | CentOS Stream 10 | PASS | +-------------------------------+----------------+ | Fedora Linux 41 | PASS | +-------------------------------+----------------+ | Ubuntu 20.04 | PASS | +-------------------------------+----------------+ | Fedora Linux 42 | PASS | +-------------------------------+----------------+ | Ubuntu 22.04 | PASS | +-------------------------------+----------------+ | Red Hat Enterprise Linux 8.10 | PASS | +-------------------------------+----------------+ | Red Hat Enterprise Linux 9.5 | PASS | +-------------------------------+----------------+ | Ubuntu 24.04 | PASS | +-------------------------------+----------------+ | Windows Server 2022 | PASS | +-------------------------------+----------------+ CentOS Stream 9 Kernel: 5.15 Compiler: gcc gcc (GCC) 11.5.0 20240719 (Red Hat 11.5.0-11) Debian GNU/Linux 12 Kernel: 5.15 Compiler: gcc gcc (Debian 12.2.0-14+deb12u1) 12.2.0 Fedora Linux 40 Kernel: 5.15 Compiler: gcc gcc (GCC) 14.2.1 20240912 (Red Hat 14.2.1-3) CentOS Stream 10 Kernel: 5.15 Compiler: gcc gcc (GCC) 14.2.1 20250110 (Red Hat 14.2.1-8) Fedora Linux 41 Kernel: 5.15 Compiler: gcc gcc (GCC) 14.3.1 20250523 (Red Hat 14.3.1-1) Ubuntu 20.04 Kernel: 5.15 Compiler: gcc gcc (Ubuntu 9.4.0-1ubuntu1~20.04.2) 9.4.0 Fedora Linux 42 Kernel: 5.15 Compiler: gcc gcc (GCC) 15.2.1 20250808 (Red Hat 15.2.1-1) Ubuntu 22.04 Kernel: 5.15 Compiler: gcc gcc (Ubuntu 11.4.0-1ubuntu1~22.04) 11.4.0 Red Hat Enterprise Linux 8.10 Kernel: 5.15 Compiler: gcc gcc (GCC) 8.5.0 20210514 (Red Hat 8.5.0-22) Red Hat Enterprise Linux 9.5 Kernel: 5.15 Compiler: gcc gcc (GCC) 11.5.0 20240719 (Red Hat 11.5.0-2) Ubuntu 24.04 Kernel: 5.15 Compiler: gcc gcc (Ubuntu 13.3.0-6ubuntu2~24.04) 13.3.0 Windows Server 2022 Kernel: 10.0.20348.2031 Compiler: clang 15.0.7, gcc 14.1.0 (MinGW), and MSVC VS 19.39.33521 To view detailed results, visit: https://lab.dpdk.org/results/dashboard/patchsets/34322/ UNH-IOL DPDK Community Lab To manage your email subscriptions, visit: https://lab.dpdk.org/results/dashboard/preferences/subscriptions/