From mboxrd@z Thu Jan 1 00:00:00 1970 Return-Path: Received: from mails.dpdk.org (mails.dpdk.org [217.70.189.124]) by inbox.dpdk.org (Postfix) with ESMTP id 275C748967 for ; Fri, 17 Oct 2025 23:48:44 +0200 (CEST) Received: from mails.dpdk.org (localhost [127.0.0.1]) by mails.dpdk.org (Postfix) with ESMTP id EB959400D7; Fri, 17 Oct 2025 23:48:43 +0200 (CEST) Received: from mail-io1-f99.google.com (mail-io1-f99.google.com [209.85.166.99]) by mails.dpdk.org (Postfix) with ESMTP id 59375400D7 for ; Fri, 17 Oct 2025 23:48:42 +0200 (CEST) Received: by mail-io1-f99.google.com with SMTP id ca18e2360f4ac-92790f12293so117300139f.2 for ; Fri, 17 Oct 2025 14:48:42 -0700 (PDT) DKIM-Signature: v=1; a=rsa-sha256; c=relaxed/relaxed; d=iol.unh.edu; s=unh-iol; t=1760737721; x=1761342521; darn=dpdk.org; h=cc:to:from:subject:message-id:date:from:to:cc:subject:date :message-id:reply-to; bh=t2CmRXypu+LKOvyMyZ+TTb2gLlzXYEMeD6gzuClxtgY=; b=dq/un/3z6CSOhoxo46GDnrKKxR8GSctROAaFXXZP/WelU0xX3a4acEH7a0pKSXpe5K i+wNo02Bfd0mF267lo5DjbpUdQOBEVJ7s4qilgY86OTZRWlietaAIqskqZE9D/zaQwbh bisgF1bJ6+0DzN8uEZd8NoPfjnpmbTJ5CzNtI= X-Google-DKIM-Signature: v=1; a=rsa-sha256; c=relaxed/relaxed; d=1e100.net; s=20230601; t=1760737721; x=1761342521; h=cc:to:from:subject:message-id:date:x-gm-message-state:from:to:cc :subject:date:message-id:reply-to; bh=t2CmRXypu+LKOvyMyZ+TTb2gLlzXYEMeD6gzuClxtgY=; b=a15XEOLKSMjMygjpjDPPLkmazF6PuQHQrRnW/MDHNF/a+r2T7z8A/NN/punh79099Q 8eiRm+PjstJjpJLv+umHFuQlvnpl1yX/rOvDp9H0ZD/SyBZ1z3hwFQ5MH71UDbe4XT55 5k15aDcQbegrgXgeEmmmRiGkcTaPq8nsTlXibaMdRxSTcwwHyaDIjgXBlKDdUbK7f1th g4knE7dguUUHqhPNrSNxU8L53VodxPw81hwD8LugkE1S63RdYp0lw6s3kTYyMqcreY94 +CyXvkAqlaTuC05vZG3ohbZISWCCErMqudj2vKU5riDLYYOrzgxXdnPC2gpjOoka1ld8 LXxg== X-Gm-Message-State: AOJu0Yy5DhY9RK4oNicMbjS0tCb1z2/zW3EMYHYwXaeFBDYu3u/vY9Q3 8duYuuN1FGW4GssghNqqFDcYf7yQFUGEbRZ5WNZtOmkbW1Pi3LApU3d1n+qW9GQz80TaCdCbt9G jkC0bFQliTwGhlh0MIgTSg89CIVmDq8QCUoOKiVaJE/B0rIDSOFzN68Y6lJlo X-Gm-Gg: ASbGncuM1ZhPJFqbVHeeC3MPs26jrexfHMqK3OtkUSlxPoSNPuy88vQoiKNXNxcsGVh il+emLerHBY6wNXs0W75sLEt7PG9+4KQRhmbErU5m0zdC2EVVCjPMyQO1HJ1BoS95W5PoN5QfeN JS8jDg9KucFoQUVASaqPVrcxhyYujcDNtsdYR0NBsYoNTFb44qdhOYNSpo50mlLCTUMHzqTE4L4 nmkGrWh9JRO75k+Z+B0iHiJMvLFx/nQ9E2yMU+di5nC7jwAc/fcvjsUOtE+M3rKdlw2kO0YVq7d Y38C+Buw80Ddd8CeezA9fuLmx5YTLxsRsr0dZ6oD4zo4aojzQrhNv5DKPlYwrSdV1d7yc08GeIt kvEf2Nuvb X-Google-Smtp-Source: AGHT+IH851Lo8V4F11lW3/ikYQebnxnpJaxLjwls84gy3AyuG+JeGVkCNwNM2Wgfyjat7QGsS9jWQPyiWpu5 X-Received: by 2002:a05:6e02:144d:b0:425:744b:52d3 with SMTP id e9e14a558f8ab-430c522fd59mr84922175ab.11.1760737721594; Fri, 17 Oct 2025 14:48:41 -0700 (PDT) Received: from postal.iol.unh.edu (postal.iol.unh.edu. [2606:4100:3880:1234::84]) by smtp-relay.gmail.com with ESMTPS id e9e14a558f8ab-430d07a5074sm788495ab.18.2025.10.17.14.48.41 (version=TLS1_2 cipher=ECDHE-ECDSA-AES128-GCM-SHA256 bits=128/128); Fri, 17 Oct 2025 14:48:41 -0700 (PDT) X-Relaying-Domain: iol.unh.edu Date: Fri, 17 Oct 2025 14:48:41 -0700 (PDT) Message-ID: <68f2b9b9.050a0220.2bb3fc.3eefSMTPIN_ADDED_MISSING@mx.google.com> Received: from [172.21.0.2] (unknown [172.18.0.240]) by postal.iol.unh.edu (Postfix) with ESMTP id 258E86051830; Fri, 17 Oct 2025 17:48:41 -0400 (EDT) Subject: |SUCCESS| [GIT MASTER] 535c49b6264f1df239703b8250b070e4c4cda2e9 From: dpdklab@iol.unh.edu To: Test Report Cc: dpdk-test-reports@iol.unh.edu, Stephen Hemminger Content-Type: text/plain X-BeenThere: test-report@dpdk.org X-Mailman-Version: 2.1.29 Precedence: list List-Id: automatic DPDK test reports List-Unsubscribe: , List-Archive: List-Post: List-Help: List-Subscribe: , Errors-To: test-report-bounces@dpdk.org _Testing PASS_ Branch: dpdk-next-net 535c49b6264f1df239703b8250b070e4c4cda2e9 --> testing pass Upstream job id: Generic-DPDK-Compile-Meson#435320 Test environment and result as below: +------------------------------+--------------------+ | Environment | dpdk_meson_compile | +==============================+====================+ | Ubuntu 20.04 | PASS | +------------------------------+--------------------+ | Red Hat Enterprise Linux 9.5 | PASS | +------------------------------+--------------------+ | Debian GNU/Linux 12 | PASS | +------------------------------+--------------------+ | Fedora Linux 42 | PASS | +------------------------------+--------------------+ | Ubuntu 22.04 | PASS | +------------------------------+--------------------+ | Ubuntu 24.04 | PASS | +------------------------------+--------------------+ | CentOS Stream 9 | PASS | +------------------------------+--------------------+ | CentOS Stream 10 | PASS | +------------------------------+--------------------+ Ubuntu 20.04 Kernel: 5.15 Compiler: aarch64-linux-gnu-gcc gcc (Ubuntu 9.4.0-1ubuntu1~20.04.2) 9.4.0 Red Hat Enterprise Linux 9.5 Kernel: 5.4 Compiler: gcc gcc (GCC) 11.5.0 20240719 (Red Hat 11.5.0-2) Debian GNU/Linux 12 Kernel: 5.4 Compiler: gcc gcc (Debian 12.2.0-14+deb12u1) 12.2.0 Fedora Linux 42 Kernel: 5.4 Compiler: gcc gcc (GCC) 15.2.1 20250808 (Red Hat 15.2.1-1) Ubuntu 22.04 Kernel: 5.4 Compiler: gcc gcc (Ubuntu 11.4.0-1ubuntu1~22.04) 11.4.0 Ubuntu 24.04 Kernel: 5.4 Compiler: gcc gcc (Ubuntu 13.3.0-6ubuntu2~24.04) 13.3.0 CentOS Stream 9 Kernel: 5.4 Compiler: gcc gcc (GCC) 11.5.0 20240719 (Red Hat 11.5.0-11) CentOS Stream 10 Kernel: 5.4 Compiler: gcc gcc (GCC) 14.2.1 20250110 (Red Hat 14.2.1-8) To view detailed results, visit: https://lab.dpdk.org/results/dashboard/tarballs/35248/ UNH-IOL DPDK Community Lab To manage your email subscriptions, visit: https://lab.dpdk.org/results/dashboard/preferences/subscriptions/