From mboxrd@z Thu Jan 1 00:00:00 1970 Return-Path: Received: from mails.dpdk.org (mails.dpdk.org [217.70.189.124]) by inbox.dpdk.org (Postfix) with ESMTP id 6BFCE48967 for ; Sat, 18 Oct 2025 00:15:29 +0200 (CEST) Received: from mails.dpdk.org (localhost [127.0.0.1]) by mails.dpdk.org (Postfix) with ESMTP id 674D1400D7; Sat, 18 Oct 2025 00:15:29 +0200 (CEST) Received: from mail-io1-f99.google.com (mail-io1-f99.google.com [209.85.166.99]) by mails.dpdk.org (Postfix) with ESMTP id 3E562400D7 for ; Sat, 18 Oct 2025 00:15:28 +0200 (CEST) Received: by mail-io1-f99.google.com with SMTP id ca18e2360f4ac-930cfdfabb3so176759339f.1 for ; Fri, 17 Oct 2025 15:15:28 -0700 (PDT) DKIM-Signature: v=1; a=rsa-sha256; c=relaxed/relaxed; d=iol.unh.edu; s=unh-iol; t=1760739327; x=1761344127; darn=dpdk.org; h=references:in-reply-to:cc:to:from:subject:message-id:date:from:to :cc:subject:date:message-id:reply-to; bh=jLHnef1tqW+qxHfSD7WS09WhX3khXxNesuPgcZw/VWs=; b=Y1uINEKIsxIQJzPPAzgnaObHGQzhrcnjhArmhDmUDccW9O6jadf1FecTN+ILZJulx6 Izjmpd/FrfLPqjFGIEzj3a1AWhsKWkp6wMRY4K77dq3NwqSRlJ4COpHdH5wpLjwxamcK LiNsQ2c95feBQrsV+lYbJpWE1X2oPlEcEo3iw= X-Google-DKIM-Signature: v=1; a=rsa-sha256; c=relaxed/relaxed; d=1e100.net; s=20230601; t=1760739327; x=1761344127; h=references:in-reply-to:cc:to:from:subject:message-id:date :x-gm-message-state:from:to:cc:subject:date:message-id:reply-to; bh=jLHnef1tqW+qxHfSD7WS09WhX3khXxNesuPgcZw/VWs=; b=wZKN+QWvY05zd9Sl/IwBVgneipvPnncltEcEn/ADCtdCJ1B8RDx+a1vHUHKzPWSoK2 UohcxRj+sWXGl0MM49b5rsMBM0pm0D/Oz0QM+OxoegqbUwxFFd9AHb571G8Wb/duZRtc W+3q6c/TRF0Cs39q4t2WyeDihp9wcSflw9FsYvB9lFDZn1BZu3n5WI5bJn8PNERtUSTE Ib6T2QNeB6M7IYHb2Yd6fOPzVdVZMtDbx5FR0AR2Gd5uRP/wCgXWdmhbnym/2VwFJc+8 9celwRARMbLZWhXIjJEycjG1w0PgHN+7hHqGlOgE+VZ+XIr9gHJY8jodVry53fukWbRE 2HPA== X-Gm-Message-State: AOJu0YzrOr5hc/0sXIJXDb7asIrWePbQrdNnOYZ5sC3/zSk3hKynlNhf NpT3uGPUJSmPv1PC0oaav8Vxmj1DaJfeVJt/pS/RxBT6kjh21Qm3IEJPcEl2+sI/HIw4uMq3R0v JRUTClCNMqfyAYIcKDZQeDAw0Rdx0tA+JGV4g//PiPqo5WXT7JKtePGSpI++W X-Gm-Gg: ASbGncskN+P5pK6iZywPS9/SUYscyV5DiuUWd7UYH2Dp7tFDcNAaDoyJEXNLdagHu6a acL75M88mUwT1y7ydJksd8zqp/3EPkHgziJdd1yo6ZxQbSoQvFXhaaCJLzP87KMmi3VwiFX4Yaw 2pmoeVvGl6ZVsXeDn/NBcMmCfm1J4Td3+b94T2dPvCtsJOY4W+J8T6qd1PO8FsH8+d0NPBKS6Fh tXuiJTar7bjq+FQJaWWdSB/894a5yWG/TLoTq+bzaUIQyA5ASVHC3wUmDV4R0OIwZW+qC8hMj0W crrFjKo4mSkOJi14u11ukF4aYfWmH2kPdElF65qtoA35Muw4FdjuGeMZOc1eKOBqsHp4WMhiv6w V3AIX3933 X-Google-Smtp-Source: AGHT+IEn/2wM9murDostGO4gyFRpJPwfztjfbyXiX7S+0MOnljxtDSPpMBqTks9VljW2SdqjuZAn9LihkpGG X-Received: by 2002:a05:6e02:178b:b0:430:9918:e69f with SMTP id e9e14a558f8ab-430b41eb013mr143134005ab.4.1760739327478; Fri, 17 Oct 2025 15:15:27 -0700 (PDT) Received: from postal.iol.unh.edu (postal.iol.unh.edu. [2606:4100:3880:1234::84]) by smtp-relay.gmail.com with ESMTPS id 8926c6da1cb9f-5a8a97707f4sm71047173.29.2025.10.17.15.15.27 (version=TLS1_2 cipher=ECDHE-ECDSA-AES128-GCM-SHA256 bits=128/128); Fri, 17 Oct 2025 15:15:27 -0700 (PDT) X-Relaying-Domain: iol.unh.edu Date: Fri, 17 Oct 2025 15:15:27 -0700 (PDT) Message-ID: <68f2bfff.050a0220.286c76.3b2aSMTPIN_ADDED_MISSING@mx.google.com> Received: from [172.21.0.2] (unknown [172.18.0.240]) by postal.iol.unh.edu (Postfix) with ESMTP id 081DE6051830; Fri, 17 Oct 2025 18:15:27 -0400 (EDT) Subject: |SUCCESS| pw157768-157770 [PATCH] [v2,3/3] net/dpaa2: make total_rx_ From: dpdklab@iol.unh.edu To: Test Report Cc: dpdk-test-reports@iol.unh.edu, Stephen Hemminger In-Reply-To: <20251016220959.15671-4-stephen@networkplumber.org> References: <20251016220959.15671-4-stephen@networkplumber.org> Content-Type: text/plain X-BeenThere: test-report@dpdk.org X-Mailman-Version: 2.1.29 Precedence: list List-Id: automatic DPDK test reports List-Unsubscribe: , List-Archive: List-Post: List-Help: List-Subscribe: , Errors-To: test-report-bounces@dpdk.org Test-Label: iol-unit-arm64-testing Test-Status: SUCCESS http://dpdk.org/patch/157770 _Testing PASS_ Submitter: Stephen Hemminger Date: Thursday, October 16 2025 22:09:03 DPDK git baseline: Repo:dpdk-next-net Branch: master CommitID:6c12368ef1d9b69af2dcf07ac8b502c23860ce90 157768-157770 --> testing pass Upstream job id: Generic-Unit-Test-DPDK#382421 Test environment and result as below: +------------------------------+----------------+--------------+------------------------------+---------------------------+ | Environment | dpdk_unit_test | lpm_autotest | cryptodev_sw_snow3g_autotest | cryptodev_sw_zuc_autotest | +==============================+================+==============+==============================+===========================+ | CentOS Stream 9 | PASS | SKIPPED | SKIPPED | SKIPPED | +------------------------------+----------------+--------------+------------------------------+---------------------------+ | CentOS Stream 10 | PASS | SKIPPED | SKIPPED | SKIPPED | +------------------------------+----------------+--------------+------------------------------+---------------------------+ | Fedora Linux 41 | PASS | SKIPPED | SKIPPED | SKIPPED | +------------------------------+----------------+--------------+------------------------------+---------------------------+ | Fedora Linux 42 | PASS | SKIPPED | SKIPPED | SKIPPED | +------------------------------+----------------+--------------+------------------------------+---------------------------+ | Fedora Linux 40 | PASS | SKIPPED | SKIPPED | SKIPPED | +------------------------------+----------------+--------------+------------------------------+---------------------------+ | Debian GNU/Linux 12 | PASS | SKIPPED | SKIPPED | SKIPPED | +------------------------------+----------------+--------------+------------------------------+---------------------------+ | Red Hat Enterprise Linux 9.5 | PASS | SKIPPED | SKIPPED | SKIPPED | +------------------------------+----------------+--------------+------------------------------+---------------------------+ | Ubuntu 20.04 | PASS | PASS | SKIPPED | SKIPPED | +------------------------------+----------------+--------------+------------------------------+---------------------------+ | Ubuntu 22.04 | PASS | SKIPPED | SKIPPED | SKIPPED | +------------------------------+----------------+--------------+------------------------------+---------------------------+ | Ubuntu 24.04 | PASS | SKIPPED | SKIPPED | SKIPPED | +------------------------------+----------------+--------------+------------------------------+---------------------------+ | Debian 12 (arm) | SKIPPED | SKIPPED | PASS | PASS | +------------------------------+----------------+--------------+------------------------------+---------------------------+ CentOS Stream 9 Kernel: 5.4 Compiler: gcc gcc (GCC) 11.5.0 20240719 (Red Hat 11.5.0-11) CentOS Stream 10 Kernel: 5.4 Compiler: gcc gcc (GCC) 14.2.1 20250110 (Red Hat 14.2.1-8) Fedora Linux 41 Kernel: 5.4 Compiler: clang gcc (GCC) 14.3.1 20250523 (Red Hat 14.3.1-1) Fedora Linux 42 Kernel: 5.4 Compiler: clang gcc (GCC) 15.2.1 20250808 (Red Hat 15.2.1-1) Fedora Linux 40 Kernel: 5.4 Compiler: clang gcc (GCC) 14.2.1 20240912 (Red Hat 14.2.1-3) Debian GNU/Linux 12 Kernel: 5.4 Compiler: gcc gcc (Debian 12.2.0-14+deb12u1) 12.2.0 Red Hat Enterprise Linux 9.5 Kernel: 5.4 Compiler: gcc gcc (GCC) 11.5.0 20240719 (Red Hat 11.5.0-2) Ubuntu 20.04 Kernel: 5.4 Compiler: gcc gcc (Ubuntu 9.4.0-1ubuntu1~20.04.2) 9.4.0 Ubuntu 22.04 Kernel: 5.4 Compiler: gcc gcc (Ubuntu 11.4.0-1ubuntu1~22.04) 11.4.0 Ubuntu 24.04 Kernel: 5.4 Compiler: gcc gcc (Ubuntu 13.3.0-6ubuntu2~24.04) 13.3.0 Debian 12 (arm) Kernel: Depends on container host Compiler: gcc (Debian 12.2.0-14) 12.2.0 To view detailed results, visit: https://lab.dpdk.org/results/dashboard/patchsets/34305/ UNH-IOL DPDK Community Lab To manage your email subscriptions, visit: https://lab.dpdk.org/results/dashboard/preferences/subscriptions/