From mboxrd@z Thu Jan 1 00:00:00 1970 Return-Path: Received: from mails.dpdk.org (mails.dpdk.org [217.70.189.124]) by inbox.dpdk.org (Postfix) with ESMTP id 8F78648967 for ; Sat, 18 Oct 2025 00:16:42 +0200 (CEST) Received: from mails.dpdk.org (localhost [127.0.0.1]) by mails.dpdk.org (Postfix) with ESMTP id 866BE400D7; Sat, 18 Oct 2025 00:16:42 +0200 (CEST) Received: from mail-il1-f225.google.com (mail-il1-f225.google.com [209.85.166.225]) by mails.dpdk.org (Postfix) with ESMTP id 66DC0400D7 for ; Sat, 18 Oct 2025 00:16:41 +0200 (CEST) Received: by mail-il1-f225.google.com with SMTP id e9e14a558f8ab-430b45ba0e4so11016395ab.1 for ; Fri, 17 Oct 2025 15:16:41 -0700 (PDT) DKIM-Signature: v=1; a=rsa-sha256; c=relaxed/relaxed; d=iol.unh.edu; s=unh-iol; t=1760739401; x=1761344201; darn=dpdk.org; h=references:in-reply-to:cc:to:from:subject:message-id:date:from:to :cc:subject:date:message-id:reply-to; bh=O2xT9BNFGE6zOOqP1p4W3twtdm78IYxM81AEjHoJUc8=; b=WH5mn0MReFs9UvbgCxvlAe4m4c0HZJQkYydzQJkkSmY+1SsFshP4CWGD2N0wfcyfz5 gzhvSFRVHhSgmk9OT9VEii9Xrjh6mrXBcY1HUh5Vegg4HUY99974N/1yu5/Mxeycf+D4 kX+GxV+nGxJmFLJTywaqdcqgA9UDqttDRUOls= X-Google-DKIM-Signature: v=1; a=rsa-sha256; c=relaxed/relaxed; d=1e100.net; s=20230601; t=1760739401; x=1761344201; h=references:in-reply-to:cc:to:from:subject:message-id:date :x-gm-message-state:from:to:cc:subject:date:message-id:reply-to; bh=O2xT9BNFGE6zOOqP1p4W3twtdm78IYxM81AEjHoJUc8=; b=fqsBVtqyhfCmsYDXGK4MgBETuU3+rMnyUyZHLaD3BA8B2uBecRTfJKYmDKsedAbh0f wMABDgP55NF68wmTzInQl7Y1nnjN6P18W8jxHnt2cHcJSKzYSYnCbgeet40J+FLk80gW iQaKRAhQSeYJT8D8gGkvUHtIe7Q0US/xx/O4sE/0CScSlwiAOppsuTODUpp2CO9XVWg3 GAkK8GSXETSCnWOt16uW4/tXFF7kbHu1PWJXryfgk3+66GITZpRU9JIYo3Tw0v/pOfK1 9B+Jb3G/ofVjoEKOG2BzkgUhflHVrPuQRYPn4bGJKHVoUTzvTXzy5AG3GzPEPDElvPKW I3NA== X-Gm-Message-State: AOJu0YzetKpTIwDjdw9NzBPxg7b2Oh0Ho9xywPyFCc9HDZh/weRiC0kg d/6ywT8n39Qpwu1VeiJntbBncBS6ss8yG2OP69N3i6pzbPKey0pN0Qfbfv9Wf16oqvfh7TrwGqo 1JwtqHZwj8TFqff1kfbZL89junML3ah4qXBJmMSxb6Uue X-Gm-Gg: ASbGncsApLblTh6QmsxSvehuaKYskc1yyHUaHgE9gqoQd7DMAYSSY19q+OLLuSbgRQz /fXri1c6joVtojwENhfbrnUzTqPVFted9Up+ocYycdUvqlaM3JjrXgkCwmYfzzAYk6qYRgIcr8K QmNAmHrXptM84azA7w5z7bxtqxyZI8Kq9X0QSBW9VyJBVuCIVV++XsaA5Y+R4IuVJt6onaN2VLo +1IOaD2Y7fEWD1up2Mmlwj3uoFskJ0rDYms7uLcJBQ5u5HY23ezytWA7IGIvXT7Kd0EfpC4vM91 vfFKsGJL9oMzLlzdeGrlwchwQNZ/u5z0DFWJE33BgVShFZYnjRi+j9926+Og/mnX181kIk9En2H vKdzT0DqnzM9yQrQwc+2B5xYmSFo83S8= X-Google-Smtp-Source: AGHT+IHgEIBYCoamQmTE2f0sD5CNVHCijs4MEUG0SImNGoYWJ+inZadkQaPI9klrHz+xisSt9O1tdFWkq/J9 X-Received: by 2002:a05:6e02:1fe1:b0:430:c0e3:26a7 with SMTP id e9e14a558f8ab-430c528d9a7mr75273255ab.24.1760739400732; Fri, 17 Oct 2025 15:16:40 -0700 (PDT) Received: from postal.iol.unh.edu (postal.iol.unh.edu. [132.177.123.84]) by smtp-relay.gmail.com with ESMTPS id e9e14a558f8ab-430d0614aa9sm873215ab.0.2025.10.17.15.16.40 (version=TLS1_2 cipher=ECDHE-ECDSA-AES128-GCM-SHA256 bits=128/128); Fri, 17 Oct 2025 15:16:40 -0700 (PDT) X-Relaying-Domain: iol.unh.edu Date: Fri, 17 Oct 2025 15:16:40 -0700 (PDT) Message-ID: <68f2c048.050a0220.1ad263.495aSMTPIN_ADDED_MISSING@mx.google.com> Received: from [172.21.0.2] (unknown [172.18.0.240]) by postal.iol.unh.edu (Postfix) with ESMTP id 4DACB6051830; Fri, 17 Oct 2025 18:16:40 -0400 (EDT) Subject: |SUCCESS| pw157784-157795 [PATCH] [v2,12/12] net/enetc: Add support From: dpdklab@iol.unh.edu To: Test Report Cc: dpdk-test-reports@iol.unh.edu, Stephen Hemminger In-Reply-To: <20251017091929.2723044-13-vanshika.shukla@nxp.com> References: <20251017091929.2723044-13-vanshika.shukla@nxp.com> Content-Type: text/plain X-BeenThere: test-report@dpdk.org X-Mailman-Version: 2.1.29 Precedence: list List-Id: automatic DPDK test reports List-Unsubscribe: , List-Archive: List-Post: List-Help: List-Subscribe: , Errors-To: test-report-bounces@dpdk.org Test-Label: iol-compile-arm64-testing Test-Status: SUCCESS http://dpdk.org/patch/157795 _Testing PASS_ Submitter: Vanshika Shukla Date: Friday, October 17 2025 09:19:29 DPDK git baseline: Repo:dpdk-next-net Branch: master CommitID:535c49b6264f1df239703b8250b070e4c4cda2e9 157784-157795 --> testing pass Upstream job id: Generic-DPDK-Compile-Meson#435340 Test environment and result as below: +------------------------------+--------------------+ | Environment | dpdk_meson_compile | +==============================+====================+ | Red Hat Enterprise Linux 9.5 | PASS | +------------------------------+--------------------+ | Ubuntu 20.04 | PASS | +------------------------------+--------------------+ | Debian GNU/Linux 12 | PASS | +------------------------------+--------------------+ | Fedora Linux 42 | PASS | +------------------------------+--------------------+ | Ubuntu 22.04 | PASS | +------------------------------+--------------------+ | Ubuntu 24.04 | PASS | +------------------------------+--------------------+ | CentOS Stream 9 | PASS | +------------------------------+--------------------+ | CentOS Stream 10 | PASS | +------------------------------+--------------------+ Red Hat Enterprise Linux 9.5 Kernel: 5.4 Compiler: gcc gcc (GCC) 11.5.0 20240719 (Red Hat 11.5.0-2) Ubuntu 20.04 Kernel: 5.15 Compiler: aarch64-linux-gnu-gcc gcc (Ubuntu 9.4.0-1ubuntu1~20.04.2) 9.4.0 Debian GNU/Linux 12 Kernel: 5.4 Compiler: gcc gcc (Debian 12.2.0-14+deb12u1) 12.2.0 Fedora Linux 42 Kernel: 5.4 Compiler: gcc gcc (GCC) 15.2.1 20250808 (Red Hat 15.2.1-1) Ubuntu 22.04 Kernel: 5.4 Compiler: gcc gcc (Ubuntu 11.4.0-1ubuntu1~22.04) 11.4.0 Ubuntu 24.04 Kernel: 5.4 Compiler: gcc gcc (Ubuntu 13.3.0-6ubuntu2~24.04) 13.3.0 CentOS Stream 9 Kernel: 5.4 Compiler: gcc gcc (GCC) 11.5.0 20240719 (Red Hat 11.5.0-11) CentOS Stream 10 Kernel: 5.4 Compiler: gcc gcc (GCC) 14.2.1 20250110 (Red Hat 14.2.1-8) To view detailed results, visit: https://lab.dpdk.org/results/dashboard/patchsets/34309/ UNH-IOL DPDK Community Lab To manage your email subscriptions, visit: https://lab.dpdk.org/results/dashboard/preferences/subscriptions/