From mboxrd@z Thu Jan 1 00:00:00 1970 Return-Path: Received: from mails.dpdk.org (mails.dpdk.org [217.70.189.124]) by inbox.dpdk.org (Postfix) with ESMTP id EFEE948967 for ; Sat, 18 Oct 2025 00:18:48 +0200 (CEST) Received: from mails.dpdk.org (localhost [127.0.0.1]) by mails.dpdk.org (Postfix) with ESMTP id BE4E6400D7; Sat, 18 Oct 2025 00:18:48 +0200 (CEST) Received: from mail-oa1-f98.google.com (mail-oa1-f98.google.com [209.85.160.98]) by mails.dpdk.org (Postfix) with ESMTP id DF1F1400D7 for ; Sat, 18 Oct 2025 00:18:47 +0200 (CEST) Received: by mail-oa1-f98.google.com with SMTP id 586e51a60fabf-36e4d00ebfdso903921fac.1 for ; Fri, 17 Oct 2025 15:18:47 -0700 (PDT) DKIM-Signature: v=1; a=rsa-sha256; c=relaxed/relaxed; d=iol.unh.edu; s=unh-iol; t=1760739527; x=1761344327; darn=dpdk.org; h=references:in-reply-to:cc:to:from:subject:message-id:date:from:to :cc:subject:date:message-id:reply-to; bh=lWctP4DE3+Jgxe+5oM2qIsQUcantIYXyzWodv5JofKY=; b=GPEXLLLgQiAP4DCKVVsPYGmUFqhd9QjKY58VZSaFI7Mpf4G7+pX3BLiKmkmDcpzA4v VtNy9L0evQZXW332vWzkT5jK8DqJV+f8oandaO6BeGhvFDxpGtp/PngOGfA2S/KKz/JB XTbAwuDoD57zXajCJ9SNOJjlSc8S9xSpefBp4= X-Google-DKIM-Signature: v=1; a=rsa-sha256; c=relaxed/relaxed; d=1e100.net; s=20230601; t=1760739527; x=1761344327; h=references:in-reply-to:cc:to:from:subject:message-id:date :x-gm-message-state:from:to:cc:subject:date:message-id:reply-to; bh=lWctP4DE3+Jgxe+5oM2qIsQUcantIYXyzWodv5JofKY=; b=Nk1ztgZnqGD7P5So/lXDxbr98X4hGn+ncCuA4i/k3sEPd40yOJeZ3P4LrlWbGEnbYv uZEW+pWBzD8dFBtDYz1DSXNUGYcfI0J5OXlWWm00JWa+sMbpq1NfywQ9BvrnowWA+7OW n6DMX6ROkAiIUkECWaN5IbFzRu/wXMTAokgC3aY77+KjC1rEbcdj8RQzmKzBCJTFT8NK QEE6f8BKHMkiJZoFJG+F70tYWMt059YO/n8cU+YmE+6xefKLZkRC5bmh8B0/QxIQMCKA 0VTQz/unRtw8XnmXz/ghUsavV2rkzxD+UVeowL6DtFrS1iUyTNYbBwkbtc8WVMdm61Mf nraQ== X-Gm-Message-State: AOJu0Yy3jnIf01eQXYKAsxiguD9m5DEHQjRHu0kjbfjOH8i+J1sM/wKT ONzatYRQHeLhRu8xnKnYZOfqTsJ1YEEXlKTs2UqeAel1/2A0w5oZkfTHxK2c61Q61t7kvVPBDdh cG9EhKcgL8Aaf/fzSN5ZZQTsV5+FVQl74mWjzD9KQOSnO X-Gm-Gg: ASbGncvmA2MgatFXZ3SEuo5vqP++M1O/oKc+Et4I842XqJytCcqkQRo4/c7F1g0Dlc8 FaiBAotAK0H9sT3hlFOPmAbiEZ6IcSAVW2wQ+2Vl4jjv8cbsf11V0fYW50akf4lRlZjCio07foY soJ4B9xG9sb32lWpwNqs9pPw4uJXtHpZNs5QB0cBfYGvlyqEQtk3XLLu54ev5TqrpbsbpwTNwLm OY/5KN1BVmkIWXorya1A0tYtjnMyKj0WCX6xAMG7G6vN8CmcPqwgbl3WUCnkq304hUvppFvJAEj vzUZ+/TUEkCkjgw3y9wCMxReFuEC6IWEhNp9xuo68ugONUo44LktsXEouagpkAkxC99XJeLoGkf RHeHvU6b2twoLd8KntKiv9AE+MpS9ebs= X-Google-Smtp-Source: AGHT+IEFKhjlyIYjWO5qH0RwWMscsG01IZQ2Uq9bfH1CDOikhlIJTRq1UuQ/f+HYnWN5ci0dcqT7pj9hapfe X-Received: by 2002:a05:6870:17a1:b0:315:9e4e:8337 with SMTP id 586e51a60fabf-3c98cf019d9mr2608138fac.2.1760739527170; Fri, 17 Oct 2025 15:18:47 -0700 (PDT) Received: from postal.iol.unh.edu (postal.iol.unh.edu. [132.177.123.84]) by smtp-relay.gmail.com with ESMTPS id 586e51a60fabf-3c9aefcf11esm73474fac.10.2025.10.17.15.18.47 (version=TLS1_2 cipher=ECDHE-ECDSA-AES128-GCM-SHA256 bits=128/128); Fri, 17 Oct 2025 15:18:47 -0700 (PDT) X-Relaying-Domain: iol.unh.edu Date: Fri, 17 Oct 2025 15:18:47 -0700 (PDT) Message-ID: <68f2c0c7.050a0220.3a8c18.3c00SMTPIN_ADDED_MISSING@mx.google.com> Received: from [172.21.0.2] (unknown [172.18.0.240]) by postal.iol.unh.edu (Postfix) with ESMTP id A80796051830; Fri, 17 Oct 2025 18:18:46 -0400 (EDT) Subject: |SUCCESS| pw157796 [PATCH] [v2,1/1] riscv support rte_memcpy in vect From: dpdklab@iol.unh.edu To: Test Report Cc: dpdk-test-reports@iol.unh.edu In-Reply-To: <20251017093617.1219267-2-chen.qiguo@zte.com.cn> References: <20251017093617.1219267-2-chen.qiguo@zte.com.cn> Content-Type: text/plain X-BeenThere: test-report@dpdk.org X-Mailman-Version: 2.1.29 Precedence: list List-Id: automatic DPDK test reports List-Unsubscribe: , List-Archive: List-Post: List-Help: List-Subscribe: , Errors-To: test-report-bounces@dpdk.org Test-Label: iol-compile-arm64-testing Test-Status: SUCCESS http://dpdk.org/patch/157796 _Testing PASS_ Submitter: Qiguo Chen Date: Friday, October 17 2025 09:36:17 DPDK git baseline: Repo:dpdk Branch: master CommitID:438491733c2d8a109574449d3d6de9b25a05c07c 157796 --> testing pass Upstream job id: Generic-DPDK-Compile-Meson#435367 Test environment and result as below: +------------------------------+--------------------+ | Environment | dpdk_meson_compile | +==============================+====================+ | Ubuntu 20.04 | PASS | +------------------------------+--------------------+ | CentOS Stream 9 | PASS | +------------------------------+--------------------+ | Red Hat Enterprise Linux 9.5 | PASS | +------------------------------+--------------------+ | Debian GNU/Linux 12 | PASS | +------------------------------+--------------------+ | Fedora Linux 42 | PASS | +------------------------------+--------------------+ | Ubuntu 22.04 | PASS | +------------------------------+--------------------+ | Ubuntu 24.04 | PASS | +------------------------------+--------------------+ | CentOS Stream 10 | PASS | +------------------------------+--------------------+ Ubuntu 20.04 Kernel: 5.4 Compiler: gcc gcc (Ubuntu 9.4.0-1ubuntu1~20.04.2) 9.4.0 CentOS Stream 9 Kernel: 5.4 Compiler: gcc gcc (GCC) 11.5.0 20240719 (Red Hat 11.5.0-11) Red Hat Enterprise Linux 9.5 Kernel: 5.4 Compiler: gcc gcc (GCC) 11.5.0 20240719 (Red Hat 11.5.0-2) Debian GNU/Linux 12 Kernel: 5.4 Compiler: gcc gcc (Debian 12.2.0-14+deb12u1) 12.2.0 Fedora Linux 42 Kernel: 5.4 Compiler: gcc gcc (GCC) 15.2.1 20250808 (Red Hat 15.2.1-1) Ubuntu 22.04 Kernel: 5.4 Compiler: gcc gcc (Ubuntu 11.4.0-1ubuntu1~22.04) 11.4.0 Ubuntu 24.04 Kernel: 5.4 Compiler: gcc gcc (Ubuntu 13.3.0-6ubuntu2~24.04) 13.3.0 CentOS Stream 10 Kernel: 5.4 Compiler: gcc gcc (GCC) 14.2.1 20250110 (Red Hat 14.2.1-8) To view detailed results, visit: https://lab.dpdk.org/results/dashboard/patchsets/34310/ UNH-IOL DPDK Community Lab To manage your email subscriptions, visit: https://lab.dpdk.org/results/dashboard/preferences/subscriptions/