From mboxrd@z Thu Jan 1 00:00:00 1970 Return-Path: Received: from mails.dpdk.org (mails.dpdk.org [217.70.189.124]) by inbox.dpdk.org (Postfix) with ESMTP id 2634948967 for ; Sat, 18 Oct 2025 00:21:55 +0200 (CEST) Received: from mails.dpdk.org (localhost [127.0.0.1]) by mails.dpdk.org (Postfix) with ESMTP id 0CF47400D7; Sat, 18 Oct 2025 00:21:55 +0200 (CEST) Received: from mail-pj1-f98.google.com (mail-pj1-f98.google.com [209.85.216.98]) by mails.dpdk.org (Postfix) with ESMTP id DFFAC400D7 for ; Sat, 18 Oct 2025 00:21:53 +0200 (CEST) Received: by mail-pj1-f98.google.com with SMTP id 98e67ed59e1d1-33b5a3e8ae2so2915943a91.1 for ; Fri, 17 Oct 2025 15:21:53 -0700 (PDT) DKIM-Signature: v=1; a=rsa-sha256; c=relaxed/relaxed; d=iol.unh.edu; s=unh-iol; t=1760739713; x=1761344513; darn=dpdk.org; h=cc:to:from:subject:message-id:date:from:to:cc:subject:date :message-id:reply-to; bh=gYmBIaRfm4a9uBEN5N9WauTcS+6Hno+MsEB7z8xmKlU=; b=RUUAPoPUx7t8E4n1Xmu2dcQ93t2AROwV+n/IRoT/MC4Y9l/oe16Hnqf7Zp3zzJMX4Y OCMoPYKfq8ado2NqZfzH556yzY2a6700jbQGoyTh11GJ8SN3B9FabZZ3OSOnde+k7GqB JtEibzs5M9D6WwRl5UxQ54/tguYGJ3z3pd6Bk= X-Google-DKIM-Signature: v=1; a=rsa-sha256; c=relaxed/relaxed; d=1e100.net; s=20230601; t=1760739713; x=1761344513; h=cc:to:from:subject:message-id:date:x-gm-message-state:from:to:cc :subject:date:message-id:reply-to; bh=gYmBIaRfm4a9uBEN5N9WauTcS+6Hno+MsEB7z8xmKlU=; b=l9lN++Hkz0DZR2rJWayn/vaqekhBt7ua4NklQ8VF+q9CRGuuIxR57Tv0haMEdgBe8M AqLgxu59/aOqAO5KxlAmMB1j00fXrFYnRUKu068OVEhDnZWBNA8vBWhvuwqnZntYxJNJ 4jhzlEixLJOdD0VTYGSPP402AOY87GcxtK0ookxuX/JxdgZTYwG2zsWXWEBiyLGd55Eh efA3PZraITiO1/w8Yq4qeKM4j8Dn9DHcNlpmF+VbFUmZ23wSYdLFTcA0FG3hS5DUpxXS laS12tDTlT2z0vlnk7rHtztyv9txbMfJSC+uGbtFGfgMyQulnEDTX+28quD7RAxxERJy n0QQ== X-Gm-Message-State: AOJu0YxI8QQWDv40tMP6sBV6Vyc3bFi/c4gYa0L6HFPU+gUFvNVspJ2G LxeiDsEa/aYXPALFPndhtHF62aBIanGr+z2b+mqPmxtfjbIsLbRcjSFEHL3v09ZJj/AJJILkn62 sf4m3Cp/x1aY4sUeIqGPgGa2kPHOFk+qOwpen1mIMihO695353AI85cGnSbAL X-Gm-Gg: ASbGnct+mFalLl7RQPqBnF4su1ATVnSBZiyzK7t1t0czUhOVzv6ey3Z4v3lwMTuxgK0 qtBc5Ta1eaEZRAzByJ4uB1Uy0ABbZxF43ltBMnp+QBibTJ/8k5aWpRgFOx8tOHlugCzcNRSjl8q /d6jcRskkfyKpxmktYKLZTNKstePmikrJdmziS/1IhIypE3qHBDmAVqStUs3EANzZ6/WBbZtwve YXx6yhMrmatGX3+i09u2yThj5/eH1+zD5Qu+w+zvrL4RlM5g3SBEhgOoOqFWixwgvnKrUW332h8 IJxQqdTg4yVVm3pKwFapQf4Oqkk+noYJsoKTCNk0ocZzDhMLhAWPqKyNwr0KDL6cZ6kjWBzAcP8 ShdTPsg5k X-Google-Smtp-Source: AGHT+IHaEyzKzpc6YmE41OBCXPs7fqEeh1TBOlsdVd+gX9j1A1h05HDKjw+jxCrRM1hYqTPbjOc/tDSpuy3o X-Received: by 2002:a17:90b:3fd0:b0:32e:64ed:c20a with SMTP id 98e67ed59e1d1-33b9dff1eb6mr11394455a91.0.1760739712918; Fri, 17 Oct 2025 15:21:52 -0700 (PDT) Received: from postal.iol.unh.edu (postal.iol.unh.edu. [2606:4100:3880:1234::84]) by smtp-relay.gmail.com with ESMTPS id 98e67ed59e1d1-33d5df6fbecsm43510a91.6.2025.10.17.15.21.52 (version=TLS1_2 cipher=ECDHE-ECDSA-AES128-GCM-SHA256 bits=128/128); Fri, 17 Oct 2025 15:21:52 -0700 (PDT) X-Relaying-Domain: iol.unh.edu Date: Fri, 17 Oct 2025 15:21:52 -0700 (PDT) Message-ID: <68f2c180.170a0220.3a56ae.23a5SMTPIN_ADDED_MISSING@mx.google.com> Received: from [172.21.0.3] (unknown [172.18.0.240]) by postal.iol.unh.edu (Postfix) with ESMTP id 26F016051830; Fri, 17 Oct 2025 18:21:52 -0400 (EDT) Subject: |SUCCESS| [GIT MASTER] 6b997d6b9ffdbb4f8ecd14d1f217da69cdc783af From: dpdklab@iol.unh.edu To: Test Report Cc: dpdk-test-reports@iol.unh.edu, Bruce Richardson Content-Type: text/plain X-BeenThere: test-report@dpdk.org X-Mailman-Version: 2.1.29 Precedence: list List-Id: automatic DPDK test reports List-Unsubscribe: , List-Archive: List-Post: List-Help: List-Subscribe: , Errors-To: test-report-bounces@dpdk.org _Testing PASS_ Branch: dpdk-next-net-intel 6b997d6b9ffdbb4f8ecd14d1f217da69cdc783af --> testing pass Upstream job id: Generic-DPDK-Compile-Meson#435393 Test environment and result as below: +------------------------------+--------------------+ | Environment | dpdk_meson_compile | +==============================+====================+ | Red Hat Enterprise Linux 9.5 | PASS | +------------------------------+--------------------+ | Ubuntu 20.04 | PASS | +------------------------------+--------------------+ | Debian GNU/Linux 12 | PASS | +------------------------------+--------------------+ | Fedora Linux 42 | PASS | +------------------------------+--------------------+ | Ubuntu 22.04 | PASS | +------------------------------+--------------------+ | Ubuntu 24.04 | PASS | +------------------------------+--------------------+ | CentOS Stream 9 | PASS | +------------------------------+--------------------+ | CentOS Stream 10 | PASS | +------------------------------+--------------------+ Red Hat Enterprise Linux 9.5 Kernel: 5.4 Compiler: gcc gcc (GCC) 11.5.0 20240719 (Red Hat 11.5.0-2) Ubuntu 20.04 Kernel: 5.15 Compiler: aarch64-linux-gnu-gcc gcc (Ubuntu 9.4.0-1ubuntu1~20.04.2) 9.4.0 Debian GNU/Linux 12 Kernel: 5.4 Compiler: gcc gcc (Debian 12.2.0-14+deb12u1) 12.2.0 Fedora Linux 42 Kernel: 5.4 Compiler: gcc gcc (GCC) 15.2.1 20250808 (Red Hat 15.2.1-1) Ubuntu 22.04 Kernel: 5.4 Compiler: gcc gcc (Ubuntu 11.4.0-1ubuntu1~22.04) 11.4.0 Ubuntu 24.04 Kernel: 5.4 Compiler: gcc gcc (Ubuntu 13.3.0-6ubuntu2~24.04) 13.3.0 CentOS Stream 9 Kernel: 5.4 Compiler: gcc gcc (GCC) 11.5.0 20240719 (Red Hat 11.5.0-11) CentOS Stream 10 Kernel: 5.4 Compiler: gcc gcc (GCC) 14.2.1 20250110 (Red Hat 14.2.1-8) To view detailed results, visit: https://lab.dpdk.org/results/dashboard/tarballs/35251/ UNH-IOL DPDK Community Lab To manage your email subscriptions, visit: https://lab.dpdk.org/results/dashboard/preferences/subscriptions/