From mboxrd@z Thu Jan 1 00:00:00 1970 Return-Path: Received: from mails.dpdk.org (mails.dpdk.org [217.70.189.124]) by inbox.dpdk.org (Postfix) with ESMTP id 2282348967 for ; Sat, 18 Oct 2025 00:22:14 +0200 (CEST) Received: from mails.dpdk.org (localhost [127.0.0.1]) by mails.dpdk.org (Postfix) with ESMTP id 1D478400D7; Sat, 18 Oct 2025 00:22:14 +0200 (CEST) Received: from mail-pl1-f228.google.com (mail-pl1-f228.google.com [209.85.214.228]) by mails.dpdk.org (Postfix) with ESMTP id 75EE0400D7 for ; Sat, 18 Oct 2025 00:22:13 +0200 (CEST) Received: by mail-pl1-f228.google.com with SMTP id d9443c01a7336-290d14e5c9aso17049495ad.3 for ; Fri, 17 Oct 2025 15:22:13 -0700 (PDT) DKIM-Signature: v=1; a=rsa-sha256; c=relaxed/relaxed; d=iol.unh.edu; s=unh-iol; t=1760739732; x=1761344532; darn=dpdk.org; h=references:in-reply-to:cc:to:from:subject:message-id:date:from:to :cc:subject:date:message-id:reply-to; bh=HvuXhVoeyiVr6c2jFD+6+1Vm/Fxy0ajRG6pWxJTpXkU=; b=EjWP4lF3tfvkRyi+u8+4W4d/ZNZqbb+M5SPDQSiJU5eC4VN+HBTVUtrD65Ky5w2wt/ 9qGJzxnpAXTlaRIZGbmxDcdjD5c/+2mC2TiQju4XviAFuxyOvugFS50Htf683Sb76+Vq sPYcWXkhsZbxRXmy+k7GHNLpcHiAMD+L5ykEI= X-Google-DKIM-Signature: v=1; a=rsa-sha256; c=relaxed/relaxed; d=1e100.net; s=20230601; t=1760739732; x=1761344532; h=references:in-reply-to:cc:to:from:subject:message-id:date :x-gm-message-state:from:to:cc:subject:date:message-id:reply-to; bh=HvuXhVoeyiVr6c2jFD+6+1Vm/Fxy0ajRG6pWxJTpXkU=; b=sR3x/AaWo4LFWr/Y/4NCVtQFI2m/SkudreUXyCPoDunu67KKie1q/DQIBWt/o8DD5E 4V4dCW9xuWfw8UE4DTBqxjVlaiopQIfJHgxhr05eI8j8H9jl0MqW1VIDQf5H2Lit6Xzr dJbvEsae2zP14flq7Q+IN9h5oahy8SPQtUcpmeWGFjUAzJeIxpCoftsvN68OZUankaFa ZAxm85LqaoyOHVwTUbBNXGzg3dynblAOTL3kUSn6kr6BEi1RTk9XFRT4qYJrcQbLGDDQ tuDpnhvdNvbpr/q5l182x+EesmTb2tU01kWd0q4/wbEbyWjd6ba8AtVR+sp69b7g76VW FnbQ== X-Gm-Message-State: AOJu0YxqlHKmlrKzzCSZz2ozQJoT2kBGT1Q7bryveN1tCg26+rwcHsXA FAqz3lg7ktAMUbr6L6mvoSk++6gqDUE5BpY83rrdfX7bpBa+2hbaoj4Q8fobM1GdHmTHjQ1Oo+U WLkhmM1otLHIQoDvaRY0VqROoRjzZBuExAPJnCaL0qs1HJ+UPbAfCgRuj05LC X-Gm-Gg: ASbGncs2vziiin4fAR62o4aLKMfAHG3kWevgDLu2uNNdSEHtEir7ZGY7CahkXxKuA9P rHbBQQFy0Cz+dEmtQ83SxXSvNeOS8a02vZZUCodejhDDBfJJ7AbVoTfrJvRUHqyVg4nLSvJl01j HMLB/XGDVHX0doyYq6aigjZMijE1RZ8hlIalplu036Vpkzexjm/bFOZcct9GGt9Gh5fMx/0zUC2 6/btM8WGH73/uzXici8pQ3ydIyLpGMOMZxSEqVpPC7rAxydlCpkMD9UvtKHqRNRrFgbSBImGeTH 1fwTNYI5bDI5/KWq8y7CGq97090zhewAnLhMNuJeuAP+AYFZkomCt9vE47icQ/UfuzWnmNUtgnz jo6RMPlPz X-Google-Smtp-Source: AGHT+IHBE5IAH9j39xeBa46YIVag/uW7W0mWRO3ndsDnGHWOOYBiZyvu3LFz3ABLGjQ+xvXEJr2EtHEAaf4s X-Received: by 2002:a17:902:e944:b0:262:9ac8:610f with SMTP id d9443c01a7336-290c9cdee1cmr54458695ad.22.1760739732630; Fri, 17 Oct 2025 15:22:12 -0700 (PDT) Received: from postal.iol.unh.edu (postal.iol.unh.edu. [2606:4100:3880:1234::84]) by smtp-relay.gmail.com with ESMTPS id d9443c01a7336-29246fea090sm677865ad.11.2025.10.17.15.22.12 (version=TLS1_2 cipher=ECDHE-ECDSA-AES128-GCM-SHA256 bits=128/128); Fri, 17 Oct 2025 15:22:12 -0700 (PDT) X-Relaying-Domain: iol.unh.edu Date: Fri, 17 Oct 2025 15:22:12 -0700 (PDT) Message-ID: <68f2c194.170a0220.24ba5.370dSMTPIN_ADDED_MISSING@mx.google.com> Received: from [172.21.0.2] (unknown [172.18.0.240]) by postal.iol.unh.edu (Postfix) with ESMTP id E55386051830; Fri, 17 Oct 2025 18:22:11 -0400 (EDT) Subject: |SUCCESS| pw157797-157799 [PATCH] [v7,3/3] doc: note on unsupported From: dpdklab@iol.unh.edu To: Test Report Cc: dpdk-test-reports@iol.unh.edu, Bruce Richardson In-Reply-To: <20251017103415.114400-4-shaiq.wani@intel.com> References: <20251017103415.114400-4-shaiq.wani@intel.com> Content-Type: text/plain X-BeenThere: test-report@dpdk.org X-Mailman-Version: 2.1.29 Precedence: list List-Id: automatic DPDK test reports List-Unsubscribe: , List-Archive: List-Post: List-Help: List-Subscribe: , Errors-To: test-report-bounces@dpdk.org Test-Label: iol-compile-arm64-testing Test-Status: SUCCESS http://dpdk.org/patch/157799 _Testing PASS_ Submitter: Shaiq Wani Date: Friday, October 17 2025 10:34:15 DPDK git baseline: Repo:dpdk-next-net-intel Branch: master CommitID:6b997d6b9ffdbb4f8ecd14d1f217da69cdc783af 157797-157799 --> testing pass Upstream job id: Generic-DPDK-Compile-Meson#435420 Test environment and result as below: +------------------------------+--------------------+ | Environment | dpdk_meson_compile | +==============================+====================+ | Red Hat Enterprise Linux 9.5 | PASS | +------------------------------+--------------------+ | Ubuntu 20.04 | PASS | +------------------------------+--------------------+ | Debian GNU/Linux 12 | PASS | +------------------------------+--------------------+ | Fedora Linux 42 | PASS | +------------------------------+--------------------+ | Ubuntu 22.04 | PASS | +------------------------------+--------------------+ | Ubuntu 24.04 | PASS | +------------------------------+--------------------+ | CentOS Stream 9 | PASS | +------------------------------+--------------------+ | CentOS Stream 10 | PASS | +------------------------------+--------------------+ Red Hat Enterprise Linux 9.5 Kernel: 5.4 Compiler: gcc gcc (GCC) 11.5.0 20240719 (Red Hat 11.5.0-2) Ubuntu 20.04 Kernel: 5.15 Compiler: aarch64-linux-gnu-gcc gcc (Ubuntu 9.4.0-1ubuntu1~20.04.2) 9.4.0 Debian GNU/Linux 12 Kernel: 5.4 Compiler: gcc gcc (Debian 12.2.0-14+deb12u1) 12.2.0 Fedora Linux 42 Kernel: 5.4 Compiler: gcc gcc (GCC) 15.2.1 20250808 (Red Hat 15.2.1-1) Ubuntu 22.04 Kernel: 5.4 Compiler: gcc gcc (Ubuntu 11.4.0-1ubuntu1~22.04) 11.4.0 Ubuntu 24.04 Kernel: 5.4 Compiler: gcc gcc (Ubuntu 13.3.0-6ubuntu2~24.04) 13.3.0 CentOS Stream 9 Kernel: 5.4 Compiler: gcc gcc (GCC) 11.5.0 20240719 (Red Hat 11.5.0-11) CentOS Stream 10 Kernel: 5.4 Compiler: gcc gcc (GCC) 14.2.1 20250110 (Red Hat 14.2.1-8) To view detailed results, visit: https://lab.dpdk.org/results/dashboard/patchsets/34311/ UNH-IOL DPDK Community Lab To manage your email subscriptions, visit: https://lab.dpdk.org/results/dashboard/preferences/subscriptions/