From mboxrd@z Thu Jan 1 00:00:00 1970 Return-Path: Received: from mails.dpdk.org (mails.dpdk.org [217.70.189.124]) by inbox.dpdk.org (Postfix) with ESMTP id 1179B48967 for ; Sat, 18 Oct 2025 00:31:44 +0200 (CEST) Received: from mails.dpdk.org (localhost [127.0.0.1]) by mails.dpdk.org (Postfix) with ESMTP id EB639400D7; Sat, 18 Oct 2025 00:31:43 +0200 (CEST) Received: from mail-il1-f228.google.com (mail-il1-f228.google.com [209.85.166.228]) by mails.dpdk.org (Postfix) with ESMTP id CF722400D7 for ; Sat, 18 Oct 2025 00:31:42 +0200 (CEST) Received: by mail-il1-f228.google.com with SMTP id e9e14a558f8ab-430a5fe0c5cso18933285ab.0 for ; Fri, 17 Oct 2025 15:31:42 -0700 (PDT) DKIM-Signature: v=1; a=rsa-sha256; c=relaxed/relaxed; d=iol.unh.edu; s=unh-iol; t=1760740302; x=1761345102; darn=dpdk.org; h=references:in-reply-to:cc:to:from:subject:message-id:date:from:to :cc:subject:date:message-id:reply-to; bh=PEZOfJk/R74TEL+3QrkhC1eiTddNP7ntM5cDz8Nv63A=; b=aHDbX3nG7ZohO/rEDEXIxnHRJ+vf1rvQzX0sn2hUm0IwXvJ2pzJtRXXp1OrbNdSrRf rvam2hc+GWQPiy5j+EA7Sv4F1Sf1o+rISnAiYxJzzNNfxCzVFrbTvs42vEs0EanWpVIm jejkYqeMjygc04McG95rjGO1Ra01K9H5y4Xhw= X-Google-DKIM-Signature: v=1; a=rsa-sha256; c=relaxed/relaxed; d=1e100.net; s=20230601; t=1760740302; x=1761345102; h=references:in-reply-to:cc:to:from:subject:message-id:date :x-gm-message-state:from:to:cc:subject:date:message-id:reply-to; bh=PEZOfJk/R74TEL+3QrkhC1eiTddNP7ntM5cDz8Nv63A=; b=DSwkLK5RRQ8PT358J93uUTrjOGmx7nL4tP7H/xI0zGhF7ok8bxMsG+MK5j9J7Cti0p SG/XeKdFSovNLJl5DO9hPINFlExWtbXYItuEn2n9M9tdNTBht0eZV/oYAaE+VfDF95wf LsujEfW/YfP23BpnY1AeMPhs+FMcH4yvVandwc8w8UhfyLlOH9XUlwZphwdgWjwW1LKE jsCDQw/1cb8xvhvN8bMPmXPgjqR5YdUF2lecsBS2N/KngBfd0x5EwzBd0GvYv+rwUzk4 tU8XbtiqzytPeoQu8afeQ33UK4hPKU1QNETivtOoAWplLyp54C6z8XykNjlWqO0CENh6 5vSw== X-Gm-Message-State: AOJu0YwXis+nrAaKO0WS0UVFCbVkRPbqwkwyjJjRDwvRsOEVYX5desyV UevhOTh57Hj/JCCBD79ugZj8ziSnBPWTZJxXjqx4tanbWnRaBlzmfAqhGSs3nwML4B5tuxSKL/5 6hVNnKslUVnm5ciluh133hHtu7sA6pZBrYEwUl9hC+wII X-Gm-Gg: ASbGnctSNH7GmC2vQmCVHV0ZBIMhlCG8ro/0GZVdxUvtiCr52tO7uOlslYLxJTUBxhG ixW2kOwzrUK+VKdlQex0gdCYnPlJtNbmymaTqVvhl+5bLeQvaKG01dFLUCKw7aIG5itfPYeoDjD o9v0KEao+QwknJTSTnlaiUn1yL7HCptvu33Bxvke+4tH5RN5EWwfLJ6xJFRPLsjiRqcMPvdWSdv Ay+7/VJVSY1lpkOxdwnZ/Q4/ywgA41HIprLDFzNh/5Cis8QTmSB0fshBiLmiWCBYENVMsNt5uKg fD2S6SxlxzW5hctlCmWv5/UTEMnA+UZjuikLf7HZDqX7jQfWya9WK2B0CyRPiLUkwnqv5aTkBF6 RVLzLYl+cIkJnPxW9SEkSKvTJ/En4j+A= X-Google-Smtp-Source: AGHT+IFm6M4qi6bRdqAh/RIsKQyyhsbwNo0QbhSTh/ZaDWwMebowhZuvvqFgoQmwVKexvE6NSalMlWV78nN6 X-Received: by 2002:a05:6e02:3c05:b0:430:ac49:b3b1 with SMTP id e9e14a558f8ab-430c5247174mr84683495ab.12.1760740302147; Fri, 17 Oct 2025 15:31:42 -0700 (PDT) Received: from postal.iol.unh.edu (postal.iol.unh.edu. [132.177.123.84]) by smtp-relay.gmail.com with ESMTPS id e9e14a558f8ab-430d072ab18sm849675ab.16.2025.10.17.15.31.42 (version=TLS1_2 cipher=ECDHE-ECDSA-AES128-GCM-SHA256 bits=128/128); Fri, 17 Oct 2025 15:31:42 -0700 (PDT) X-Relaying-Domain: iol.unh.edu Date: Fri, 17 Oct 2025 15:31:42 -0700 (PDT) Message-ID: <68f2c3ce.920a0220.232233.46d4SMTPIN_ADDED_MISSING@mx.google.com> Received: from [172.21.0.2] (unknown [172.18.0.240]) by postal.iol.unh.edu (Postfix) with ESMTP id B11936051830; Fri, 17 Oct 2025 18:31:41 -0400 (EDT) Subject: |WARNING| pw157812-157813 [PATCH] [v2,2/2] usertools/dpdk-telemetry- From: dpdklab@iol.unh.edu To: Test Report Cc: dpdk-test-reports@iol.unh.edu In-Reply-To: <20251017141927.1156370-3-bruce.richardson@intel.com> References: <20251017141927.1156370-3-bruce.richardson@intel.com> Content-Type: text/plain X-BeenThere: test-report@dpdk.org X-Mailman-Version: 2.1.29 Precedence: list List-Id: automatic DPDK test reports List-Unsubscribe: , List-Archive: List-Post: List-Help: List-Subscribe: , Errors-To: test-report-bounces@dpdk.org Test-Label: iol-compile-amd64-testing Test-Status: WARNING http://dpdk.org/patch/157813 _Testing issues_ Submitter: Bruce Richardson Date: Friday, October 17 2025 14:19:27 DPDK git baseline: Repo:dpdk Branch: master CommitID:438491733c2d8a109574449d3d6de9b25a05c07c 157812-157813 --> testing issues Upstream job id: Generic-DPDK-Compile-Meson#435562 Test environment and result as below: +---------------------+-------------------------+-------------------+--------------------+----------------------+-------------------+ | Environment | dpdk_llvm_clang_compile | dpdk_msvc_compile | dpdk_meson_compile | dpdk_mingw64_compile | dpdk_compile_spdk | +=====================+=========================+===================+====================+======================+===================+ | Windows Server 2022 | PASS | PASS | SKIPPED | PASS | SKIPPED | +---------------------+-------------------------+-------------------+--------------------+----------------------+-------------------+ | FreeBSD 14.2 | SKIPPED | SKIPPED | PASS | SKIPPED | SKIPPED | +---------------------+-------------------------+-------------------+--------------------+----------------------+-------------------+ | Ubuntu 20.04 | SKIPPED | SKIPPED | PASS | SKIPPED | SKIPPED | +---------------------+-------------------------+-------------------+--------------------+----------------------+-------------------+ | CentOS Stream 9 | SKIPPED | SKIPPED | PASS | SKIPPED | WARN | +---------------------+-------------------------+-------------------+--------------------+----------------------+-------------------+ ==== 20 line log output for CentOS Stream 9 (dpdk_compile_spdk): ==== --- Failed to get log output --- ==== End log output ==== Windows Server 2022 Kernel: 10.0.20348.2031 Compiler: clang 15.0.7, gcc 14.1.0 (MinGW), and MSVC VS 19.39.33521 FreeBSD 14.2 Kernel: 14.2-RELEASE Compiler: clang 18.1.6 Ubuntu 20.04 Kernel: 4.19 Compiler: gcc gcc (Ubuntu 9.4.0-1ubuntu1~20.04.2) 9.4.0 CentOS Stream 9 Kernel: 5.15 Compiler: gcc gcc (GCC) 11.5.0 20240719 (Red Hat 11.5.0-11) To view detailed results, visit: https://lab.dpdk.org/results/dashboard/patchsets/34319/ UNH-IOL DPDK Community Lab To manage your email subscriptions, visit: https://lab.dpdk.org/results/dashboard/preferences/subscriptions/