From mboxrd@z Thu Jan 1 00:00:00 1970 Return-Path: Received: from mails.dpdk.org (mails.dpdk.org [217.70.189.124]) by inbox.dpdk.org (Postfix) with ESMTP id C601148967 for ; Sat, 18 Oct 2025 00:52:14 +0200 (CEST) Received: from mails.dpdk.org (localhost [127.0.0.1]) by mails.dpdk.org (Postfix) with ESMTP id AC68F400D7; Sat, 18 Oct 2025 00:52:14 +0200 (CEST) Received: from mail-yw1-f226.google.com (mail-yw1-f226.google.com [209.85.128.226]) by mails.dpdk.org (Postfix) with ESMTP id AB5D9400D7 for ; Sat, 18 Oct 2025 00:52:13 +0200 (CEST) Received: by mail-yw1-f226.google.com with SMTP id 00721157ae682-7829fc3b7deso19960457b3.3 for ; Fri, 17 Oct 2025 15:52:13 -0700 (PDT) DKIM-Signature: v=1; a=rsa-sha256; c=relaxed/relaxed; d=iol.unh.edu; s=unh-iol; t=1760741533; x=1761346333; darn=dpdk.org; h=references:in-reply-to:cc:to:from:subject:message-id:date:from:to :cc:subject:date:message-id:reply-to; bh=m2vC6KoKizYLjSy6q0dM+BlKhxwkScX1aNd8UOJKjCk=; b=VwP3hGCr2li4eaXWgNV/bWfEbhzOfYS/nm6HDRVdHEWHoVneVewPbfqtMBJqZ/Mwm0 9ND/OiyLxzT0agcnuuWM24ZXQlwJulqJUjmsLQgCcPtobN6AWbvBKG1CSkYwsd1XcnA3 L+8VKC98/mZJnaAq3FgXOYihfjmlvLENk4IQ8= X-Google-DKIM-Signature: v=1; a=rsa-sha256; c=relaxed/relaxed; d=1e100.net; s=20230601; t=1760741533; x=1761346333; h=references:in-reply-to:cc:to:from:subject:message-id:date :x-gm-message-state:from:to:cc:subject:date:message-id:reply-to; bh=m2vC6KoKizYLjSy6q0dM+BlKhxwkScX1aNd8UOJKjCk=; b=jSJwmaYL8zcWX+0LfqFn1pdiOYB6KP3bjWCdMJ3qsDWcuRFPaiz7HMdN7DIxix1iH7 l7RqPffTG8VJjKTttUzyQLfca/qY1p6yBErd0tfO2fPMLcZL5NmMtHInyQ2UUIw6EWuH /U7XZHJW4KTsxyLWmHpHH3VTp10NEKl3lYTpVuqfP0kwB+mwzmaXQdu8yz/rXFPpjvmC 4NhpEorMWW4kZCs3dZ01RpSOpsRf+cRFrfKODlPq4FC7Z4drdrSS3kIlJ8KDNDtou5a7 4kScoLMSfek3tKIKeJxIvQmdKA9M/rj4rZQ37l9lBy2DIMPiGVveK3xel+W8ZqA8zPby 9JxQ== X-Gm-Message-State: AOJu0YzNyE5kbGooO5y+Ws5SmxLr8/pLSG9nNzZTVt0e1lbEorqwp/sX GjY7gVtlkdGa32XmrQoi60SQQRpilgB18lZvTe5NXXl8KPLDlTXEOFJC2ppiTwy63f9dQOus0+f 5FLalYvFD7mmh1+CqJ1x7lMDDuzPUGcVYUafUS5n4lqNb X-Gm-Gg: ASbGncv7g/7QLoaqmbS389gqhV3wuiYSiQWH/v0bJr0/YKQzX+TGUulGjQO/Ld0YJei C7TD/dJkyQvBgdDFyS7WkOtnflrks5w/bQOrGYjuEYPnWw5gAGXFCTRnDppiRijpT7bPFLOxdA7 nzareswDheC5fb2BHHNchJ1qXPHVT04B0USuzChySdIaE4mm59fteB5/lfC50x4JMHYHbj/H83n T7seRw1eDkKDQbSpezc5rXBtbgYT5iEhey7Nt8/6PRYiZFSDFH4yjsOzE2aHeIaBA4SVqS8JOoG An1ibHm5uJKbu2gviviA+5pwJOAI9HC1e7GgNtQ2cBzTjTpdtT8OEZL0Qf1Tj866/O6pN8WQ8eI XiJWfUFgxjP/rgJy62wUoSlSf9TZNV0Q= X-Google-Smtp-Source: AGHT+IHcik42NLJYaXr9fAlHzmU0bIaytTNNsgzmD5nvfS6ka9mAS6l+12IrF6QaAgvwPPpeptRwrCXR3vYe X-Received: by 2002:a05:690c:6891:b0:781:64f:2b33 with SMTP id 00721157ae682-7836d396a66mr50771707b3.69.1760741532983; Fri, 17 Oct 2025 15:52:12 -0700 (PDT) Received: from postal.iol.unh.edu (postal.iol.unh.edu. [132.177.123.84]) by smtp-relay.gmail.com with ESMTPS id 00721157ae682-7846a69946esm529197b3.34.2025.10.17.15.52.12 (version=TLS1_2 cipher=ECDHE-ECDSA-AES128-GCM-SHA256 bits=128/128); Fri, 17 Oct 2025 15:52:12 -0700 (PDT) X-Relaying-Domain: iol.unh.edu Date: Fri, 17 Oct 2025 15:52:12 -0700 (PDT) Message-ID: <68f2c89c.050a0220.306f79.2a28SMTPIN_ADDED_MISSING@mx.google.com> Received: from [172.21.0.3] (unknown [172.18.0.240]) by postal.iol.unh.edu (Postfix) with ESMTP id 8970960003EA; Fri, 17 Oct 2025 18:52:12 -0400 (EDT) Subject: |SUCCESS| pw157800-157801 [PATCH] [2/2] app/pdump: improve cmdline a From: dpdklab@iol.unh.edu To: Test Report Cc: dpdk-test-reports@iol.unh.edu In-Reply-To: <20251017110638.1094371-2-bruce.richardson@intel.com> References: <20251017110638.1094371-2-bruce.richardson@intel.com> Content-Type: text/plain X-BeenThere: test-report@dpdk.org X-Mailman-Version: 2.1.29 Precedence: list List-Id: automatic DPDK test reports List-Unsubscribe: , List-Archive: List-Post: List-Help: List-Subscribe: , Errors-To: test-report-bounces@dpdk.org Test-Label: iol-compile-arm64-testing Test-Status: SUCCESS http://dpdk.org/patch/157801 _Testing PASS_ Submitter: Bruce Richardson Date: Friday, October 17 2025 11:06:37 DPDK git baseline: Repo:dpdk Branch: master CommitID:438491733c2d8a109574449d3d6de9b25a05c07c 157800-157801 --> testing pass Upstream job id: Generic-DPDK-Compile-Meson#435458 Test environment and result as below: +------------------------------+--------------------+ | Environment | dpdk_meson_compile | +==============================+====================+ | Red Hat Enterprise Linux 9.5 | PASS | +------------------------------+--------------------+ | Ubuntu 20.04 | PASS | +------------------------------+--------------------+ | Debian GNU/Linux 12 | PASS | +------------------------------+--------------------+ | Fedora Linux 42 | PASS | +------------------------------+--------------------+ | Ubuntu 22.04 | PASS | +------------------------------+--------------------+ | Ubuntu 24.04 | PASS | +------------------------------+--------------------+ | CentOS Stream 9 | PASS | +------------------------------+--------------------+ | CentOS Stream 10 | PASS | +------------------------------+--------------------+ Red Hat Enterprise Linux 9.5 Kernel: 5.4 Compiler: gcc gcc (GCC) 11.5.0 20240719 (Red Hat 11.5.0-2) Ubuntu 20.04 Kernel: 5.15 Compiler: aarch64-linux-gnu-gcc gcc (Ubuntu 9.4.0-1ubuntu1~20.04.2) 9.4.0 Debian GNU/Linux 12 Kernel: 5.4 Compiler: gcc gcc (Debian 12.2.0-14+deb12u1) 12.2.0 Fedora Linux 42 Kernel: 5.4 Compiler: gcc gcc (GCC) 15.2.1 20250808 (Red Hat 15.2.1-1) Ubuntu 22.04 Kernel: 5.4 Compiler: gcc gcc (Ubuntu 11.4.0-1ubuntu1~22.04) 11.4.0 Ubuntu 24.04 Kernel: 5.4 Compiler: gcc gcc (Ubuntu 13.3.0-6ubuntu2~24.04) 13.3.0 CentOS Stream 9 Kernel: 5.4 Compiler: gcc gcc (GCC) 11.5.0 20240719 (Red Hat 11.5.0-11) CentOS Stream 10 Kernel: 5.4 Compiler: gcc gcc (GCC) 14.2.1 20250110 (Red Hat 14.2.1-8) To view detailed results, visit: https://lab.dpdk.org/results/dashboard/patchsets/34312/ UNH-IOL DPDK Community Lab To manage your email subscriptions, visit: https://lab.dpdk.org/results/dashboard/preferences/subscriptions/