From mboxrd@z Thu Jan 1 00:00:00 1970 Return-Path: Received: from mails.dpdk.org (mails.dpdk.org [217.70.189.124]) by inbox.dpdk.org (Postfix) with ESMTP id AEDC848967 for ; Sat, 18 Oct 2025 01:13:05 +0200 (CEST) Received: from mails.dpdk.org (localhost [127.0.0.1]) by mails.dpdk.org (Postfix) with ESMTP id 88E17400D7; Sat, 18 Oct 2025 01:13:05 +0200 (CEST) Received: from mail-io1-f100.google.com (mail-io1-f100.google.com [209.85.166.100]) by mails.dpdk.org (Postfix) with ESMTP id D5874400D7 for ; Sat, 18 Oct 2025 01:13:03 +0200 (CEST) Received: by mail-io1-f100.google.com with SMTP id ca18e2360f4ac-93e7c7c3d0bso108787839f.2 for ; Fri, 17 Oct 2025 16:13:03 -0700 (PDT) DKIM-Signature: v=1; a=rsa-sha256; c=relaxed/relaxed; d=iol.unh.edu; s=unh-iol; t=1760742783; x=1761347583; darn=dpdk.org; h=cc:to:from:subject:message-id:date:from:to:cc:subject:date :message-id:reply-to; bh=u6H19IO5hYvA+oAvU4eZhySQM9qTpiYQC0/XEC3I9ck=; b=eoCT0pQBEP+Apqh1G9ZieGVWRma7BKm1QQOAgVJd8e7nCzUVqH2Gu+ciRFwgWPmUUn 33VmRozHNKHLpEyPY0AFaujrh0XGQvSefJLUDrOqGalUOpWkaXI89AwdcZdcfWlNLm2Z 7JFGr8td7ZBU3Tw5VvhIkEq8OpNZfw5HsBIkY= X-Google-DKIM-Signature: v=1; a=rsa-sha256; c=relaxed/relaxed; d=1e100.net; s=20230601; t=1760742783; x=1761347583; h=cc:to:from:subject:message-id:date:x-gm-message-state:from:to:cc :subject:date:message-id:reply-to; bh=u6H19IO5hYvA+oAvU4eZhySQM9qTpiYQC0/XEC3I9ck=; b=E6DYSQawN4eto+9HE19GlV3y3IQ5eE1s9lHoCndx1GHhRg+9A8I+bYJHrC4+snw7Uf o5sCjMsQqY5teHCeTTkZC50L104vkgbRQo05878Ix6RoGfcwLj79yyMIb2u/qdv05our tZUyysN5B79RIGSWMGSxj2SuJXFOL0VoqjqYrSphzX69/M50aHqj920aATfgjFX5jvti tGycT+NH/Aw5uhzgbDR0/FqXSSNi5Qb9s6RofWJ3bo8reXvPepP0uPZHmQKYaOM1Cloa IwtAjHYVDee5MYYKisMjN1aehZ1S/EK8L6Zv+bCbuZqFxYDm/wLC4tyS30IOL2A1wusN d/9w== X-Gm-Message-State: AOJu0Yw8sg9DWRaCs/FbOuZEw5zVWdleLKdG+Zn+xzsNwm9n8+NcNNiQ efMgJHbxOBE7I9VZOZMmhXzMN6u7AC7r690K5nsSJrBQEtBJ42XjW/Jd4lqJYbgeHeCjRSD9rYG KICrF38/OQ9JuaifRuWg5sF4+hepGspW0wlaS X-Gm-Gg: ASbGncsrDq9gyJjUlt2FjuDJzICI/61i1eY8rvuAZj/V/rogEKJp8asH1HSUlMU/8ck jTOydBvfYcjd84kbjjdTNqBFyiwbCRPRJEsia7pTWm31S2P/FEozD+GBnONlT/xRwW2Hfb+zHTU orjR0YdM8lZTK1ox0r+gzMLJfPZ9X6DWROSPrfClY2hywcAMYg3skp/lNB2ET9jObDiMIOqGlnR wFConxIWEUqIQtsPCTqSkAoquDbUHadhXn5CaotT9K11vQx9OL3iBi31SONYvr4CeNVSiXVkV8P 70AdARConoZtWxb/3wrkuu9sA7sNdlh4pEWnvphIOqYm8DGzB+0mgiFOU4N/vcVW3iDglIWHA4I gWo3sGEQc1djkIM4CMhtM3vcLIpJOkvk= X-Google-Smtp-Source: AGHT+IGaa8zipPXreP/XffVO0gyICdRFYp1EjM98bQc0DzZeCkaWqRzZLb8Fr2UGXeDtUTSjSJRvI6UFvlSR X-Received: by 2002:a05:6e02:190c:b0:430:ab4e:7e3 with SMTP id e9e14a558f8ab-430c5268de7mr78368735ab.16.1760742783126; Fri, 17 Oct 2025 16:13:03 -0700 (PDT) Received: from postal.iol.unh.edu (postal.iol.unh.edu. [132.177.123.84]) by smtp-relay.gmail.com with ESMTPS id 8926c6da1cb9f-5a8a9745a35sm78072173.24.2025.10.17.16.13.03 (version=TLS1_2 cipher=ECDHE-ECDSA-AES128-GCM-SHA256 bits=128/128); Fri, 17 Oct 2025 16:13:03 -0700 (PDT) X-Relaying-Domain: iol.unh.edu Date: Fri, 17 Oct 2025 16:13:03 -0700 (PDT) Message-ID: <68f2cd7f.050a0220.268b13.3e79SMTPIN_ADDED_MISSING@mx.google.com> Received: from [172.21.0.2] (unknown [172.18.0.240]) by postal.iol.unh.edu (Postfix) with ESMTP id 7C5386051830; Fri, 17 Oct 2025 19:13:02 -0400 (EDT) Subject: |SUCCESS| [GIT MASTER] 3b43ce3f4a54468e7ef65760c2fd7b4d6ee6d9fc From: dpdklab@iol.unh.edu To: Test Report Cc: dpdk-test-reports@iol.unh.edu, Xueming Li , Christian Ehrhardt , Kevin Traynor , Luca Boccassi Content-Type: text/plain X-BeenThere: test-report@dpdk.org X-Mailman-Version: 2.1.29 Precedence: list List-Id: automatic DPDK test reports List-Unsubscribe: , List-Archive: List-Post: List-Help: List-Subscribe: , Errors-To: test-report-bounces@dpdk.org _Testing PASS_ Branch: tags/v22.11 3b43ce3f4a54468e7ef65760c2fd7b4d6ee6d9fc --> testing pass Upstream job id: Generic-Unit-Test-DPDK#382427 Test environment and result as below: +-----------------+------------------------------+---------------------------+--------------+----------------+ | Environment | cryptodev_sw_snow3g_autotest | cryptodev_sw_zuc_autotest | lpm_autotest | dpdk_unit_test | +=================+==============================+===========================+==============+================+ | Debian 12 (arm) | PASS | PASS | SKIPPED | SKIPPED | +-----------------+------------------------------+---------------------------+--------------+----------------+ | Ubuntu 20.04 | SKIPPED | SKIPPED | PASS | SKIPPED | +-----------------+------------------------------+---------------------------+--------------+----------------+ | Ubuntu 22.04 | SKIPPED | SKIPPED | SKIPPED | PASS | +-----------------+------------------------------+---------------------------+--------------+----------------+ Debian 12 (arm) Kernel: Depends on container host Compiler: gcc (Debian 12.2.0-14) 12.2.0 Ubuntu 20.04 Kernel: 5.4 Compiler: gcc gcc (Ubuntu 9.4.0-1ubuntu1~20.04.2) 9.4.0 Ubuntu 22.04 Kernel: 5.15 Compiler: gcc gcc (Ubuntu 11.4.0-1ubuntu1~22.04.2) 11.4.0 To view detailed results, visit: https://lab.dpdk.org/results/dashboard/tarballs/35243/ UNH-IOL DPDK Community Lab To manage your email subscriptions, visit: https://lab.dpdk.org/results/dashboard/preferences/subscriptions/