From mboxrd@z Thu Jan 1 00:00:00 1970 Return-Path: Received: from mails.dpdk.org (mails.dpdk.org [217.70.189.124]) by inbox.dpdk.org (Postfix) with ESMTP id E91E948967 for ; Sat, 18 Oct 2025 01:16:23 +0200 (CEST) Received: from mails.dpdk.org (localhost [127.0.0.1]) by mails.dpdk.org (Postfix) with ESMTP id E27A5400D7; Sat, 18 Oct 2025 01:16:23 +0200 (CEST) Received: from mail-ua1-f98.google.com (mail-ua1-f98.google.com [209.85.222.98]) by mails.dpdk.org (Postfix) with ESMTP id 5B1B3400D7 for ; Sat, 18 Oct 2025 01:16:22 +0200 (CEST) Received: by mail-ua1-f98.google.com with SMTP id a1e0cc1a2514c-89018e9f902so1461896241.0 for ; Fri, 17 Oct 2025 16:16:22 -0700 (PDT) DKIM-Signature: v=1; a=rsa-sha256; c=relaxed/relaxed; d=iol.unh.edu; s=unh-iol; t=1760742981; x=1761347781; darn=dpdk.org; h=references:in-reply-to:cc:to:from:subject:message-id:date:from:to :cc:subject:date:message-id:reply-to; bh=jkpLLLVCE3f8gY+E78zgDY6aOKm6TWnpP82olIzyZ7E=; b=Ic6CIEXPSoZ9i3c9T4g+2XwBvszIFLKDqy8qfo8KAtuQDAl51WXjpA+wuXMq+I27rZ hG6lPjc0Dp/alqDJRdoWwpiaJbNpJEzJsWD8CeUi0kEokdP64U1QbTeXebkoivAzz9L+ sX7u+xC7IWX1UCiK/kfAriUmKGI2VJo9/ocP8= X-Google-DKIM-Signature: v=1; a=rsa-sha256; c=relaxed/relaxed; d=1e100.net; s=20230601; t=1760742981; x=1761347781; h=references:in-reply-to:cc:to:from:subject:message-id:date :x-gm-message-state:from:to:cc:subject:date:message-id:reply-to; bh=jkpLLLVCE3f8gY+E78zgDY6aOKm6TWnpP82olIzyZ7E=; b=WcTPjCm34AKLy6DCCIXRy8JUFfF9r+3UpdLQ9ZxHG8x4m7Yeo3Vp0zE3a81oX4uApW p0EsfnXZ/obNXhbIAhz3VckbYUpTTj97hHbzrd9VneRl1U3Z2udCHECQzMNcM1UijyK6 r4ojAqSgUkn4ZKoa6UDnzNKeO9TO/2eA0lujZC1okIxJuzkBN/pp5FWxq/w0P6qjhjAP B9XVTWpkMQNWS/+3h38reV4AuRQs8KlZ08aiWpn0/3FIRl2cFJWYO1+aVwtZAvp3W/b5 NZbdM68nIFV4PtcpNiAYAHCz//EF9W2aJ7lsv+oCEKHIHkgMBdk7dG54sp44U1+I0zIf 6D3A== X-Gm-Message-State: AOJu0Yxo6kX599mgFOo3iVZ5TCqx+XXR3ymM+EZutoYBG2yb46uU76+w DCxqVxnDbSW1CWAfrIJUoFuMU5hQ1vugwryzP1Q0QOdJZIwKd31ZG9D6FMzAHXUzAvRg/0UOhKQ XvfF0HWqYSQY+t8Px9+mgpLNQlDNXmdiMySvkfRE8nH3TxFTdbl+9HvJLiQL1 X-Gm-Gg: ASbGncsj2XgjFrZ3NLT2zky3proEFKQJN/MZ1z+Rj+3bWKfN9FziMSifnLaC97MKF97 f6U99mNnKzgF2f6A8w+AZBOjQuMCPSN/Oa3lwWYn3bdDSp+63deqxA9k32hzDsSpel8b/JjFJTz FhL8iRpKSE8yrWYVeSltAz2TZmgTR7rVR1kNhwyUGZVDY1tNBex15c1Y93ljqr5MyjhOErJZiDo BpO5XISdH6GXU1rvcCX1m7BMneEI1VIbuca0fZIFiH67zV9iyfk7vQL3j1ZPk5yrgT6GaYSyqfp 9tdx3Tc6eRX0im009eF+EevStDwZitjVPOqHbRJMSdz+bv0vAU0z746s/dtU4lHKB340/q+0zzL F/NUTLwGs X-Google-Smtp-Source: AGHT+IHUNi1u5TJR2N9cebTLM6DsDtPL069DNMwed3ZM+ajlXCFJ7xIhbhAjXn+HKSn7ox7ij9/75OU5KUCF X-Received: by 2002:a05:6102:3a0a:b0:5be:57a1:3eda with SMTP id ada2fe7eead31-5d7dd555917mr2677734137.2.1760742981578; Fri, 17 Oct 2025 16:16:21 -0700 (PDT) Received: from postal.iol.unh.edu (postal.iol.unh.edu. [2606:4100:3880:1234::84]) by smtp-relay.gmail.com with ESMTPS id 71dfb90a1353d-556620657casm96740e0c.5.2025.10.17.16.16.21 (version=TLS1_2 cipher=ECDHE-ECDSA-AES128-GCM-SHA256 bits=128/128); Fri, 17 Oct 2025 16:16:21 -0700 (PDT) X-Relaying-Domain: iol.unh.edu Date: Fri, 17 Oct 2025 16:16:21 -0700 (PDT) Message-ID: <68f2ce45.050a0220.1c84c4.4fa8SMTPIN_ADDED_MISSING@mx.google.com> Received: from [172.21.0.2] (unknown [172.18.0.240]) by postal.iol.unh.edu (Postfix) with ESMTP id 3F3546051830; Fri, 17 Oct 2025 19:16:21 -0400 (EDT) Subject: |WARNING| pw157812-157813 [PATCH] [v2,2/2] usertools/dpdk-telemetry- From: dpdklab@iol.unh.edu To: Test Report Cc: dpdk-test-reports@iol.unh.edu In-Reply-To: <20251017141927.1156370-3-bruce.richardson@intel.com> References: <20251017141927.1156370-3-bruce.richardson@intel.com> Content-Type: text/plain X-BeenThere: test-report@dpdk.org X-Mailman-Version: 2.1.29 Precedence: list List-Id: automatic DPDK test reports List-Unsubscribe: , List-Archive: List-Post: List-Help: List-Subscribe: , Errors-To: test-report-bounces@dpdk.org Test-Label: iol-compile-amd64-testing Test-Status: WARNING http://dpdk.org/patch/157813 _Testing issues_ Submitter: Bruce Richardson Date: Friday, October 17 2025 14:19:27 DPDK git baseline: Repo:dpdk Branch: master CommitID:438491733c2d8a109574449d3d6de9b25a05c07c 157812-157813 --> testing issues Upstream job id: Generic-DPDK-Compile-Meson#435574 Test environment and result as below: +-------------------------------+-------------------------+-------------------+--------------------+----------------------+-------------------+------------------+ | Environment | dpdk_llvm_clang_compile | dpdk_msvc_compile | dpdk_meson_compile | dpdk_mingw64_compile | dpdk_compile_spdk | dpdk_compile_ovs | +===============================+=========================+===================+====================+======================+===================+==================+ | Windows Server 2022 | PASS | PASS | SKIPPED | PASS | SKIPPED | SKIPPED | +-------------------------------+-------------------------+-------------------+--------------------+----------------------+-------------------+------------------+ | FreeBSD 14.2 | SKIPPED | SKIPPED | PASS | SKIPPED | SKIPPED | SKIPPED | +-------------------------------+-------------------------+-------------------+--------------------+----------------------+-------------------+------------------+ | Ubuntu 20.04 | SKIPPED | SKIPPED | PASS | SKIPPED | SKIPPED | SKIPPED | +-------------------------------+-------------------------+-------------------+--------------------+----------------------+-------------------+------------------+ | CentOS Stream 9 | SKIPPED | SKIPPED | PASS | SKIPPED | WARN | SKIPPED | +-------------------------------+-------------------------+-------------------+--------------------+----------------------+-------------------+------------------+ | CentOS Stream 10 | SKIPPED | SKIPPED | PASS | SKIPPED | SKIPPED | SKIPPED | +-------------------------------+-------------------------+-------------------+--------------------+----------------------+-------------------+------------------+ | Debian GNU/Linux 12 | SKIPPED | SKIPPED | PASS | SKIPPED | WARN | SKIPPED | +-------------------------------+-------------------------+-------------------+--------------------+----------------------+-------------------+------------------+ | Fedora Linux 42 | SKIPPED | SKIPPED | PASS | SKIPPED | WARN | PASS | +-------------------------------+-------------------------+-------------------+--------------------+----------------------+-------------------+------------------+ | openSUSE Leap 15.6 | SKIPPED | SKIPPED | PASS | SKIPPED | SKIPPED | SKIPPED | +-------------------------------+-------------------------+-------------------+--------------------+----------------------+-------------------+------------------+ | Red Hat Enterprise Linux 8.10 | SKIPPED | SKIPPED | PASS | SKIPPED | SKIPPED | SKIPPED | +-------------------------------+-------------------------+-------------------+--------------------+----------------------+-------------------+------------------+ | Red Hat Enterprise Linux 9.5 | SKIPPED | SKIPPED | PASS | SKIPPED | SKIPPED | SKIPPED | +-------------------------------+-------------------------+-------------------+--------------------+----------------------+-------------------+------------------+ | Ubuntu 22.04 | SKIPPED | SKIPPED | PASS | SKIPPED | WARN | SKIPPED | +-------------------------------+-------------------------+-------------------+--------------------+----------------------+-------------------+------------------+ | Ubuntu 24.04 | SKIPPED | SKIPPED | PASS | SKIPPED | WARN | PASS | +-------------------------------+-------------------------+-------------------+--------------------+----------------------+-------------------+------------------+ | Alpine Linux 3.22.0 | SKIPPED | SKIPPED | PASS | SKIPPED | SKIPPED | SKIPPED | +-------------------------------+-------------------------+-------------------+--------------------+----------------------+-------------------+------------------+ ==== 20 line log output for Ubuntu 24.04 (dpdk_compile_spdk): ==== --- Failed to get log output --- ==== End log output ==== Windows Server 2022 Kernel: 10.0.20348.2031 Compiler: clang 15.0.7, gcc 14.1.0 (MinGW), and MSVC VS 19.39.33521 FreeBSD 14.2 Kernel: 14.2-RELEASE Compiler: clang 18.1.6 Ubuntu 20.04 Kernel: 4.19 Compiler: gcc gcc (Ubuntu 9.4.0-1ubuntu1~20.04.2) 9.4.0 CentOS Stream 9 Kernel: 5.15 Compiler: gcc gcc (GCC) 11.5.0 20240719 (Red Hat 11.5.0-11) CentOS Stream 10 Kernel: 5.15 Compiler: gcc gcc (GCC) 14.2.1 20250110 (Red Hat 14.2.1-8) Debian GNU/Linux 12 Kernel: 5.15 Compiler: gcc gcc (Debian 12.2.0-14+deb12u1) 12.2.0 Fedora Linux 42 Kernel: 5.15 Compiler: clang gcc (GCC) 15.2.1 20250808 (Red Hat 15.2.1-1) openSUSE Leap 15.6 Kernel: 5.15 Compiler: gcc gcc (SUSE Linux) 7.5.0 Red Hat Enterprise Linux 8.10 Kernel: 5.15 Compiler: gcc gcc (GCC) 8.5.0 20210514 (Red Hat 8.5.0-22) Red Hat Enterprise Linux 9.5 Kernel: 5.15 Compiler: gcc gcc (GCC) 11.5.0 20240719 (Red Hat 11.5.0-2) Ubuntu 22.04 Kernel: 5.15 Compiler: gcc gcc (Ubuntu 11.4.0-1ubuntu1~22.04) 11.4.0 Ubuntu 24.04 Kernel: 5.15 Compiler: gcc gcc (Ubuntu 13.3.0-6ubuntu2~24.04) 13.3.0 Alpine Linux 3.22.0 Kernel: 5.15 Compiler: gcc gcc (Alpine 14.2.0) 14.2.0 To view detailed results, visit: https://lab.dpdk.org/results/dashboard/patchsets/34319/ UNH-IOL DPDK Community Lab To manage your email subscriptions, visit: https://lab.dpdk.org/results/dashboard/preferences/subscriptions/