From mboxrd@z Thu Jan 1 00:00:00 1970 Return-Path: Received: from mails.dpdk.org (mails.dpdk.org [217.70.189.124]) by inbox.dpdk.org (Postfix) with ESMTP id 630B348967 for ; Sat, 18 Oct 2025 01:32:29 +0200 (CEST) Received: from mails.dpdk.org (localhost [127.0.0.1]) by mails.dpdk.org (Postfix) with ESMTP id 5BE78400D7; Sat, 18 Oct 2025 01:32:29 +0200 (CEST) Received: from mail-il1-f226.google.com (mail-il1-f226.google.com [209.85.166.226]) by mails.dpdk.org (Postfix) with ESMTP id 30EBC400D7 for ; Sat, 18 Oct 2025 01:32:28 +0200 (CEST) Received: by mail-il1-f226.google.com with SMTP id e9e14a558f8ab-430c6eef4b9so6325875ab.0 for ; Fri, 17 Oct 2025 16:32:28 -0700 (PDT) DKIM-Signature: v=1; a=rsa-sha256; c=relaxed/relaxed; d=iol.unh.edu; s=unh-iol; t=1760743947; x=1761348747; darn=dpdk.org; h=cc:to:from:subject:message-id:date:from:to:cc:subject:date :message-id:reply-to; bh=yrNNej/Hn65ChbfqTREYoL+AchG0f/MpJuNhZn2gX5Q=; b=Xy+NDq4/RD3fwGzOZ/yE0UJoj8R91eEazF80Cw3JphqLt2BSJ+hB04FFZ1wHDkE0U9 /yZ21eR7YnCKn4crNzFABM/LJLxZ+Yss6XafncZBYAB/JEo89uTBGZ0/48kIScU8rN+H ZmTt+OUh3oil3PI9puK7pBw9Ds+8izHXVu/aA= X-Google-DKIM-Signature: v=1; a=rsa-sha256; c=relaxed/relaxed; d=1e100.net; s=20230601; t=1760743947; x=1761348747; h=cc:to:from:subject:message-id:date:x-gm-message-state:from:to:cc :subject:date:message-id:reply-to; bh=yrNNej/Hn65ChbfqTREYoL+AchG0f/MpJuNhZn2gX5Q=; b=K667+Jh7dXNmWPARRJekLEZFYhXyTH6bquQdXmLVWSDzQTISPfi6La6MSeObLueoxw jgXapNWSjLhtXDkmnLSidIWVA+ULza+zDbBN8h/+3fISwkLRiESjpb00jMk6TMvCyOdO vKdodkqPIdZHZ8QwR8rbVrATcK3TssvVtLunJYpuUPo6a8QwVCshaZT/+ZlhF2YEYND1 RAec7xoBxXrc7oN2ayJNLTNvUBonbYi2k6g1DXsWoBTMRFm4TvBLeEeiS+JpiPZrplY3 mS1UXn2KYVPhVF/DSQTyh8EQ6/65pKjMImM9+vuMWiwR1OPMYnwizxkLciau67Fr2pBy qL4w== X-Gm-Message-State: AOJu0Yxdee7E8aofQbs+nZ1R7vLe+QA2XA4TqFm0FYNNf/pJ9G1X5WwG bHWqtepE4zIOG/nd6wzQrfl+mtzpKxZv5rM9NXe5DDUfVOBWQVzAkcjEmc3LgpU9tiNW8/DxZ/j q31+9FFWFnjt6IKvkQl15t4oFkTj1HFqrhdiZAAhdse79 X-Gm-Gg: ASbGncsPUYbVMP8YTC0I+S2rqOyedab3IWbS0XqYbw/+E7qTwSSJVxQLf8pQ3q+mwps xQPSRlgqaaRmd4D2Ink1t0miEG7o81kIHCDtJO7XLNdTph+PCuoxG9UG2jrTml9R+qJeJEg6dQc Bu6SXbezzrnOIObPk8Gjk8Z8cXJ8/eA2hAuHPPcrM3cawsyZK0l71v8qiUwk1+LnQm3xgrF6bza qReEK4NgYia3Oz8t5h3lEEvhx2JH1D/znfnpnyXtg+OOk2a1esGADC4CSEeQkFnAyNKaHJXPgPV nhyv7PGfu2HlzDqI6GyoXvWovJRxsEahA7edYS88LzS3dFHGiqzaZrkYgQtYKTKE7Lp1Ro6bt/7 gaqNCTN09QRQ+zSyCg0dIiV6UQGXk6Rc= X-Google-Smtp-Source: AGHT+IH9/4IminAQYKdhYkqmv+7L9YN2Jr+UH2bD32H08m5HaA5guyWVYsyLZXcLyddWFV2ZODb1TmXuxIjP X-Received: by 2002:a05:6e02:3c04:b0:430:b27a:7702 with SMTP id e9e14a558f8ab-430c5204155mr81072665ab.3.1760743947395; Fri, 17 Oct 2025 16:32:27 -0700 (PDT) Received: from postal.iol.unh.edu (postal.iol.unh.edu. [132.177.123.84]) by smtp-relay.gmail.com with ESMTPS id e9e14a558f8ab-430d072a4efsm927695ab.15.2025.10.17.16.32.27 (version=TLS1_2 cipher=ECDHE-ECDSA-AES128-GCM-SHA256 bits=128/128); Fri, 17 Oct 2025 16:32:27 -0700 (PDT) X-Relaying-Domain: iol.unh.edu Date: Fri, 17 Oct 2025 16:32:27 -0700 (PDT) Message-ID: <68f2d20b.050a0220.3b21b9.4b69SMTPIN_ADDED_MISSING@mx.google.com> Received: from [172.21.0.2] (unknown [172.18.0.240]) by postal.iol.unh.edu (Postfix) with ESMTP id AC3DD6051830; Fri, 17 Oct 2025 19:32:26 -0400 (EDT) Subject: |WARNING| [GIT MASTER] ce93b6d6b1bb030c87db8666c5403402b362cf5c From: dpdklab@iol.unh.edu To: Test Report Cc: dpdk-test-reports@iol.unh.edu, Akhil Goyal Content-Type: text/plain X-BeenThere: test-report@dpdk.org X-Mailman-Version: 2.1.29 Precedence: list List-Id: automatic DPDK test reports List-Unsubscribe: , List-Archive: List-Post: List-Help: List-Subscribe: , Errors-To: test-report-bounces@dpdk.org _Testing issues_ Branch: dpdk-next-crypto ce93b6d6b1bb030c87db8666c5403402b362cf5c --> testing issues Upstream job id: Generic-DPDK-Compile-Meson#435629 Test environment and result as below: +---------------------+--------------------+-------------------------+-------------------+----------------------+-------------------+ | Environment | dpdk_meson_compile | dpdk_llvm_clang_compile | dpdk_msvc_compile | dpdk_mingw64_compile | dpdk_compile_spdk | +=====================+====================+=========================+===================+======================+===================+ | Ubuntu 20.04 | PASS | SKIPPED | SKIPPED | SKIPPED | SKIPPED | +---------------------+--------------------+-------------------------+-------------------+----------------------+-------------------+ | FreeBSD 14.2 | PASS | SKIPPED | SKIPPED | SKIPPED | SKIPPED | +---------------------+--------------------+-------------------------+-------------------+----------------------+-------------------+ | CentOS Stream 9 | PASS | SKIPPED | SKIPPED | SKIPPED | WARN | +---------------------+--------------------+-------------------------+-------------------+----------------------+-------------------+ | Windows Server 2022 | SKIPPED | PASS | PASS | PASS | SKIPPED | +---------------------+--------------------+-------------------------+-------------------+----------------------+-------------------+ ==== 20 line log output for CentOS Stream 9 (dpdk_compile_spdk): ==== --- Failed to get log output --- ==== End log output ==== Ubuntu 20.04 Kernel: 4.19 Compiler: gcc gcc (Ubuntu 9.4.0-1ubuntu1~20.04.2) 9.4.0 FreeBSD 14.2 Kernel: 14.2-RELEASE Compiler: clang 18.1.6 CentOS Stream 9 Kernel: 5.15 Compiler: gcc gcc (GCC) 11.5.0 20240719 (Red Hat 11.5.0-11) Windows Server 2022 Kernel: 10.0.20348.2031 Compiler: clang 15.0.7, gcc 14.1.0 (MinGW), and MSVC VS 19.39.33521 To view detailed results, visit: https://lab.dpdk.org/results/dashboard/tarballs/35260/ UNH-IOL DPDK Community Lab To manage your email subscriptions, visit: https://lab.dpdk.org/results/dashboard/preferences/subscriptions/