From mboxrd@z Thu Jan 1 00:00:00 1970 Return-Path: Received: from mails.dpdk.org (mails.dpdk.org [217.70.189.124]) by inbox.dpdk.org (Postfix) with ESMTP id BF16648967 for ; Sat, 18 Oct 2025 01:35:45 +0200 (CEST) Received: from mails.dpdk.org (localhost [127.0.0.1]) by mails.dpdk.org (Postfix) with ESMTP id A3BFE400D7; Sat, 18 Oct 2025 01:35:45 +0200 (CEST) Received: from mail-oo1-f99.google.com (mail-oo1-f99.google.com [209.85.161.99]) by mails.dpdk.org (Postfix) with ESMTP id 6846B400D7 for ; Sat, 18 Oct 2025 01:35:44 +0200 (CEST) Received: by mail-oo1-f99.google.com with SMTP id 006d021491bc7-651ca0146deso630621eaf.2 for ; Fri, 17 Oct 2025 16:35:44 -0700 (PDT) DKIM-Signature: v=1; a=rsa-sha256; c=relaxed/relaxed; d=iol.unh.edu; s=unh-iol; t=1760744143; x=1761348943; darn=dpdk.org; h=references:in-reply-to:cc:to:from:subject:message-id:date:from:to :cc:subject:date:message-id:reply-to; bh=MqKmWqnKDL53NkgTWisW7vIthce3cOmUX83GIvKTf3s=; b=fBXxIMGly6g8mGRt9haFl/hUqh8I0J4vW+PwvOgXk6IqAybG0eygxwPWnrYAEmBnx0 7Q/rDVC4Y2u66DU2v3Cxm7S8tiz+v41fZv1WaKP9nfWb6KqK61ZuwHYVVIY0wSQUdZAt WbWrWQGMUKeoDvobQpblwqDX5ko7wgTN4f1xM= X-Google-DKIM-Signature: v=1; a=rsa-sha256; c=relaxed/relaxed; d=1e100.net; s=20230601; t=1760744143; x=1761348943; h=references:in-reply-to:cc:to:from:subject:message-id:date :x-gm-message-state:from:to:cc:subject:date:message-id:reply-to; bh=MqKmWqnKDL53NkgTWisW7vIthce3cOmUX83GIvKTf3s=; b=VZPIdnQg6C/65zeyV0iAz63O4HmXz3Svrf8visJuUmQBs8c78ocrkOsF79lJeZYe0f fhwaEWnyIiyKbXPqcFc8UX5mREEcXyBvAfvNKMQK53my0EQau2J+ft5GjXJJC6C0GQfC gLsmYmIyto4pr9AtaUR4luKjuYeObq8mrCvFqIRT8hcl/3VrwstcltHZ+laWDAAfT7O2 LhLj8sBkeEXadB2BIw6vmsZ3fG8BJSDaoy2896ft7Kn4fU0ZwNWh0l+b4wcdtrrDX+s5 XpbQe00cVQDPeyXs951ffyqIPmDsO+7IyWpr6oXZZ7U7NF4QmSNNXfpoLFyFxmFKZyKq 82HA== X-Gm-Message-State: AOJu0Yy7Rep5NtfWiQBYlzga1RySXYnPSKnb8bK3wM7lzf+7NbGr5w45 iVPTw8yAPMgZkbh0WpWcozMYae95OncvJ8ATBelTZz+h0KQTirl4kqDYVjbOXOCvrDkHaqBr/SB e+BcQ2aTm5LL117dZA3Tkv8imyfG99VgpRyWaAaGYJJ9O X-Gm-Gg: ASbGncvAMRQP2ho4meLLijrNHWfj2UH+THbOhvwXoX2rMNAsq2qDVjqtgd6UGuY8oPe rTqgH9vr5ji8HlN0DBsskHA2RU2P+nxEEgTK3XLI83nHpIAE7VRjTtWqkRuhU+60TrOaJNj+I1+ J1O+i/GyYs9L3DalmTRts2o7EurZ3siRBEHwzEML8c1YT/yLeonKgpVlBpswh/lj1BgWMgA+q95 X4xf2not+BkwCqZAWqOr4dA1wNiDhyZxncAay+uOh0fyClh4xZXGGkAMkDOFEBLoBgcqnYgxS/h ctmwBMGCaT+8u7HRo60X3wCUMHf/iMGWGk0Nu+LYPq3LPU7HftpuELEgCslMhZMvXtothicRu19 5cp6P4AgZUlFPROJqqh+RE8ZNTPYunLw= X-Google-Smtp-Source: AGHT+IG3OVdGFkGVKTr95rqbnW052qaW5XVGr66FumkM9cgma8AG2sboEPxaHEtimNA8/0bz2KgRr9i4BrBt X-Received: by 2002:a05:6870:ac97:b0:3c8:f443:c2a7 with SMTP id 586e51a60fabf-3c98d191171mr2399008fac.44.1760744143394; Fri, 17 Oct 2025 16:35:43 -0700 (PDT) Received: from postal.iol.unh.edu (postal.iol.unh.edu. [132.177.123.84]) by smtp-relay.gmail.com with ESMTPS id 586e51a60fabf-3c9af1f0d06sm89579fac.11.2025.10.17.16.35.43 (version=TLS1_2 cipher=ECDHE-ECDSA-AES128-GCM-SHA256 bits=128/128); Fri, 17 Oct 2025 16:35:43 -0700 (PDT) X-Relaying-Domain: iol.unh.edu Date: Fri, 17 Oct 2025 16:35:43 -0700 (PDT) Message-ID: <68f2d2cf.050a0220.80928.48ffSMTPIN_ADDED_MISSING@mx.google.com> Received: from [172.21.0.3] (unknown [172.18.0.240]) by postal.iol.unh.edu (Postfix) with ESMTP id E0BFC6051830; Fri, 17 Oct 2025 19:35:42 -0400 (EDT) Subject: |WARNING| pw157814-157821 [PATCH] [v5,8/8] config: enable comma warn From: dpdklab@iol.unh.edu To: Test Report Cc: dpdk-test-reports@iol.unh.edu In-Reply-To: <20251017150241.28511-9-stephen@networkplumber.org> References: <20251017150241.28511-9-stephen@networkplumber.org> Content-Type: text/plain X-BeenThere: test-report@dpdk.org X-Mailman-Version: 2.1.29 Precedence: list List-Id: automatic DPDK test reports List-Unsubscribe: , List-Archive: List-Post: List-Help: List-Subscribe: , Errors-To: test-report-bounces@dpdk.org Test-Label: iol-compile-amd64-testing Test-Status: WARNING http://dpdk.org/patch/157821 _Testing issues_ Submitter: Stephen Hemminger Date: Friday, October 17 2025 15:02:09 DPDK git baseline: Repo:dpdk Branch: master CommitID:438491733c2d8a109574449d3d6de9b25a05c07c 157814-157821 --> testing issues Upstream job id: Generic-DPDK-Compile-Meson#435578 Test environment and result as below: +-------------------------------+-------------------------+-------------------+--------------------+----------------------+-------------------+------------------+ | Environment | dpdk_llvm_clang_compile | dpdk_msvc_compile | dpdk_meson_compile | dpdk_mingw64_compile | dpdk_compile_spdk | dpdk_compile_ovs | +===============================+=========================+===================+====================+======================+===================+==================+ | Windows Server 2022 | PASS | PASS | SKIPPED | PASS | SKIPPED | SKIPPED | +-------------------------------+-------------------------+-------------------+--------------------+----------------------+-------------------+------------------+ | FreeBSD 14.2 | SKIPPED | SKIPPED | PASS | SKIPPED | SKIPPED | SKIPPED | +-------------------------------+-------------------------+-------------------+--------------------+----------------------+-------------------+------------------+ | Ubuntu 20.04 | SKIPPED | SKIPPED | PASS | SKIPPED | SKIPPED | SKIPPED | +-------------------------------+-------------------------+-------------------+--------------------+----------------------+-------------------+------------------+ | CentOS Stream 9 | SKIPPED | SKIPPED | PASS | SKIPPED | WARN | SKIPPED | +-------------------------------+-------------------------+-------------------+--------------------+----------------------+-------------------+------------------+ | Debian GNU/Linux 12 | SKIPPED | SKIPPED | PASS | SKIPPED | WARN | SKIPPED | +-------------------------------+-------------------------+-------------------+--------------------+----------------------+-------------------+------------------+ | CentOS Stream 10 | SKIPPED | SKIPPED | PASS | SKIPPED | SKIPPED | SKIPPED | +-------------------------------+-------------------------+-------------------+--------------------+----------------------+-------------------+------------------+ | Fedora Linux 42 | SKIPPED | SKIPPED | PASS | SKIPPED | WARN | PASS | +-------------------------------+-------------------------+-------------------+--------------------+----------------------+-------------------+------------------+ | openSUSE Leap 15.6 | SKIPPED | SKIPPED | PASS | SKIPPED | SKIPPED | SKIPPED | +-------------------------------+-------------------------+-------------------+--------------------+----------------------+-------------------+------------------+ | Red Hat Enterprise Linux 8.10 | SKIPPED | SKIPPED | PASS | SKIPPED | SKIPPED | SKIPPED | +-------------------------------+-------------------------+-------------------+--------------------+----------------------+-------------------+------------------+ | Red Hat Enterprise Linux 9.5 | SKIPPED | SKIPPED | PASS | SKIPPED | SKIPPED | SKIPPED | +-------------------------------+-------------------------+-------------------+--------------------+----------------------+-------------------+------------------+ | Ubuntu 22.04 | SKIPPED | SKIPPED | PASS | SKIPPED | WARN | SKIPPED | +-------------------------------+-------------------------+-------------------+--------------------+----------------------+-------------------+------------------+ | Ubuntu 24.04 | SKIPPED | SKIPPED | PASS | SKIPPED | WARN | PASS | +-------------------------------+-------------------------+-------------------+--------------------+----------------------+-------------------+------------------+ | Alpine Linux 3.22.0 | SKIPPED | SKIPPED | PASS | SKIPPED | SKIPPED | SKIPPED | +-------------------------------+-------------------------+-------------------+--------------------+----------------------+-------------------+------------------+ ==== 20 line log output for Ubuntu 24.04 (dpdk_compile_spdk): ==== --- Failed to get log output --- ==== End log output ==== Windows Server 2022 Kernel: 10.0.20348.2031 Compiler: clang 15.0.7, gcc 14.1.0 (MinGW), and MSVC VS 19.39.33521 FreeBSD 14.2 Kernel: 14.2-RELEASE Compiler: clang 18.1.6 Ubuntu 20.04 Kernel: 4.19 Compiler: gcc gcc (Ubuntu 9.4.0-1ubuntu1~20.04.2) 9.4.0 CentOS Stream 9 Kernel: 5.15 Compiler: gcc gcc (GCC) 11.5.0 20240719 (Red Hat 11.5.0-11) Debian GNU/Linux 12 Kernel: 5.15 Compiler: gcc gcc (Debian 12.2.0-14+deb12u1) 12.2.0 CentOS Stream 10 Kernel: 5.15 Compiler: gcc gcc (GCC) 14.2.1 20250110 (Red Hat 14.2.1-8) Fedora Linux 42 Kernel: 5.15 Compiler: clang gcc (GCC) 15.2.1 20250808 (Red Hat 15.2.1-1) openSUSE Leap 15.6 Kernel: 5.15 Compiler: gcc gcc (SUSE Linux) 7.5.0 Red Hat Enterprise Linux 8.10 Kernel: 5.15 Compiler: gcc gcc (GCC) 8.5.0 20210514 (Red Hat 8.5.0-22) Red Hat Enterprise Linux 9.5 Kernel: 5.15 Compiler: gcc gcc (GCC) 11.5.0 20240719 (Red Hat 11.5.0-2) Ubuntu 22.04 Kernel: 5.15 Compiler: gcc gcc (Ubuntu 11.4.0-1ubuntu1~22.04) 11.4.0 Ubuntu 24.04 Kernel: 5.15 Compiler: gcc gcc (Ubuntu 13.3.0-6ubuntu2~24.04) 13.3.0 Alpine Linux 3.22.0 Kernel: 5.15 Compiler: gcc gcc (Alpine 14.2.0) 14.2.0 To view detailed results, visit: https://lab.dpdk.org/results/dashboard/patchsets/34320/ UNH-IOL DPDK Community Lab To manage your email subscriptions, visit: https://lab.dpdk.org/results/dashboard/preferences/subscriptions/