From mboxrd@z Thu Jan 1 00:00:00 1970 Return-Path: Received: from mails.dpdk.org (mails.dpdk.org [217.70.189.124]) by inbox.dpdk.org (Postfix) with ESMTP id 864CA48967 for ; Sat, 18 Oct 2025 01:56:44 +0200 (CEST) Received: from mails.dpdk.org (localhost [127.0.0.1]) by mails.dpdk.org (Postfix) with ESMTP id 7EC83400D7; Sat, 18 Oct 2025 01:56:44 +0200 (CEST) Received: from mail-io1-f98.google.com (mail-io1-f98.google.com [209.85.166.98]) by mails.dpdk.org (Postfix) with ESMTP id 1AA4E400D7 for ; Sat, 18 Oct 2025 01:56:43 +0200 (CEST) Received: by mail-io1-f98.google.com with SMTP id ca18e2360f4ac-9194a0241aaso103327039f.3 for ; Fri, 17 Oct 2025 16:56:43 -0700 (PDT) DKIM-Signature: v=1; a=rsa-sha256; c=relaxed/relaxed; d=iol.unh.edu; s=unh-iol; t=1760745402; x=1761350202; darn=dpdk.org; h=references:in-reply-to:cc:to:from:subject:message-id:date:from:to :cc:subject:date:message-id:reply-to; bh=k6SxMQf4oOiUmSVLTMRewvhyy1Bf0m7VD3KTPp3oAcQ=; b=d3AKQd1orort9VIJA7j05Qlx0xMw5lfQ8nWj5vOdLG2oChBM6IaetUdwD3kpv71yqw DL+FIgGNc/qTr6k8gES4VsrswN3aqp6qrwCos6dl/ojLWFB83RBj75B4XOUq3fJFfTNy YYMktcPURyzonr3eJSig/Lby4UuNjwofHtfvg= X-Google-DKIM-Signature: v=1; a=rsa-sha256; c=relaxed/relaxed; d=1e100.net; s=20230601; t=1760745402; x=1761350202; h=references:in-reply-to:cc:to:from:subject:message-id:date :x-gm-message-state:from:to:cc:subject:date:message-id:reply-to; bh=k6SxMQf4oOiUmSVLTMRewvhyy1Bf0m7VD3KTPp3oAcQ=; b=taWsqoPbR4EMGZmFZDheUvvhX9l34/2ANAScgumQnpXysY1UlitR1pHz9YfvwfSyUO A/MtIwwk/XwHm1V6KPy6jDpQ0q75lhMaJubZ9AXrLjxcMncnxOiLgQSCDGsBOVdPArBl VJqawOhlz9mfvWXm3AS05aISg8bV7ZygPqSLA42uVlNzWEG3J2YE3aWEfQQVf12tfUhD kJ+QaekuAvyGWFFHBxHpbLjxaQP5k10flbaE/32Xb3ssDJXsweslkbQ+ddhoBG/8vVK9 w446JWO52ny/N42rV7E5J3t8aYBDMymMhxCNNN3d9a/37IOaWw/YXaJIjFk7poJugn4C vVyA== X-Gm-Message-State: AOJu0YyJyKQBPNjUHgNOo0ypX9iskoQBc26oiy8dGmmG/GARIyIHbdvI vvclVFnm+I4RVqCfYD5jS8sgzxcEiD+WjR5chg/fajsSU/M5m39jRJ2JC6D+qb0emxf+UNGwPBy CVVxlgYSCWoTpV96iFlSluTaslA4l0EZIKw/ptCmYJNX1VWigyFHj5dXPHbpW X-Gm-Gg: ASbGncuL/1/rdCDO5vi2cPltrYKMexkLfGrCiqw15fDGx0LURQ3IW3fdS5yZlNDyHdY Kw95xZb9vErwncpVuI1fzFCddtd5OkGteu0QHaWjldEAe4JRZe7tPTvFYKPTl87V/sv9hihoqog WQXtghwaU1CiFBuEcIQNHpdDO1/BYn3+2MP4Ci/tnpc1KGIOwBcGMYMVP+6HALkHsA0EIzEul9x PAJbm5EdpfuPTKWhw2V88YQ+60f3+5/1qdWI1O0Lq7zuMzX9sDWbMQutbV3pqVM0YhSdKyI7O9q 4XtjdXKRag2Z2mXedqkfMbjpMBebJYx98bEsdm01T6Pu1ysCv+tPe/CUR8BN5rGDs/DcMHw6M4A hrJ1i3Z6k X-Google-Smtp-Source: AGHT+IEOPcTTVp8O2xDZMMtk9/Bf+WPX4/sPwKITPn0+kzpR5qT6yX7riHFilxcV+NB/e2NIuO8yDC9xQseI X-Received: by 2002:a05:6e02:1522:b0:42f:e334:5ec3 with SMTP id e9e14a558f8ab-430c527fc65mr76888065ab.26.1760745402315; Fri, 17 Oct 2025 16:56:42 -0700 (PDT) Received: from postal.iol.unh.edu (postal.iol.unh.edu. [2606:4100:3880:1234::84]) by smtp-relay.gmail.com with ESMTPS id e9e14a558f8ab-430d07b34f6sm877185ab.24.2025.10.17.16.56.42 (version=TLS1_2 cipher=ECDHE-ECDSA-AES128-GCM-SHA256 bits=128/128); Fri, 17 Oct 2025 16:56:42 -0700 (PDT) X-Relaying-Domain: iol.unh.edu Date: Fri, 17 Oct 2025 16:56:42 -0700 (PDT) Message-ID: <68f2d7ba.050a0220.1d50f7.4764SMTPIN_ADDED_MISSING@mx.google.com> Received: from [172.21.0.2] (unknown [172.18.0.240]) by postal.iol.unh.edu (Postfix) with ESMTP id F25A56051830; Fri, 17 Oct 2025 19:56:41 -0400 (EDT) Subject: |WARNING| pw157822 [PATCH] test/ring_perf: add optional cross L3 cor From: dpdklab@iol.unh.edu To: Test Report Cc: dpdk-test-reports@iol.unh.edu In-Reply-To: <20251017163407.845502-1-sivaprasad.tummala@amd.com> References: <20251017163407.845502-1-sivaprasad.tummala@amd.com> Content-Type: text/plain X-BeenThere: test-report@dpdk.org X-Mailman-Version: 2.1.29 Precedence: list List-Id: automatic DPDK test reports List-Unsubscribe: , List-Archive: List-Post: List-Help: List-Subscribe: , Errors-To: test-report-bounces@dpdk.org Test-Label: iol-compile-amd64-testing Test-Status: WARNING http://dpdk.org/patch/157822 _Testing issues_ Submitter: Sivaprasad Tummala Date: Friday, October 17 2025 16:34:04 DPDK git baseline: Repo:dpdk Branch: master CommitID:fd6bb586ca832c0cd6a84bcf7123a6063b3ae133 157822 --> testing issues Upstream job id: Generic-DPDK-Compile-Meson#435626 Test environment and result as below: +-------------------------------+--------------------+-------------------------+-------------------+----------------------+-------------------+------------------+ | Environment | dpdk_meson_compile | dpdk_llvm_clang_compile | dpdk_msvc_compile | dpdk_mingw64_compile | dpdk_compile_spdk | dpdk_compile_ovs | +===============================+====================+=========================+===================+======================+===================+==================+ | Ubuntu 20.04 | PASS | SKIPPED | SKIPPED | SKIPPED | SKIPPED | SKIPPED | +-------------------------------+--------------------+-------------------------+-------------------+----------------------+-------------------+------------------+ | FreeBSD 14.2 | PASS | SKIPPED | SKIPPED | SKIPPED | SKIPPED | SKIPPED | +-------------------------------+--------------------+-------------------------+-------------------+----------------------+-------------------+------------------+ | CentOS Stream 9 | PASS | SKIPPED | SKIPPED | SKIPPED | WARN | SKIPPED | +-------------------------------+--------------------+-------------------------+-------------------+----------------------+-------------------+------------------+ | CentOS Stream 10 | PASS | SKIPPED | SKIPPED | SKIPPED | SKIPPED | SKIPPED | +-------------------------------+--------------------+-------------------------+-------------------+----------------------+-------------------+------------------+ | Debian GNU/Linux 12 | PASS | SKIPPED | SKIPPED | SKIPPED | WARN | SKIPPED | +-------------------------------+--------------------+-------------------------+-------------------+----------------------+-------------------+------------------+ | Fedora Linux 42 | PASS | SKIPPED | SKIPPED | SKIPPED | WARN | PASS | +-------------------------------+--------------------+-------------------------+-------------------+----------------------+-------------------+------------------+ | openSUSE Leap 15.6 | PASS | SKIPPED | SKIPPED | SKIPPED | SKIPPED | SKIPPED | +-------------------------------+--------------------+-------------------------+-------------------+----------------------+-------------------+------------------+ | Red Hat Enterprise Linux 8.10 | PASS | SKIPPED | SKIPPED | SKIPPED | SKIPPED | SKIPPED | +-------------------------------+--------------------+-------------------------+-------------------+----------------------+-------------------+------------------+ | Red Hat Enterprise Linux 9.5 | PASS | SKIPPED | SKIPPED | SKIPPED | SKIPPED | SKIPPED | +-------------------------------+--------------------+-------------------------+-------------------+----------------------+-------------------+------------------+ | Ubuntu 22.04 | PASS | SKIPPED | SKIPPED | SKIPPED | WARN | SKIPPED | +-------------------------------+--------------------+-------------------------+-------------------+----------------------+-------------------+------------------+ | Ubuntu 24.04 | PASS | SKIPPED | SKIPPED | SKIPPED | WARN | PASS | +-------------------------------+--------------------+-------------------------+-------------------+----------------------+-------------------+------------------+ | Alpine Linux 3.22.0 | PASS | SKIPPED | SKIPPED | SKIPPED | SKIPPED | SKIPPED | +-------------------------------+--------------------+-------------------------+-------------------+----------------------+-------------------+------------------+ | Windows Server 2022 | SKIPPED | PASS | PASS | PASS | SKIPPED | SKIPPED | +-------------------------------+--------------------+-------------------------+-------------------+----------------------+-------------------+------------------+ ==== 20 line log output for Ubuntu 24.04 (dpdk_compile_spdk): ==== --- Failed to get log output --- ==== End log output ==== Ubuntu 20.04 Kernel: 4.19 Compiler: gcc gcc (Ubuntu 9.4.0-1ubuntu1~20.04.2) 9.4.0 FreeBSD 14.2 Kernel: 14.2-RELEASE Compiler: clang 18.1.6 CentOS Stream 9 Kernel: 5.15 Compiler: gcc gcc (GCC) 11.5.0 20240719 (Red Hat 11.5.0-11) CentOS Stream 10 Kernel: 5.15 Compiler: gcc gcc (GCC) 14.2.1 20250110 (Red Hat 14.2.1-8) Debian GNU/Linux 12 Kernel: 5.15 Compiler: gcc gcc (Debian 12.2.0-14+deb12u1) 12.2.0 Fedora Linux 42 Kernel: 5.15 Compiler: clang gcc (GCC) 15.2.1 20250808 (Red Hat 15.2.1-1) openSUSE Leap 15.6 Kernel: 5.15 Compiler: gcc gcc (SUSE Linux) 7.5.0 Red Hat Enterprise Linux 8.10 Kernel: 5.15 Compiler: gcc gcc (GCC) 8.5.0 20210514 (Red Hat 8.5.0-22) Red Hat Enterprise Linux 9.5 Kernel: 5.15 Compiler: gcc gcc (GCC) 11.5.0 20240719 (Red Hat 11.5.0-2) Ubuntu 22.04 Kernel: 5.15 Compiler: gcc gcc (Ubuntu 11.4.0-1ubuntu1~22.04) 11.4.0 Ubuntu 24.04 Kernel: 5.15 Compiler: gcc gcc (Ubuntu 13.3.0-6ubuntu2~24.04) 13.3.0 Alpine Linux 3.22.0 Kernel: 5.15 Compiler: gcc gcc (Alpine 14.2.0) 14.2.0 Windows Server 2022 Kernel: 10.0.20348.2031 Compiler: clang 15.0.7, gcc 14.1.0 (MinGW), and MSVC VS 19.39.33521 To view detailed results, visit: https://lab.dpdk.org/results/dashboard/patchsets/34321/ UNH-IOL DPDK Community Lab To manage your email subscriptions, visit: https://lab.dpdk.org/results/dashboard/preferences/subscriptions/