From mboxrd@z Thu Jan 1 00:00:00 1970 Return-Path: Received: from mails.dpdk.org (mails.dpdk.org [217.70.189.124]) by inbox.dpdk.org (Postfix) with ESMTP id 7AB0348968 for ; Sat, 18 Oct 2025 02:06:49 +0200 (CEST) Received: from mails.dpdk.org (localhost [127.0.0.1]) by mails.dpdk.org (Postfix) with ESMTP id 58E86400D7; Sat, 18 Oct 2025 02:06:49 +0200 (CEST) Received: from mail-pl1-f227.google.com (mail-pl1-f227.google.com [209.85.214.227]) by mails.dpdk.org (Postfix) with ESMTP id 979A2400D7 for ; Sat, 18 Oct 2025 02:06:47 +0200 (CEST) Received: by mail-pl1-f227.google.com with SMTP id d9443c01a7336-292322d10feso6022145ad.0 for ; Fri, 17 Oct 2025 17:06:47 -0700 (PDT) DKIM-Signature: v=1; a=rsa-sha256; c=relaxed/relaxed; d=iol.unh.edu; s=unh-iol; t=1760746006; x=1761350806; darn=dpdk.org; h=cc:to:from:subject:message-id:date:from:to:cc:subject:date :message-id:reply-to; bh=o6XHj7pSNq+7VDJemUChB+XtcFS5YBBeaNm4MB76bpc=; b=X/qtUVfNg4uKifW4milz5fdsYWM2kvZxoNHSIi5FrBvAfnSE8S4i16HpdXw5tZr76r av/5gbH34qBTI/DYRTXPMb0Wv+GC17pW9JD+fumOtRZ5LB5s9o5CLko1S+E4gJr5/UYH FEH/vyzwIAaK7oYEH9Loezn0MMkxWb3kmhcus= X-Google-DKIM-Signature: v=1; a=rsa-sha256; c=relaxed/relaxed; d=1e100.net; s=20230601; t=1760746006; x=1761350806; h=cc:to:from:subject:message-id:date:x-gm-message-state:from:to:cc :subject:date:message-id:reply-to; bh=o6XHj7pSNq+7VDJemUChB+XtcFS5YBBeaNm4MB76bpc=; b=Q2AwgIQm+fwa1COZmLq9SeApkazBV+oBdBjhWjeHr2vFnJeeCkyagdPAKs5p1pJ5s8 w8VpdsFLI2tZOtb+tDxKcpaOn04Na1SXgT5nHW21suL7RIZJifyYpDmTH9/ORj6iVsNA CxA3fP+CatJD8iL7DNQhZXZSdEmAbPcCWMC34eTGVct1vf+WMqos2P2CjDKLfql/nnL9 vVtr2+O5FehLIsr8mljoXdx2KRwa0+h6mW+MzzQudNGRJG1g2WZv7pevdH3+fF5dyp+K s+2GWI+DAKL9cmNGAbh52nEbPq60fUV2aMJPSwd+sMqu8lSxQzlR8dQrIJq09VrbTqlg 4Afw== X-Gm-Message-State: AOJu0YwXd4FOkNrYX5OR6GOWGKunMSrIPde4Gd9R/ehhDvTXQoRvQVQn 0criCSSAs2byjhgpGiFVWfKTuGrCWPnBxdOo5R+gIdDPnxuBBXpFs63kic8bwolyoPX5lSXxhfL +4eSCpwZ2TdrrlQ83GpXmqIEhHsgKWo2HtNu2aod6IH/4 X-Gm-Gg: ASbGnctgimYRFJ3m/RIpB7GNcwlj278R4ldI7qqHDNA+BVi/r3Td5BrkRm6oqfZJHIZ oNPyesZJLqXnVqjXF+uw5Zqu+Qh+ugi58MEl4X6AY/6oNhcIVYzKrOPkW353bD3NmKGhSG+hrgY 8TJ1tE7xBIJkIM+E6wMTOPolQw+ycA6Fx4g9i6rJ5Go8R3W2ZiXZ/A/Tvmndbv1qKCU7SPFzp1E zsboxJHX8tdunZPdGzxZY3fDzLeitiP69GLFlXZnSLfWyi+dVmFvnIc7Vs9gTWOIuTxElQJxeBS vejnYP3kwa7iJ5lN+QNyAn9fYaFtle3VT4KPEirR7U59c5uaBtC2jpbXMAK+FrBjtGru0j+EUxO 8OTp+kC1UPj3/PIwDiwoiohgr6uiFjbg= X-Google-Smtp-Source: AGHT+IH04/+g6e9gjavF94BRPntv/r8BKrxuQGZdyvhoIOKJDGrbDftOjYr6JzgwlWgZlWSk1s4rLCHLlzv7 X-Received: by 2002:a17:902:ebc7:b0:27c:3690:2c5d with SMTP id d9443c01a7336-290915216d8mr116494605ad.0.1760746006715; Fri, 17 Oct 2025 17:06:46 -0700 (PDT) Received: from postal.iol.unh.edu (postal.iol.unh.edu. [132.177.123.84]) by smtp-relay.gmail.com with ESMTPS id d9443c01a7336-292472082a4sm731005ad.70.2025.10.17.17.06.46 (version=TLS1_2 cipher=ECDHE-ECDSA-AES128-GCM-SHA256 bits=128/128); Fri, 17 Oct 2025 17:06:46 -0700 (PDT) X-Relaying-Domain: iol.unh.edu Date: Fri, 17 Oct 2025 17:06:46 -0700 (PDT) Message-ID: <68f2da16.170a0220.ad21e.3dadSMTPIN_ADDED_MISSING@mx.google.com> Received: from [172.21.0.2] (unknown [172.18.0.240]) by postal.iol.unh.edu (Postfix) with ESMTP id 01D776051830; Fri, 17 Oct 2025 20:06:46 -0400 (EDT) Subject: |WARNING| [GIT MASTER] ce93b6d6b1bb030c87db8666c5403402b362cf5c From: dpdklab@iol.unh.edu To: Test Report Cc: dpdk-test-reports@iol.unh.edu, Akhil Goyal Content-Type: text/plain X-BeenThere: test-report@dpdk.org X-Mailman-Version: 2.1.29 Precedence: list List-Id: automatic DPDK test reports List-Unsubscribe: , List-Archive: List-Post: List-Help: List-Subscribe: , Errors-To: test-report-bounces@dpdk.org _Testing issues_ Branch: dpdk-next-crypto ce93b6d6b1bb030c87db8666c5403402b362cf5c --> testing issues Upstream job id: Generic-DPDK-Compile-Meson#435632 Test environment and result as below: +-------------------------------+--------------------+-------------------------+-------------------+----------------------+-------------------+------------------+ | Environment | dpdk_meson_compile | dpdk_llvm_clang_compile | dpdk_msvc_compile | dpdk_mingw64_compile | dpdk_compile_spdk | dpdk_compile_ovs | +===============================+====================+=========================+===================+======================+===================+==================+ | Ubuntu 20.04 | PASS | SKIPPED | SKIPPED | SKIPPED | SKIPPED | SKIPPED | +-------------------------------+--------------------+-------------------------+-------------------+----------------------+-------------------+------------------+ | FreeBSD 14.2 | PASS | SKIPPED | SKIPPED | SKIPPED | SKIPPED | SKIPPED | +-------------------------------+--------------------+-------------------------+-------------------+----------------------+-------------------+------------------+ | CentOS Stream 9 | PASS | SKIPPED | SKIPPED | SKIPPED | WARN | SKIPPED | +-------------------------------+--------------------+-------------------------+-------------------+----------------------+-------------------+------------------+ | CentOS Stream 10 | PASS | SKIPPED | SKIPPED | SKIPPED | SKIPPED | SKIPPED | +-------------------------------+--------------------+-------------------------+-------------------+----------------------+-------------------+------------------+ | Debian GNU/Linux 12 | PASS | SKIPPED | SKIPPED | SKIPPED | WARN | SKIPPED | +-------------------------------+--------------------+-------------------------+-------------------+----------------------+-------------------+------------------+ | Fedora Linux 42 | PASS | SKIPPED | SKIPPED | SKIPPED | WARN | PASS | +-------------------------------+--------------------+-------------------------+-------------------+----------------------+-------------------+------------------+ | openSUSE Leap 15.6 | PASS | SKIPPED | SKIPPED | SKIPPED | SKIPPED | SKIPPED | +-------------------------------+--------------------+-------------------------+-------------------+----------------------+-------------------+------------------+ | Red Hat Enterprise Linux 8.10 | PASS | SKIPPED | SKIPPED | SKIPPED | SKIPPED | SKIPPED | +-------------------------------+--------------------+-------------------------+-------------------+----------------------+-------------------+------------------+ | Red Hat Enterprise Linux 9.5 | PASS | SKIPPED | SKIPPED | SKIPPED | SKIPPED | SKIPPED | +-------------------------------+--------------------+-------------------------+-------------------+----------------------+-------------------+------------------+ | Ubuntu 22.04 | PASS | SKIPPED | SKIPPED | SKIPPED | WARN | SKIPPED | +-------------------------------+--------------------+-------------------------+-------------------+----------------------+-------------------+------------------+ | Ubuntu 24.04 | PASS | SKIPPED | SKIPPED | SKIPPED | WARN | PASS | +-------------------------------+--------------------+-------------------------+-------------------+----------------------+-------------------+------------------+ | Alpine Linux 3.22.0 | PASS | SKIPPED | SKIPPED | SKIPPED | SKIPPED | SKIPPED | +-------------------------------+--------------------+-------------------------+-------------------+----------------------+-------------------+------------------+ | Windows Server 2022 | SKIPPED | PASS | PASS | PASS | SKIPPED | SKIPPED | +-------------------------------+--------------------+-------------------------+-------------------+----------------------+-------------------+------------------+ ==== 20 line log output for Ubuntu 24.04 (dpdk_compile_spdk): ==== --- Failed to get log output --- ==== End log output ==== Ubuntu 20.04 Kernel: 4.19 Compiler: gcc gcc (Ubuntu 9.4.0-1ubuntu1~20.04.2) 9.4.0 FreeBSD 14.2 Kernel: 14.2-RELEASE Compiler: clang 18.1.6 CentOS Stream 9 Kernel: 5.15 Compiler: gcc gcc (GCC) 11.5.0 20240719 (Red Hat 11.5.0-11) CentOS Stream 10 Kernel: 5.15 Compiler: gcc gcc (GCC) 14.2.1 20250110 (Red Hat 14.2.1-8) Debian GNU/Linux 12 Kernel: 5.15 Compiler: gcc gcc (Debian 12.2.0-14+deb12u1) 12.2.0 Fedora Linux 42 Kernel: 5.15 Compiler: clang gcc (GCC) 15.2.1 20250808 (Red Hat 15.2.1-1) openSUSE Leap 15.6 Kernel: 5.15 Compiler: gcc gcc (SUSE Linux) 7.5.0 Red Hat Enterprise Linux 8.10 Kernel: 5.15 Compiler: gcc gcc (GCC) 8.5.0 20210514 (Red Hat 8.5.0-22) Red Hat Enterprise Linux 9.5 Kernel: 5.15 Compiler: gcc gcc (GCC) 11.5.0 20240719 (Red Hat 11.5.0-2) Ubuntu 22.04 Kernel: 5.15 Compiler: gcc gcc (Ubuntu 11.4.0-1ubuntu1~22.04) 11.4.0 Ubuntu 24.04 Kernel: 5.15 Compiler: gcc gcc (Ubuntu 13.3.0-6ubuntu2~24.04) 13.3.0 Alpine Linux 3.22.0 Kernel: 5.15 Compiler: gcc gcc (Alpine 14.2.0) 14.2.0 Windows Server 2022 Kernel: 10.0.20348.2031 Compiler: clang 15.0.7, gcc 14.1.0 (MinGW), and MSVC VS 19.39.33521 To view detailed results, visit: https://lab.dpdk.org/results/dashboard/tarballs/35260/ UNH-IOL DPDK Community Lab To manage your email subscriptions, visit: https://lab.dpdk.org/results/dashboard/preferences/subscriptions/