From mboxrd@z Thu Jan 1 00:00:00 1970 Return-Path: Received: from mails.dpdk.org (mails.dpdk.org [217.70.189.124]) by inbox.dpdk.org (Postfix) with ESMTP id C8DD448968 for ; Sat, 18 Oct 2025 02:29:50 +0200 (CEST) Received: from mails.dpdk.org (localhost [127.0.0.1]) by mails.dpdk.org (Postfix) with ESMTP id 9ABD0400D7; Sat, 18 Oct 2025 02:29:50 +0200 (CEST) Received: from mail-io1-f100.google.com (mail-io1-f100.google.com [209.85.166.100]) by mails.dpdk.org (Postfix) with ESMTP id CB5AC400D7 for ; Sat, 18 Oct 2025 02:29:49 +0200 (CEST) Received: by mail-io1-f100.google.com with SMTP id ca18e2360f4ac-93e847a443fso54887839f.0 for ; Fri, 17 Oct 2025 17:29:49 -0700 (PDT) DKIM-Signature: v=1; a=rsa-sha256; c=relaxed/relaxed; d=iol.unh.edu; s=unh-iol; t=1760747389; x=1761352189; darn=dpdk.org; h=cc:to:from:subject:message-id:date:from:to:cc:subject:date :message-id:reply-to; bh=4dCR1hNWOsKJ8ZW+NKkZC1ANCvd0QAO4tlRcHS1ryBU=; b=RgISm8PhMSVovNLA9CwAsnw7CqKHlAwlEkSlbPnm5+HwoCyIaHfZduFr6kxoH+ipVl jET8AgX6EHJVMmmlmtpYDIcQ3Cg1I7NrgDxvvLTWo4KE/mYZ2RDKNxZ/MBJF2V3VNioh ATaSfmXL+PMNM0PYxFY3+73okpIzPKsgEZU5U= X-Google-DKIM-Signature: v=1; a=rsa-sha256; c=relaxed/relaxed; d=1e100.net; s=20230601; t=1760747389; x=1761352189; h=cc:to:from:subject:message-id:date:x-gm-message-state:from:to:cc :subject:date:message-id:reply-to; bh=4dCR1hNWOsKJ8ZW+NKkZC1ANCvd0QAO4tlRcHS1ryBU=; b=P7xDSxhUwYdRdsG9eE/QkZkhm6bN2jlJ4grKOmgGg08R/ArkiOsdZq4Tm5fQnpZtFG a0F+9eK3jT4Gvx++4niL/2X4oA+DrkXSrh4oAj/ZJcSFklpdMR3ZXcA7tQy1uYOMYZp6 ectX2aBz55KASBc65bWq6+wcSfkQNT9e+f2XFHcvwKy5msbXhnXgVKAZHA71oWNqL2Y2 xR32e5OBN3EWWiqa3CmNLKBF++ii3EH4gVRHMOoa1ajL4FH3l0tTLkEqgdEAQFWhAbvp aQFpyQ77m/C2yH6Kx/0P9qLtIdeW1y6iA3kB2jSfxUaNLZBHinezlXmgfg34boHSOsQ8 k+Sg== X-Gm-Message-State: AOJu0YxO5h8R1R+twSsN6ZV54SJJBe9jX51Y7zDH1Hs7U++1vrRPwEe+ tM8Mw90k9DjxSOQPUCsNV60QihWB0l7Xpbbk4gQmnWt6DCLo5Iy7kjT2rfX7ts2GL0FXaOgqjCj So4r6WNDHvubkdhi2ZWj+IZigb2sEqGNTH2zdbI+W/aFD6oAsc05AYh0Kq8Ah X-Gm-Gg: ASbGncsawMMpD6KzGlW5nrWGoPNMDLHy71y9E89j5r/4Ou1OAWZd5aaXE8mcAXLaHc/ FTUF7okxrGj55Hr1iYP4Db8GJnUVvV9O8L7UKaCPacC2Jna2r+8nhEj311/3Mr+0utfluEuCU8X DfOVk9WYY1/qOSpki69KJDZqnp0Kd5o8YRjQPEZj3VOYbOtQA4K0FucYgXci8mRlquHBLCOQuWW fHGkN9QhjChrKPuWoSP2WIiHlOVem8uihB/8+HPFKkAATyHubX+h9wnuuTTVo+a1Kf8QANFehBB Kd88sCEP6qfDM6+q62pZvREK558eQV2BSip8OOsydfk6l8gY9aJxIEdhqM5LMN4tyaaLgR8c3q1 j+6TeeYeH X-Google-Smtp-Source: AGHT+IHIiowfoOepMu4BM5zVx3a0lgPRW3UBqGvZo8e2kbCMsIpf91Va/DBe06sywlzYe6EnJQhqml9JmDzA X-Received: by 2002:a05:6602:608a:b0:93e:7d6d:e0d0 with SMTP id ca18e2360f4ac-93e7d6de1f2mr584463439f.6.1760747389011; Fri, 17 Oct 2025 17:29:49 -0700 (PDT) Received: from postal.iol.unh.edu (postal.iol.unh.edu. [2606:4100:3880:1234::84]) by smtp-relay.gmail.com with ESMTPS id ca18e2360f4ac-93e86701890sm7709339f.15.2025.10.17.17.29.48 (version=TLS1_2 cipher=ECDHE-ECDSA-AES128-GCM-SHA256 bits=128/128); Fri, 17 Oct 2025 17:29:49 -0700 (PDT) X-Relaying-Domain: iol.unh.edu Date: Fri, 17 Oct 2025 17:29:49 -0700 (PDT) Message-ID: <68f2df7d.050a0220.37aa8e.409aSMTPIN_ADDED_MISSING@mx.google.com> Received: from [172.21.0.2] (unknown [172.18.0.240]) by postal.iol.unh.edu (Postfix) with ESMTP id 8ED356051830; Fri, 17 Oct 2025 20:29:48 -0400 (EDT) Subject: |SUCCESS| [GIT MASTER] fd6bb586ca832c0cd6a84bcf7123a6063b3ae133 From: dpdklab@iol.unh.edu To: Test Report Cc: dpdk-test-reports@iol.unh.edu Content-Type: text/plain X-BeenThere: test-report@dpdk.org X-Mailman-Version: 2.1.29 Precedence: list List-Id: automatic DPDK test reports List-Unsubscribe: , List-Archive: List-Post: List-Help: List-Subscribe: , Errors-To: test-report-bounces@dpdk.org _Testing PASS_ Branch: dpdk fd6bb586ca832c0cd6a84bcf7123a6063b3ae133 --> testing pass Upstream job id: Windows-Compile-DPDK-Native#31730 Test environment and result as below: +---------------------+--------------------+-------------------------+-------------------+----------------------+ | Environment | dpdk_meson_compile | dpdk_llvm_clang_compile | dpdk_msvc_compile | dpdk_mingw64_compile | +=====================+====================+=========================+===================+======================+ | Ubuntu 20.04 | PASS | SKIPPED | SKIPPED | SKIPPED | +---------------------+--------------------+-------------------------+-------------------+----------------------+ | FreeBSD 14.2 | PASS | SKIPPED | SKIPPED | SKIPPED | +---------------------+--------------------+-------------------------+-------------------+----------------------+ | Windows Server 2022 | SKIPPED | PASS | PASS | PASS | +---------------------+--------------------+-------------------------+-------------------+----------------------+ Ubuntu 20.04 Kernel: 4.19 Compiler: gcc gcc (Ubuntu 9.4.0-1ubuntu1~20.04.2) 9.4.0 FreeBSD 14.2 Kernel: 14.2-RELEASE Compiler: clang 18.1.6 Windows Server 2022 Kernel: 10.0.20348.2031 Compiler: clang 15.0.7, gcc 14.1.0 (MinGW), and MSVC VS 19.39.33521 To view detailed results, visit: https://lab.dpdk.org/results/dashboard/tarballs/35262/ UNH-IOL DPDK Community Lab To manage your email subscriptions, visit: https://lab.dpdk.org/results/dashboard/preferences/subscriptions/