From mboxrd@z Thu Jan 1 00:00:00 1970 Return-Path: Received: from mails.dpdk.org (mails.dpdk.org [217.70.189.124]) by inbox.dpdk.org (Postfix) with ESMTP id 052AE48968 for ; Sat, 18 Oct 2025 02:53:16 +0200 (CEST) Received: from mails.dpdk.org (localhost [127.0.0.1]) by mails.dpdk.org (Postfix) with ESMTP id D81F0400D7; Sat, 18 Oct 2025 02:53:15 +0200 (CEST) Received: from mail-yw1-f226.google.com (mail-yw1-f226.google.com [209.85.128.226]) by mails.dpdk.org (Postfix) with ESMTP id B5F29400D7 for ; Sat, 18 Oct 2025 02:53:14 +0200 (CEST) Received: by mail-yw1-f226.google.com with SMTP id 00721157ae682-7815092cd22so32892927b3.2 for ; Fri, 17 Oct 2025 17:53:14 -0700 (PDT) DKIM-Signature: v=1; a=rsa-sha256; c=relaxed/relaxed; d=iol.unh.edu; s=unh-iol; t=1760748794; x=1761353594; darn=dpdk.org; h=cc:to:from:subject:message-id:date:from:to:cc:subject:date :message-id:reply-to; bh=7YUJYkjRBlvcpCdDi9wAIhpIH/YHcxEM4hAio/zWUG8=; b=Au/dlDa89ut5nPMKNT4fChTlJ07jvIvJz9xosJKSSHsOvmvb2Q/wJoiSHP2mwaoyHW 59mrPAvAHSF+EGk761qsayyKqi4xczKKpOdzoRb1zp3VKdTdm+Hb6SwlwJ4wwhYcmtg6 2i16B2cvUHV1egVEtrjZVCPaaWoO9NBixtUdM= X-Google-DKIM-Signature: v=1; a=rsa-sha256; c=relaxed/relaxed; d=1e100.net; s=20230601; t=1760748794; x=1761353594; h=cc:to:from:subject:message-id:date:x-gm-message-state:from:to:cc :subject:date:message-id:reply-to; bh=7YUJYkjRBlvcpCdDi9wAIhpIH/YHcxEM4hAio/zWUG8=; b=Bhg4Pya5CpgAbjdWMItTcBnKu/+/hTNr4E20RJxgdgsnedzsb1ynEINubrK5uhV+fu wEngCREMZEqVnk/3MAPLdfx92Ux1TCd7Hfan5rZgphRYMvZSGNATPvVQLEXKJ6y3KJc/ dyr/HIgHYWeen2HQ5VnOVOsivupCNfjGrDN090D9Ygzmkfb9UOyG3/HE4YrsGMMlLkE1 8js30t0DV2AmB03O7L9Z+47D5Hdr5kSv42hOdZweX30FmYcuIrS3NurG6iTolPtFn4h0 mK/+w1/pTOS21Lgex1aw/tKmGQVpEBkdUfjfsPKBrcADtMM8bfSSix4HJIQ/oiCoPi8x ngYg== X-Gm-Message-State: AOJu0Yy+2nv2Petn48jaoDvJt2Wy4pIWrqwEKnWGmuQmf5L1Wt3jjlAA 78Js1o+G3snkhcUC/39oniBwDFQnIqrogGLCs//kphc+/OwHTKbE+A+CV7zuPxZa6f4naUkm1FD XuZOC2kfnTo+W/vnv5N+sdioOHK8+JuWlp7hchSePMTJ3DQRJW5yW X-Gm-Gg: ASbGnctRpG8s0JH7OGj7gF52fzVFyTZ6o8V5NPuKv8eB17o2+OJMJkW1i8i/0xeLBtt ahM4JTBKnTG+hU0wKxZTZHa+dkedVtuPJktLbmtSYK1zyXguXo9rXuXNdA/8ryjBQMaV+gVqfkV XlfDV/oh8rWXdhElutL4YNkxZAjrK95JDl1MWS8lkugVczHZXg50uFpDagWd5KZ39N8p3/odAcm yiisXZqbcbDiUKQ1cRPzCrqvGG4+ImYE9/aL5ZJYy9esWhVl/COcu3ChiMvZcl/kFqPYT2+dlcC KLG+Ff5Xl8A0U0Dt3x8WXvCFdN2cG+wqgmBGIo8ZgpmIqDf4TTsAp5InnNfcqcShMwZkei+/jor 3RpswsvZY X-Google-Smtp-Source: AGHT+IHETAFweAkmNZfLfPur/LDB0YOtBBWiw9ddyRrMG4faxVNRvIs9vqQO6ORoONdwN/0vf00vRnkwPLZg X-Received: by 2002:a05:690c:600f:b0:724:be89:9b69 with SMTP id 00721157ae682-7836d1a1cffmr52773937b3.3.1760748794023; Fri, 17 Oct 2025 17:53:14 -0700 (PDT) Received: from postal.iol.unh.edu (postal.iol.unh.edu. [2606:4100:3880:1234::84]) by smtp-relay.gmail.com with ESMTPS id 00721157ae682-78467e7cb18sm664087b3.31.2025.10.17.17.53.13 (version=TLS1_2 cipher=ECDHE-ECDSA-AES128-GCM-SHA256 bits=128/128); Fri, 17 Oct 2025 17:53:14 -0700 (PDT) X-Relaying-Domain: iol.unh.edu Date: Fri, 17 Oct 2025 17:53:14 -0700 (PDT) Message-ID: <68f2e4fa.050a0220.171ec2.36cdSMTPIN_ADDED_MISSING@mx.google.com> Received: from [172.21.0.3] (unknown [172.18.0.240]) by postal.iol.unh.edu (Postfix) with ESMTP id A5F6760003EA; Fri, 17 Oct 2025 20:53:13 -0400 (EDT) Subject: |WARNING| [GIT MASTER] 62f583c49bf67dd4d6733ece14e55fe6839e66d1 From: dpdklab@iol.unh.edu To: Test Report Cc: dpdk-test-reports@iol.unh.edu, Xueming Li , Christian Ehrhardt , Kevin Traynor , Luca Boccassi Content-Type: text/plain X-BeenThere: test-report@dpdk.org X-Mailman-Version: 2.1.29 Precedence: list List-Id: automatic DPDK test reports List-Unsubscribe: , List-Archive: List-Post: List-Help: List-Subscribe: , Errors-To: test-report-bounces@dpdk.org _Testing issues_ Branch: tags/v23.11 62f583c49bf67dd4d6733ece14e55fe6839e66d1 --> testing issues Upstream job id: Generic-Unit-Test-DPDK#382471 Test environment and result as below: +------------------------------+------------------------------+---------------------------+--------------+----------------+ | Environment | cryptodev_sw_snow3g_autotest | cryptodev_sw_zuc_autotest | lpm_autotest | dpdk_unit_test | +==============================+==============================+===========================+==============+================+ | Debian 12 (arm) | PASS | PASS | SKIPPED | SKIPPED | +------------------------------+------------------------------+---------------------------+--------------+----------------+ | Ubuntu 20.04 | SKIPPED | SKIPPED | PASS | PASS | +------------------------------+------------------------------+---------------------------+--------------+----------------+ | Fedora Linux 41 | SKIPPED | SKIPPED | SKIPPED | PASS | +------------------------------+------------------------------+---------------------------+--------------+----------------+ | Fedora Linux 42 | SKIPPED | SKIPPED | SKIPPED | PASS | +------------------------------+------------------------------+---------------------------+--------------+----------------+ | Debian GNU/Linux 12 | SKIPPED | SKIPPED | SKIPPED | PASS | +------------------------------+------------------------------+---------------------------+--------------+----------------+ | CentOS Stream 10 | SKIPPED | SKIPPED | SKIPPED | PASS | +------------------------------+------------------------------+---------------------------+--------------+----------------+ | CentOS Stream 9 | SKIPPED | SKIPPED | SKIPPED | PASS | +------------------------------+------------------------------+---------------------------+--------------+----------------+ | Fedora Linux 40 | SKIPPED | SKIPPED | SKIPPED | PASS | +------------------------------+------------------------------+---------------------------+--------------+----------------+ | Red Hat Enterprise Linux 9.5 | SKIPPED | SKIPPED | SKIPPED | PASS | +------------------------------+------------------------------+---------------------------+--------------+----------------+ | Ubuntu 22.04 | SKIPPED | SKIPPED | SKIPPED | PASS | +------------------------------+------------------------------+---------------------------+--------------+----------------+ | Ubuntu 24.04 | SKIPPED | SKIPPED | SKIPPED | PASS | +------------------------------+------------------------------+---------------------------+--------------+----------------+ Debian 12 (arm) Kernel: Depends on container host Compiler: gcc (Debian 12.2.0-14) 12.2.0 Ubuntu 20.04 Kernel: 5.4 Compiler: gcc gcc (Ubuntu 9.4.0-1ubuntu1~20.04.2) 9.4.0 Fedora Linux 41 Kernel: 5.4 Compiler: gcc gcc (GCC) 14.3.1 20250523 (Red Hat 14.3.1-1) Fedora Linux 42 Kernel: 5.4 Compiler: gcc gcc (GCC) 15.2.1 20250808 (Red Hat 15.2.1-1) Debian GNU/Linux 12 Kernel: 5.4 Compiler: gcc gcc (Debian 12.2.0-14+deb12u1) 12.2.0 CentOS Stream 10 Kernel: 5.4 Compiler: gcc gcc (GCC) 14.2.1 20250110 (Red Hat 14.2.1-8) CentOS Stream 9 Kernel: 5.4 Compiler: gcc gcc (GCC) 11.5.0 20240719 (Red Hat 11.5.0-11) Fedora Linux 40 Kernel: 5.4 Compiler: clang gcc (GCC) 14.2.1 20240912 (Red Hat 14.2.1-3) Red Hat Enterprise Linux 9.5 Kernel: 5.4 Compiler: gcc gcc (GCC) 11.5.0 20240719 (Red Hat 11.5.0-2) Ubuntu 22.04 Kernel: 5.4 Compiler: gcc gcc (Ubuntu 11.4.0-1ubuntu1~22.04) 11.4.0 Ubuntu 24.04 Kernel: 5.4 Compiler: gcc gcc (Ubuntu 13.3.0-6ubuntu2~24.04) 13.3.0 To view detailed results, visit: https://lab.dpdk.org/results/dashboard/tarballs/35244/ UNH-IOL DPDK Community Lab To manage your email subscriptions, visit: https://lab.dpdk.org/results/dashboard/preferences/subscriptions/