From mboxrd@z Thu Jan 1 00:00:00 1970 Return-Path: Received: from mails.dpdk.org (mails.dpdk.org [217.70.189.124]) by inbox.dpdk.org (Postfix) with ESMTP id 72BA048968 for ; Sat, 18 Oct 2025 02:57:01 +0200 (CEST) Received: from mails.dpdk.org (localhost [127.0.0.1]) by mails.dpdk.org (Postfix) with ESMTP id 5CBBB400D7; Sat, 18 Oct 2025 02:57:01 +0200 (CEST) Received: from mail-yw1-f227.google.com (mail-yw1-f227.google.com [209.85.128.227]) by mails.dpdk.org (Postfix) with ESMTP id 4B9ED400D7 for ; Sat, 18 Oct 2025 02:57:00 +0200 (CEST) Received: by mail-yw1-f227.google.com with SMTP id 00721157ae682-7817c2d90d0so33248337b3.1 for ; Fri, 17 Oct 2025 17:57:00 -0700 (PDT) DKIM-Signature: v=1; a=rsa-sha256; c=relaxed/relaxed; d=iol.unh.edu; s=unh-iol; t=1760749019; x=1761353819; darn=dpdk.org; h=references:in-reply-to:cc:to:from:subject:message-id:date:from:to :cc:subject:date:message-id:reply-to; bh=NOTxgkFQqzq9+HLWzj18exDkNxPjYGKoRZo+doEIveo=; b=EXzh/678LcLuSL5hahudtQWn7S3JZSx6Xko0PxF2EzLjHqG99XulsNc2mfFqgJdi18 sFbPsa8lBWS59Ius8qPxwUiyWNNNf8Xnl+ERZM09S7SOeCl2e3MNiB3uUWoZHKG3SSta IPKN+tu1qyecBJxKDJTkY0RDcS/xG7W/t+1Qc= X-Google-DKIM-Signature: v=1; a=rsa-sha256; c=relaxed/relaxed; d=1e100.net; s=20230601; t=1760749019; x=1761353819; h=references:in-reply-to:cc:to:from:subject:message-id:date :x-gm-message-state:from:to:cc:subject:date:message-id:reply-to; bh=NOTxgkFQqzq9+HLWzj18exDkNxPjYGKoRZo+doEIveo=; b=xSI1h3oFKL6z1afBsUp6c/lMANx3nkiWAxuJyF2tWSHqtOsfn1g8Sp8cjKNXMf5Z2W vLAy4SfqFHyp0kvRBaDRVK7mT+ACwSvTdDI2NA0WLcSHNXLQb1mPGibb/1ASb2aVVsKm /nPiofyykgQ3kp0VfhJz/GZv6baNfNuwz1TBP6lWnn9E1yZum0hAYdx9aFmwIjxfWofY 6V+aemN1TX3MMUJfIhKzOic5v9uI6jSYEdrlntptQufLxEE2jaZXN4aegnWOl5gqucoQ L1fBaHjgs9QgD1W60OYegSH2XiPCX1+mDAi6Q7XlMLI0QHHmt7BiIgPVzAJQ4cqTlb+D njJQ== X-Gm-Message-State: AOJu0Yym5Qan0TCjqd7MGVTavrEqsbsRCK9V7BsearwJQ10yDPzPBU9p iZcHAS7CdoiMJIqgIHhywfbhQTU8nIqG5A0m1M+PfZkmieguYlTIZ//6UW5XfweiMerQxj6/8el 0VyV8C4Z4pc+Ed4zrLoBCEYoRVrT1UCVHtYfbJQTxKL4WuvnS5E9PFwszmEq4 X-Gm-Gg: ASbGncuNnYxZA6O5Jf81f0PWwTyJSRn+3s4+9f2DAQ12T7J3k3WRu66Cz2ESM3bIPbE 7xkVQk3//MKt7QBovuoIjw2vKJrEuJETVeZ+lnd01Fuw5dF+Q4PYO9ulu7u1IYs1DkAuklwiAvd D0RzazE1Jar033NPs/mHx0aKM4aNxzUEDVzIMlPZrekLnF5TDK2esH+wzlLgsl5Hgpjv095EdDN EMbGf/IgddxYJliMEPenyZMD4xMCfJYIqUg8QNiL3hmE2Ho7C7LKH0BUE1WDcycdDHzQVc4LE10 PBI/v6s3wfA9jVeqCXSznHo3foab4zog7PAtInRvU73//Y0Du471iByUIxffTg7xyf9OqL3RVao DcyVqVL81 X-Google-Smtp-Source: AGHT+IG+41Rux5/HBL0u3LTRGinhpWUziE3c5aJzG84JBwm7sIPDcOrpoYtY/sYxtU7xl1TKW9RN+cVTmoZy X-Received: by 2002:a05:690e:400f:b0:63e:22b1:21ba with SMTP id 956f58d0204a3-63e22b143d4mr2432400d50.7.1760749019537; Fri, 17 Oct 2025 17:56:59 -0700 (PDT) Received: from postal.iol.unh.edu (postal.iol.unh.edu. [2606:4100:3880:1234::84]) by smtp-relay.gmail.com with ESMTPS id 00721157ae682-784674d6518sm695527b3.25.2025.10.17.17.56.59 (version=TLS1_2 cipher=ECDHE-ECDSA-AES128-GCM-SHA256 bits=128/128); Fri, 17 Oct 2025 17:56:59 -0700 (PDT) X-Relaying-Domain: iol.unh.edu Date: Fri, 17 Oct 2025 17:56:59 -0700 (PDT) Message-ID: <68f2e5db.050a0220.2c2354.4027SMTPIN_ADDED_MISSING@mx.google.com> Received: from [172.21.0.2] (unknown [172.18.0.240]) by postal.iol.unh.edu (Postfix) with ESMTP id 35A446051830; Fri, 17 Oct 2025 20:56:59 -0400 (EDT) Subject: |WARNING| pw157823-157824 [PATCH] [v2,2/2] dts: add QinQ test suite From: dpdklab@iol.unh.edu To: Test Report Cc: dpdk-test-reports@iol.unh.edu In-Reply-To: <20251017203159.557830-2-dmarx@iol.unh.edu> References: <20251017203159.557830-2-dmarx@iol.unh.edu> Content-Type: text/plain X-BeenThere: test-report@dpdk.org X-Mailman-Version: 2.1.29 Precedence: list List-Id: automatic DPDK test reports List-Unsubscribe: , List-Archive: List-Post: List-Help: List-Subscribe: , Errors-To: test-report-bounces@dpdk.org Test-Label: iol-compile-amd64-testing Test-Status: WARNING http://dpdk.org/patch/157824 _Testing issues_ Submitter: Dean Marx Date: Friday, October 17 2025 20:31:59 DPDK git baseline: Repo:dpdk-next-dts Branch: master CommitID:c1a9d3e5a721be9be66f0c4bfd9fa4d6e6af3b98 157823-157824 --> testing issues Upstream job id: Generic-DPDK-Compile-Meson#435656 Test environment and result as below: +---------------------+--------------------+-------------------------+-------------------+----------------------+-------------------+------------------+ | Environment | dpdk_meson_compile | dpdk_llvm_clang_compile | dpdk_msvc_compile | dpdk_mingw64_compile | dpdk_compile_spdk | dpdk_compile_ovs | +=====================+====================+=========================+===================+======================+===================+==================+ | Ubuntu 20.04 | PASS | SKIPPED | SKIPPED | SKIPPED | SKIPPED | SKIPPED | +---------------------+--------------------+-------------------------+-------------------+----------------------+-------------------+------------------+ | FreeBSD 14.2 | PASS | SKIPPED | SKIPPED | SKIPPED | SKIPPED | SKIPPED | +---------------------+--------------------+-------------------------+-------------------+----------------------+-------------------+------------------+ | CentOS Stream 9 | PASS | SKIPPED | SKIPPED | SKIPPED | WARN | SKIPPED | +---------------------+--------------------+-------------------------+-------------------+----------------------+-------------------+------------------+ | CentOS Stream 10 | PASS | SKIPPED | SKIPPED | SKIPPED | SKIPPED | SKIPPED | +---------------------+--------------------+-------------------------+-------------------+----------------------+-------------------+------------------+ | Debian GNU/Linux 12 | PEND | SKIPPED | SKIPPED | SKIPPED | PEND | SKIPPED | +---------------------+--------------------+-------------------------+-------------------+----------------------+-------------------+------------------+ | Fedora Linux 42 | PEND | SKIPPED | SKIPPED | SKIPPED | PEND | PEND | +---------------------+--------------------+-------------------------+-------------------+----------------------+-------------------+------------------+ | Windows Server 2022 | SKIPPED | PASS | PASS | PASS | SKIPPED | SKIPPED | +---------------------+--------------------+-------------------------+-------------------+----------------------+-------------------+------------------+ ==== 20 line log output for CentOS Stream 9 (dpdk_compile_spdk): ==== --- Failed to get log output --- ==== End log output ==== Ubuntu 20.04 Kernel: 4.19 Compiler: gcc gcc (Ubuntu 9.4.0-1ubuntu1~20.04.2) 9.4.0 FreeBSD 14.2 Kernel: 14.2-RELEASE Compiler: clang 18.1.6 CentOS Stream 9 Kernel: 5.15 Compiler: gcc gcc (GCC) 11.5.0 20240719 (Red Hat 11.5.0-11) CentOS Stream 10 Kernel: 5.15 Compiler: gcc gcc (GCC) 14.2.1 20250110 (Red Hat 14.2.1-8) Debian GNU/Linux 12 Kernel: 5.15 Compiler: gcc gcc (Debian 12.2.0-14+deb12u1) 12.2.0 Fedora Linux 42 Kernel: 5.15 Compiler: clang gcc (GCC) 15.2.1 20250808 (Red Hat 15.2.1-1) Windows Server 2022 Kernel: 10.0.20348.2031 Compiler: clang 15.0.7, gcc 14.1.0 (MinGW), and MSVC VS 19.39.33521 To view detailed results, visit: https://lab.dpdk.org/results/dashboard/patchsets/34322/ UNH-IOL DPDK Community Lab To manage your email subscriptions, visit: https://lab.dpdk.org/results/dashboard/preferences/subscriptions/