From mboxrd@z Thu Jan 1 00:00:00 1970 Return-Path: Received: from mails.dpdk.org (mails.dpdk.org [217.70.189.124]) by inbox.dpdk.org (Postfix) with ESMTP id 43E6F48968 for ; Sat, 18 Oct 2025 03:04:06 +0200 (CEST) Received: from mails.dpdk.org (localhost [127.0.0.1]) by mails.dpdk.org (Postfix) with ESMTP id 0C768400D7; Sat, 18 Oct 2025 03:04:06 +0200 (CEST) Received: from mail-pl1-f228.google.com (mail-pl1-f228.google.com [209.85.214.228]) by mails.dpdk.org (Postfix) with ESMTP id 73CB1400D7 for ; Sat, 18 Oct 2025 03:04:04 +0200 (CEST) Received: by mail-pl1-f228.google.com with SMTP id d9443c01a7336-29226bc4bafso9647005ad.0 for ; Fri, 17 Oct 2025 18:04:04 -0700 (PDT) DKIM-Signature: v=1; a=rsa-sha256; c=relaxed/relaxed; d=iol.unh.edu; s=unh-iol; t=1760749443; x=1761354243; darn=dpdk.org; h=cc:to:from:subject:message-id:date:from:to:cc:subject:date :message-id:reply-to; bh=AQtcLLIHJJ24splbRucLEs1vIciDxcSO6KfmBWP+FzI=; b=FMAWhAtbmriHYSiNcEySO7vA1k4RKWZ6cRzaZn3seuz23XwofWmstoOfgMkz9Duzcy CaUmVUjkLJVvFCOVy2q06+JaWlQVILs3ajY6iZ3xuQNjZSwP6kYU7hpZmTJtmd7wv2RH Vos6a6VCxIVAROTzsdXfLbCau8IPwfeQBkqiI= X-Google-DKIM-Signature: v=1; a=rsa-sha256; c=relaxed/relaxed; d=1e100.net; s=20230601; t=1760749443; x=1761354243; h=cc:to:from:subject:message-id:date:x-gm-message-state:from:to:cc :subject:date:message-id:reply-to; bh=AQtcLLIHJJ24splbRucLEs1vIciDxcSO6KfmBWP+FzI=; b=exy2T9kmh1codnssI9zCp7vZbbZhYWjz7WYDRED10cxxk2wcT1s/OiUBR/vQ6B4DiG G0P05FzKR4r/UN3KF3ilzNKSQbmP3UfLxpLMHPyhCHLiy11NC3uWK3ugcjYyOKe4Cbda bCwrdPA6MyZfxncp/mYEmNdSH4SaTrjcdP+WZjzcPbgXqnm0a2WaIMe0WgoTokH5UllB DETySdOJTpJWk+XZbMzU5OwEWZMrftaT1FaGYFkgnJ+ivtvnE+uqs8AjQ/N4ntDGliij em0ipzw6efITfyZRWE3IPObgO3DjK6Ne/CaPK6LU7dPalxw2BeCPCGL5kHIRz0hc5XPW on5g== X-Gm-Message-State: AOJu0Yz0+Q/Prk16po63YKFkkZ9CLAlhcHjMgsjPtmpsDUns/BfGhyhg gnf13nC+5hYj9v0sFMHiVckufXlCG2MaxiHN+KdGvxA/JmD2uK4j1sy/NToHej1t1f0qW/p9DEO /N+dlJM7ShjLq+5mxsOoYGeMGMM9CR9HWwhe7RpVRNqTm X-Gm-Gg: ASbGnct4MblH/S2ia8dHQCevTt5QkOQS2K5X1yN6w/E2cEZppIYOoiGCICELsANZPsq MogDFAKwidMd2iKvYeY29SFZsbW80Lsw1FaCSAaqdxY5IkKlyJJH5NSYJMv78GOQc+W8eD2Qa0G k0KVecvO0SHgoJWPnW3o9aXBU0jixxyUGrlLBTCRIZwn6smq96hAg1YJxLeOJDC6DD8W7DY7D/G W4/O67D6pgSbPMiaXDUm9gLgVUHVni2TQTxuh4vbGiQ8pVgySl/OObBJJpOaw9YNOjbldouv/Of j8lT5nVFKvR4HF0Dxo7bh8WXmcj5xR8OocA7u+zTpy7L3f7+ssCuRrFMltQSzG5Dfldr4yDWi2Y 8fHhnHNrSS5bCz0FCLkxB+uDkn1RQzuY= X-Google-Smtp-Source: AGHT+IGPs34fSEUoO+DZwzBbgUJ9TR8FtUPULUlO7r6/S2nOurytvxT9hfG/3QtSWU8/GUZarwROCAZLWuFH X-Received: by 2002:a17:902:f711:b0:27e:eb98:9a13 with SMTP id d9443c01a7336-290c9cbc077mr64403585ad.22.1760749443531; Fri, 17 Oct 2025 18:04:03 -0700 (PDT) Received: from postal.iol.unh.edu (postal.iol.unh.edu. [132.177.123.84]) by smtp-relay.gmail.com with ESMTPS id d9443c01a7336-29247207e07sm887515ad.65.2025.10.17.18.04.03 (version=TLS1_2 cipher=ECDHE-ECDSA-AES128-GCM-SHA256 bits=128/128); Fri, 17 Oct 2025 18:04:03 -0700 (PDT) X-Relaying-Domain: iol.unh.edu Date: Fri, 17 Oct 2025 18:04:03 -0700 (PDT) Message-ID: <68f2e783.170a0220.fc2be.4a5fSMTPIN_ADDED_MISSING@mx.google.com> Received: from [172.21.0.2] (unknown [172.18.0.240]) by postal.iol.unh.edu (Postfix) with ESMTP id 0E21B6051830; Fri, 17 Oct 2025 21:04:03 -0400 (EDT) Subject: |SUCCESS| [GIT MASTER] fd6bb586ca832c0cd6a84bcf7123a6063b3ae133 From: dpdklab@iol.unh.edu To: Test Report Cc: dpdk-test-reports@iol.unh.edu Content-Type: text/plain X-BeenThere: test-report@dpdk.org X-Mailman-Version: 2.1.29 Precedence: list List-Id: automatic DPDK test reports List-Unsubscribe: , List-Archive: List-Post: List-Help: List-Subscribe: , Errors-To: test-report-bounces@dpdk.org _Testing PASS_ Branch: dpdk fd6bb586ca832c0cd6a84bcf7123a6063b3ae133 --> testing pass Upstream job id: Generic-Unit-Test-DPDK#383002 Test environment and result as below: +-------------------------------+----------------+ | Environment | dpdk_unit_test | +===============================+================+ | Arch Linux 20250613.0.365270 | PASS | +-------------------------------+----------------+ | CentOS Stream 10 | PASS | +-------------------------------+----------------+ | CentOS Stream 9 | PASS | +-------------------------------+----------------+ | Debian GNU/Linux 12 | PASS | +-------------------------------+----------------+ | Fedora Linux 41 | PASS | +-------------------------------+----------------+ | Fedora Linux 40 | PASS | +-------------------------------+----------------+ | Windows Server 2022 | PASS | +-------------------------------+----------------+ | Fedora Linux 42 | PASS | +-------------------------------+----------------+ | Red Hat Enterprise Linux 9.5 | PASS | +-------------------------------+----------------+ | Red Hat Enterprise Linux 8.10 | PASS | +-------------------------------+----------------+ | Ubuntu 24.04 | PASS | +-------------------------------+----------------+ | Ubuntu 22.04 | PASS | +-------------------------------+----------------+ | Ubuntu 20.04 | PASS | +-------------------------------+----------------+ Arch Linux 20250613.0.365270 Kernel: 5.15 Compiler: gcc gcc (GCC) 15.1.1 20250425 CentOS Stream 10 Kernel: 5.15 Compiler: gcc gcc (GCC) 14.2.1 20250110 (Red Hat 14.2.1-8) CentOS Stream 9 Kernel: 5.15 Compiler: gcc gcc (GCC) 11.5.0 20240719 (Red Hat 11.5.0-11) Debian GNU/Linux 12 Kernel: 5.15 Compiler: gcc gcc (Debian 12.2.0-14+deb12u1) 12.2.0 Fedora Linux 41 Kernel: 5.15 Compiler: gcc gcc (GCC) 14.3.1 20250523 (Red Hat 14.3.1-1) Fedora Linux 40 Kernel: 5.15 Compiler: gcc gcc (GCC) 14.2.1 20240912 (Red Hat 14.2.1-3) Windows Server 2022 Kernel: 10.0.20348.2031 Compiler: clang 15.0.7, gcc 14.1.0 (MinGW), and MSVC VS 19.39.33521 Fedora Linux 42 Kernel: 5.15 Compiler: gcc gcc (GCC) 15.2.1 20250808 (Red Hat 15.2.1-1) Red Hat Enterprise Linux 9.5 Kernel: 5.15 Compiler: gcc gcc (GCC) 11.5.0 20240719 (Red Hat 11.5.0-2) Red Hat Enterprise Linux 8.10 Kernel: 5.15 Compiler: gcc gcc (GCC) 8.5.0 20210514 (Red Hat 8.5.0-22) Ubuntu 24.04 Kernel: 5.15 Compiler: gcc gcc (Ubuntu 13.3.0-6ubuntu2~24.04) 13.3.0 Ubuntu 22.04 Kernel: 5.15 Compiler: gcc gcc (Ubuntu 11.4.0-1ubuntu1~22.04) 11.4.0 Ubuntu 20.04 Kernel: 5.15 Compiler: gcc gcc (Ubuntu 9.4.0-1ubuntu1~20.04.2) 9.4.0 To view detailed results, visit: https://lab.dpdk.org/results/dashboard/tarballs/35262/ UNH-IOL DPDK Community Lab To manage your email subscriptions, visit: https://lab.dpdk.org/results/dashboard/preferences/subscriptions/