From mboxrd@z Thu Jan 1 00:00:00 1970 Return-Path: Received: from mails.dpdk.org (mails.dpdk.org [217.70.189.124]) by inbox.dpdk.org (Postfix) with ESMTP id 5B69F48968 for ; Sat, 18 Oct 2025 03:42:44 +0200 (CEST) Received: from mails.dpdk.org (localhost [127.0.0.1]) by mails.dpdk.org (Postfix) with ESMTP id 18BB1400D7; Sat, 18 Oct 2025 03:42:44 +0200 (CEST) Received: from mail-pf1-f226.google.com (mail-pf1-f226.google.com [209.85.210.226]) by mails.dpdk.org (Postfix) with ESMTP id 0AC2B400D7 for ; Sat, 18 Oct 2025 03:42:43 +0200 (CEST) Received: by mail-pf1-f226.google.com with SMTP id d2e1a72fcca58-793021f348fso2408009b3a.1 for ; Fri, 17 Oct 2025 18:42:42 -0700 (PDT) DKIM-Signature: v=1; a=rsa-sha256; c=relaxed/relaxed; d=iol.unh.edu; s=unh-iol; t=1760751762; x=1761356562; darn=dpdk.org; h=references:in-reply-to:cc:to:from:subject:message-id:date:from:to :cc:subject:date:message-id:reply-to; bh=R0OPV40hSMODI26N+8QNLXNIR+V3vfJT9pGbZoWeros=; b=KJBTe7u+DoYEmYU99JxXV6f0aTwEgBBRntEUn54bB99UPNogo9VS7jlalg5Dz66XzG hhFnNJtzFHYKANX0DoSCdUtmWoitN5kRPULSMNLo+5DFTE2N3Skqs50/64ytv9N2BqDY fHwtzWUSZciJrXjzYwU3/+zSZc4kr6B6rfNro= X-Google-DKIM-Signature: v=1; a=rsa-sha256; c=relaxed/relaxed; d=1e100.net; s=20230601; t=1760751762; x=1761356562; h=references:in-reply-to:cc:to:from:subject:message-id:date :x-gm-message-state:from:to:cc:subject:date:message-id:reply-to; bh=R0OPV40hSMODI26N+8QNLXNIR+V3vfJT9pGbZoWeros=; b=t4EP1ixfRCc7ocW5mBRyvez2a1c1VZueDx/YQKAMia1rn0cqlU++Y2ROSnHEz2Pngh nUsRqs7Ync6u3rEafup3ZDxu5MHnB5fF9qARxSXN+JMqab0Boy9DIlLqKr5BnWbkKwLZ 2j8sDyo5c0Htm8+nR3HbDxnmUgCDTCcUdfew1jM8oI44NwjkunIIbZogqbVr8RZXNnnH w5JqOUxZBlChA38iZg2cswGCeMehVcbkbPH6G76wV0tACOhU+lJtSLR9N9aAdyXE3AoP DONoqesLlkbymEmyPNlwHN8SX7gMwvxOuhNKRqqxk1HuD3RXqV135Cxu/szkQAL9PQ0k iEzw== X-Gm-Message-State: AOJu0Yy7j9VvJl4H0BYeKSzIQsYVjdvUFnTLswEkk4uwU2EMdZkvB4ZV eOS2xM/6p4FC+2iLjiCccIKIkqgRvp8Tjly1vE9J/lo9EGz41BHOv7OPI1mNuxFirWpybxXOhLi Pb4KCBPzfVTrzBwln49KHZsqZJ3nI6kpImDVOcR0PTGo5 X-Gm-Gg: ASbGncvM7jS+7qGTjMWyqeCDsrSUesYB/Yd2vPAqfw9Cusw2Si5742j+s4NJXrjESn2 b4DZ3DHMtJeyHrRuTsO9kU4Ja53Iq1yPxMjxaqAsnrHlFq7X6stV/6ZnAgQKj7Lt3shJAfyzDWR CajkZlnXGyGyIk73qlGblpGreQ81De/OhepEmRvoA2v6PqAd7qqjX+Uzo0R3mU5WbaurNSNIJMv djMdjUKtUGTY/CHZ9CMP5/th5j4/1dPSzXPMDcekLJCRAN2WkLPQ+YAp4IhW18fMGrHhIzVRE1V 8dICE5phFvrDxnJ1ha+TSieoHPmg3MSNFEMxuie6ywq/seoLF5chWYhqcAtIp1SV4CbWYxc/HcL UnptXT09fWk17wgOXB3Iy3FxMosD7ig4= X-Google-Smtp-Source: AGHT+IFYPi1abg4afC5FpprJMeWbND4Sz+DfVLPmovzCa4O0HyH1qCx0RXl29ORv9xcMlDR5oqHlqe7UyQsi X-Received: by 2002:a17:903:1250:b0:290:dd1f:3d60 with SMTP id d9443c01a7336-290dd1f3fc8mr32393665ad.51.1760751761993; Fri, 17 Oct 2025 18:42:41 -0700 (PDT) Received: from postal.iol.unh.edu (postal.iol.unh.edu. [132.177.123.84]) by smtp-relay.gmail.com with ESMTPS id 98e67ed59e1d1-33d5deb2a5asm79094a91.7.2025.10.17.18.42.41 (version=TLS1_2 cipher=ECDHE-ECDSA-AES128-GCM-SHA256 bits=128/128); Fri, 17 Oct 2025 18:42:41 -0700 (PDT) X-Relaying-Domain: iol.unh.edu Date: Fri, 17 Oct 2025 18:42:41 -0700 (PDT) Message-ID: <68f2f091.170a0220.1d2d7f.41e2SMTPIN_ADDED_MISSING@mx.google.com> Received: from [172.21.0.2] (unknown [172.18.0.240]) by postal.iol.unh.edu (Postfix) with ESMTP id 28EC66051830; Fri, 17 Oct 2025 21:42:41 -0400 (EDT) Subject: |WARNING| pw157823-157824 [PATCH] [v2,2/2] dts: add QinQ test suite From: dpdklab@iol.unh.edu To: Test Report Cc: dpdk-test-reports@iol.unh.edu In-Reply-To: <20251017203159.557830-2-dmarx@iol.unh.edu> References: <20251017203159.557830-2-dmarx@iol.unh.edu> Content-Type: text/plain X-BeenThere: test-report@dpdk.org X-Mailman-Version: 2.1.29 Precedence: list List-Id: automatic DPDK test reports List-Unsubscribe: , List-Archive: List-Post: List-Help: List-Subscribe: , Errors-To: test-report-bounces@dpdk.org Test-Label: iol-compile-amd64-testing Test-Status: WARNING http://dpdk.org/patch/157824 _Testing issues_ Submitter: Dean Marx Date: Friday, October 17 2025 20:31:59 DPDK git baseline: Repo:dpdk-next-dts Branch: master CommitID:c1a9d3e5a721be9be66f0c4bfd9fa4d6e6af3b98 157823-157824 --> testing issues Upstream job id: Generic-DPDK-Compile-Meson#435668 Test environment and result as below: +-------------------------------+--------------------+-------------------------+-------------------+----------------------+-------------------+------------------+ | Environment | dpdk_meson_compile | dpdk_llvm_clang_compile | dpdk_msvc_compile | dpdk_mingw64_compile | dpdk_compile_spdk | dpdk_compile_ovs | +===============================+====================+=========================+===================+======================+===================+==================+ | Ubuntu 20.04 | PASS | SKIPPED | SKIPPED | SKIPPED | SKIPPED | SKIPPED | +-------------------------------+--------------------+-------------------------+-------------------+----------------------+-------------------+------------------+ | FreeBSD 14.2 | PASS | SKIPPED | SKIPPED | SKIPPED | SKIPPED | SKIPPED | +-------------------------------+--------------------+-------------------------+-------------------+----------------------+-------------------+------------------+ | CentOS Stream 9 | PASS | SKIPPED | SKIPPED | SKIPPED | WARN | SKIPPED | +-------------------------------+--------------------+-------------------------+-------------------+----------------------+-------------------+------------------+ | CentOS Stream 10 | PASS | SKIPPED | SKIPPED | SKIPPED | SKIPPED | SKIPPED | +-------------------------------+--------------------+-------------------------+-------------------+----------------------+-------------------+------------------+ | Debian GNU/Linux 12 | PASS | SKIPPED | SKIPPED | SKIPPED | WARN | SKIPPED | +-------------------------------+--------------------+-------------------------+-------------------+----------------------+-------------------+------------------+ | Fedora Linux 42 | PASS | SKIPPED | SKIPPED | SKIPPED | WARN | PASS | +-------------------------------+--------------------+-------------------------+-------------------+----------------------+-------------------+------------------+ | openSUSE Leap 15.6 | PASS | SKIPPED | SKIPPED | SKIPPED | SKIPPED | SKIPPED | +-------------------------------+--------------------+-------------------------+-------------------+----------------------+-------------------+------------------+ | Red Hat Enterprise Linux 8.10 | PASS | SKIPPED | SKIPPED | SKIPPED | SKIPPED | SKIPPED | +-------------------------------+--------------------+-------------------------+-------------------+----------------------+-------------------+------------------+ | Red Hat Enterprise Linux 9.5 | PASS | SKIPPED | SKIPPED | SKIPPED | SKIPPED | SKIPPED | +-------------------------------+--------------------+-------------------------+-------------------+----------------------+-------------------+------------------+ | Ubuntu 22.04 | PASS | SKIPPED | SKIPPED | SKIPPED | WARN | SKIPPED | +-------------------------------+--------------------+-------------------------+-------------------+----------------------+-------------------+------------------+ | Ubuntu 24.04 | PASS | SKIPPED | SKIPPED | SKIPPED | WARN | PASS | +-------------------------------+--------------------+-------------------------+-------------------+----------------------+-------------------+------------------+ | Alpine Linux 3.22.0 | PASS | SKIPPED | SKIPPED | SKIPPED | SKIPPED | SKIPPED | +-------------------------------+--------------------+-------------------------+-------------------+----------------------+-------------------+------------------+ | Windows Server 2022 | SKIPPED | PASS | PASS | PASS | SKIPPED | SKIPPED | +-------------------------------+--------------------+-------------------------+-------------------+----------------------+-------------------+------------------+ ==== 20 line log output for Ubuntu 24.04 (dpdk_compile_spdk): ==== --- Failed to get log output --- ==== End log output ==== Ubuntu 20.04 Kernel: 4.19 Compiler: gcc gcc (Ubuntu 9.4.0-1ubuntu1~20.04.2) 9.4.0 FreeBSD 14.2 Kernel: 14.2-RELEASE Compiler: clang 18.1.6 CentOS Stream 9 Kernel: 5.15 Compiler: gcc gcc (GCC) 11.5.0 20240719 (Red Hat 11.5.0-11) CentOS Stream 10 Kernel: 5.15 Compiler: gcc gcc (GCC) 14.2.1 20250110 (Red Hat 14.2.1-8) Debian GNU/Linux 12 Kernel: 5.15 Compiler: gcc gcc (Debian 12.2.0-14+deb12u1) 12.2.0 Fedora Linux 42 Kernel: 5.15 Compiler: clang gcc (GCC) 15.2.1 20250808 (Red Hat 15.2.1-1) openSUSE Leap 15.6 Kernel: 5.15 Compiler: gcc gcc (SUSE Linux) 7.5.0 Red Hat Enterprise Linux 8.10 Kernel: 5.15 Compiler: gcc gcc (GCC) 8.5.0 20210514 (Red Hat 8.5.0-22) Red Hat Enterprise Linux 9.5 Kernel: 5.15 Compiler: gcc gcc (GCC) 11.5.0 20240719 (Red Hat 11.5.0-2) Ubuntu 22.04 Kernel: 5.15 Compiler: gcc gcc (Ubuntu 11.4.0-1ubuntu1~22.04) 11.4.0 Ubuntu 24.04 Kernel: 5.15 Compiler: gcc gcc (Ubuntu 13.3.0-6ubuntu2~24.04) 13.3.0 Alpine Linux 3.22.0 Kernel: 5.15 Compiler: gcc gcc (Alpine 14.2.0) 14.2.0 Windows Server 2022 Kernel: 10.0.20348.2031 Compiler: clang 15.0.7, gcc 14.1.0 (MinGW), and MSVC VS 19.39.33521 To view detailed results, visit: https://lab.dpdk.org/results/dashboard/patchsets/34322/ UNH-IOL DPDK Community Lab To manage your email subscriptions, visit: https://lab.dpdk.org/results/dashboard/preferences/subscriptions/