From mboxrd@z Thu Jan 1 00:00:00 1970 Return-Path: Received: from mails.dpdk.org (mails.dpdk.org [217.70.189.124]) by inbox.dpdk.org (Postfix) with ESMTP id 6A4A348968 for ; Sat, 18 Oct 2025 03:57:50 +0200 (CEST) Received: from mails.dpdk.org (localhost [127.0.0.1]) by mails.dpdk.org (Postfix) with ESMTP id 47168400D7; Sat, 18 Oct 2025 03:57:50 +0200 (CEST) Received: from mail-vk1-f225.google.com (mail-vk1-f225.google.com [209.85.221.225]) by mails.dpdk.org (Postfix) with ESMTP id 12418400D7 for ; Sat, 18 Oct 2025 03:57:49 +0200 (CEST) Received: by mail-vk1-f225.google.com with SMTP id 71dfb90a1353d-5563c36f6d4so1799000e0c.1 for ; Fri, 17 Oct 2025 18:57:49 -0700 (PDT) DKIM-Signature: v=1; a=rsa-sha256; c=relaxed/relaxed; d=iol.unh.edu; s=unh-iol; t=1760752668; x=1761357468; darn=dpdk.org; h=cc:to:from:subject:message-id:date:from:to:cc:subject:date :message-id:reply-to; bh=5jd2aCPL7Px6qW3/dH9nT1ecuUnv+x6v1nK5iPDWRk4=; b=Y6kDVN0NutZVxZVkvlwPeH2MU2tbVdha8mJWnBzxjwKRC9CE+uao1xa6fwIzzyCYDT ykCVsHoRZl5KCrkBrKfdWFCMNXSDYc6EF3MtC1P/U2/9TTYCHJK8Pa9+NY/VC5K8iPDp gkNcnfmGOnxIp4dcDdBgT3geUee3AIgDgpB74= X-Google-DKIM-Signature: v=1; a=rsa-sha256; c=relaxed/relaxed; d=1e100.net; s=20230601; t=1760752668; x=1761357468; h=cc:to:from:subject:message-id:date:x-gm-message-state:from:to:cc :subject:date:message-id:reply-to; bh=5jd2aCPL7Px6qW3/dH9nT1ecuUnv+x6v1nK5iPDWRk4=; b=H9F8wKhbe7we/bJquXpOoF73xMQpBkSn866G9Tzs4r8xqeKwZ4wjn9ios17YH3JTyZ kmqa2s3wFcVCb7vNOBOK9+Vx3eHdo/bBTtieSlFenhjCarc94a6Po3eyhBvTSeWqOWNX HWPD0Sq/kchgib9mQ69heXCoJWjjOhiq5Ugd5RhzS2Ui8n1tKiD+Cck4KrSDNB7N8DYo GkcyArH6w1vvewgD54ZteY+MWiNjWg540MkD3oG0Mrm1tvn53JP9V0in6Su5Q7r8cWrG Rd87iERKONB80y6z5QKr93oc45POvimeh3Vh08xyHxI+HY/Mdxzurmnyc/KKQORpRLf9 8ZmA== X-Gm-Message-State: AOJu0YxMjLoC43WSYU2VBcmcLuWLoZ5uzgNJ0cc5drMh5+Qng9V7g5iG 6FvsS9v+/ffdq3XCXlDI5A2aMepebAO+mdJQJba+BBYBsjogyOkbUrpNHBuv+H0WUDO036Dc1IM eEEWh8kLI5lbobXdWilnwjclJE5WIg6nW4MyZSGjaeDfV4HFHaiiCwdJQlcIH X-Gm-Gg: ASbGncsuXYGwD3wyHoxJY3Y47HBrSjTYhGlb5nW4mju++Qf+pig5AT0oVn+hm/OyRGy Pdm+6XP0dXhtp2zpzIK/RjotZAMwjHRICr7x9ZRXGs/U8CxHEls6I3vRyQs7xhWWq7uuMZmg8wH xKy6KFe0yKL5JEmAOIlZzp5AOxGfWURW2E8C3yxQB3mkM9fuOCOTp1OkRGWqkD0t+VdQ9l7MLCB UDSDxKuFQV4XjfDFh6s8AgVzJkw3u06GkKMcQ/0/rxdlAIkeEsVyrGlTO5OYQhPGxdftM7Y1M5A i3yW7Y2Cpp5IQjceDKLpDW0JVvlZ1ZKZNkj5t75GekCJTQFPJjgb9CycEwKCtIt7mM7K0+Zkd/t gxgp7xroP X-Google-Smtp-Source: AGHT+IG3S6ea0ZnoiEJdJU4nSnJGd823W/ZjoaPmWQTpbjpLbIhH6Z3kGrr4EUqO0yRPiSZ9G2R+kPfc42k0 X-Received: by 2002:a05:6122:6589:b0:552:3366:e822 with SMTP id 71dfb90a1353d-5564ed6de17mr2511639e0c.1.1760752668335; Fri, 17 Oct 2025 18:57:48 -0700 (PDT) Received: from postal.iol.unh.edu (postal.iol.unh.edu. [2606:4100:3880:1234::84]) by smtp-relay.gmail.com with ESMTPS id 71dfb90a1353d-5566203ecb2sm132800e0c.3.2025.10.17.18.57.48 (version=TLS1_2 cipher=ECDHE-ECDSA-AES128-GCM-SHA256 bits=128/128); Fri, 17 Oct 2025 18:57:48 -0700 (PDT) X-Relaying-Domain: iol.unh.edu Date: Fri, 17 Oct 2025 18:57:48 -0700 (PDT) Message-ID: <68f2f41c.050a0220.26ac03.70c8SMTPIN_ADDED_MISSING@mx.google.com> Received: from [172.21.0.2] (unknown [172.18.0.240]) by postal.iol.unh.edu (Postfix) with ESMTP id D45506051830; Fri, 17 Oct 2025 21:57:47 -0400 (EDT) Subject: |WARNING| [GIT MASTER] fd6bb586ca832c0cd6a84bcf7123a6063b3ae133 From: dpdklab@iol.unh.edu To: Test Report Cc: dpdk-test-reports@iol.unh.edu Content-Type: text/plain X-BeenThere: test-report@dpdk.org X-Mailman-Version: 2.1.29 Precedence: list List-Id: automatic DPDK test reports List-Unsubscribe: , List-Archive: List-Post: List-Help: List-Subscribe: , Errors-To: test-report-bounces@dpdk.org _Testing issues_ Branch: dpdk fd6bb586ca832c0cd6a84bcf7123a6063b3ae133 --> testing issues Upstream job id: Generic-DPDK-Compile-Meson#435687 Test environment and result as below: +-------------------------------+--------------------+-------------------------+-------------------+----------------------+-------------------+------------------+ | Environment | dpdk_meson_compile | dpdk_llvm_clang_compile | dpdk_msvc_compile | dpdk_mingw64_compile | dpdk_compile_spdk | dpdk_compile_ovs | +===============================+====================+=========================+===================+======================+===================+==================+ | Ubuntu 20.04 | PEND | SKIPPED | SKIPPED | SKIPPED | SKIPPED | SKIPPED | +-------------------------------+--------------------+-------------------------+-------------------+----------------------+-------------------+------------------+ | FreeBSD 14.2 | PASS | SKIPPED | SKIPPED | SKIPPED | SKIPPED | SKIPPED | +-------------------------------+--------------------+-------------------------+-------------------+----------------------+-------------------+------------------+ | CentOS Stream 9 | PEND | SKIPPED | SKIPPED | SKIPPED | PEND | SKIPPED | +-------------------------------+--------------------+-------------------------+-------------------+----------------------+-------------------+------------------+ | CentOS Stream 10 | PASS | SKIPPED | SKIPPED | SKIPPED | SKIPPED | SKIPPED | +-------------------------------+--------------------+-------------------------+-------------------+----------------------+-------------------+------------------+ | Debian GNU/Linux 12 | PEND | SKIPPED | SKIPPED | SKIPPED | PEND | SKIPPED | +-------------------------------+--------------------+-------------------------+-------------------+----------------------+-------------------+------------------+ | Fedora Linux 42 | PASS | SKIPPED | SKIPPED | SKIPPED | WARN | PASS | +-------------------------------+--------------------+-------------------------+-------------------+----------------------+-------------------+------------------+ | openSUSE Leap 15.6 | PASS | SKIPPED | SKIPPED | SKIPPED | SKIPPED | SKIPPED | +-------------------------------+--------------------+-------------------------+-------------------+----------------------+-------------------+------------------+ | Red Hat Enterprise Linux 8.10 | PASS | SKIPPED | SKIPPED | SKIPPED | SKIPPED | SKIPPED | +-------------------------------+--------------------+-------------------------+-------------------+----------------------+-------------------+------------------+ | Red Hat Enterprise Linux 9.5 | PEND | SKIPPED | SKIPPED | SKIPPED | SKIPPED | SKIPPED | +-------------------------------+--------------------+-------------------------+-------------------+----------------------+-------------------+------------------+ | Windows Server 2022 | SKIPPED | PASS | PASS | PASS | SKIPPED | SKIPPED | +-------------------------------+--------------------+-------------------------+-------------------+----------------------+-------------------+------------------+ ==== 20 line log output for Fedora Linux 42 (dpdk_compile_spdk): ==== --- Failed to get log output --- ==== End log output ==== Ubuntu 20.04 Kernel: 4.19 Compiler: gcc gcc (Ubuntu 9.4.0-1ubuntu1~20.04.2) 9.4.0 FreeBSD 14.2 Kernel: 14.2-RELEASE Compiler: clang 18.1.6 CentOS Stream 9 Kernel: 5.15 Compiler: gcc gcc (GCC) 11.5.0 20240719 (Red Hat 11.5.0-11) CentOS Stream 10 Kernel: 5.15 Compiler: gcc gcc (GCC) 14.2.1 20250110 (Red Hat 14.2.1-8) Debian GNU/Linux 12 Kernel: 5.15 Compiler: gcc gcc (Debian 12.2.0-14+deb12u1) 12.2.0 Fedora Linux 42 Kernel: 5.15 Compiler: clang gcc (GCC) 15.2.1 20250808 (Red Hat 15.2.1-1) openSUSE Leap 15.6 Kernel: 5.15 Compiler: gcc gcc (SUSE Linux) 7.5.0 Red Hat Enterprise Linux 8.10 Kernel: 5.15 Compiler: gcc gcc (GCC) 8.5.0 20210514 (Red Hat 8.5.0-22) Red Hat Enterprise Linux 9.5 Kernel: 5.15 Compiler: gcc gcc (GCC) 11.5.0 20240719 (Red Hat 11.5.0-2) Windows Server 2022 Kernel: 10.0.20348.2031 Compiler: clang 15.0.7, gcc 14.1.0 (MinGW), and MSVC VS 19.39.33521 To view detailed results, visit: https://lab.dpdk.org/results/dashboard/tarballs/35262/ UNH-IOL DPDK Community Lab To manage your email subscriptions, visit: https://lab.dpdk.org/results/dashboard/preferences/subscriptions/