From mboxrd@z Thu Jan 1 00:00:00 1970 Return-Path: Received: from mails.dpdk.org (mails.dpdk.org [217.70.189.124]) by inbox.dpdk.org (Postfix) with ESMTP id C986248969 for ; Sat, 18 Oct 2025 04:39:18 +0200 (CEST) Received: from mails.dpdk.org (localhost [127.0.0.1]) by mails.dpdk.org (Postfix) with ESMTP id 960B2400D7; Sat, 18 Oct 2025 04:39:18 +0200 (CEST) Received: from mail-pj1-f98.google.com (mail-pj1-f98.google.com [209.85.216.98]) by mails.dpdk.org (Postfix) with ESMTP id B2BEF400D7 for ; Sat, 18 Oct 2025 04:39:16 +0200 (CEST) Received: by mail-pj1-f98.google.com with SMTP id 98e67ed59e1d1-33082c95fd0so2600195a91.1 for ; Fri, 17 Oct 2025 19:39:16 -0700 (PDT) DKIM-Signature: v=1; a=rsa-sha256; c=relaxed/relaxed; d=iol.unh.edu; s=unh-iol; t=1760755156; x=1761359956; darn=dpdk.org; h=cc:to:from:subject:message-id:date:from:to:cc:subject:date :message-id:reply-to; bh=Gsk/8A30lGyxhzS+Fs171SuNCJ8/Bk+r5cEoyWqCS/k=; b=NU6P0XE940nnhOhQrvd2aen552m/6epqPS4anc16olmnhyg3JvpIwUd4g9SNULKVa1 QlVjogb2/OKjv8JQPEI0ETg4vvWw+xmUKi8hvn0kYt+eKRi+lGMpEpnVjQrFkEL5LU9P yqocP7ERcfpZ3Dg0Sq3p9AkGh4NDSxtgXEcnk= X-Google-DKIM-Signature: v=1; a=rsa-sha256; c=relaxed/relaxed; d=1e100.net; s=20230601; t=1760755156; x=1761359956; h=cc:to:from:subject:message-id:date:x-gm-message-state:from:to:cc :subject:date:message-id:reply-to; bh=Gsk/8A30lGyxhzS+Fs171SuNCJ8/Bk+r5cEoyWqCS/k=; b=uN3/C7JZk9zdsQIy96SGbv+KkD8fqQlWMgM4ygzyJMqgkwwBi5P28fDQc1V93LPbiX AYQE/4yTI/MpY5uoeFyEeuF1smgj8OhA7re6cQRV5hnHdoQ1EhOZLQOp4Zh51QILF7Qq tLr8MEVw2YdDI3ZEhy50T8FZqnZ4sHNPiv+tQPjjoA0LO3pJ0OEKQL+TtTo4GlflAF3W pN1b76TXfnbTfcruzAhZUrZb3KK82ZPUQVeVjbjIdqnQzBeDwy5gaKMtn10cRJIJq4KM OmvOohfnmTCvVvTJzzIlz7O6OIhoVvWSM/CeVkhRNpSeIU3LfMj9l+8zQAjZbSj0uRAU U3OQ== X-Gm-Message-State: AOJu0YwM6pqxjHeVDRemElFftsLvsCnw4I6szMlnnT1UjEaGCcJhu3iI lUMOcUN6UmWBOITlFO3T7TSEE+RMi7/3VkNaCK/RZpJPaMOT4Qi+/zPGCKSTRKN30qEjgXqu5vQ c8lJUPIhmh0PLAfZaQ+CJVTkfoio+uPHJDKvFqresrpyyytn5+c0je8qNEqWf X-Gm-Gg: ASbGnctjHwJ+OaUKSsfQDqwVS1gvr8LgKRyzjaxnktnrKRO8UMARSd2Qdz0pNxbo4RV QcZccSa0ldMtRXSRnERfs8juA5PvJva5jPTAiah/ccrQ00dT7PKtuGN0vohxAtdU5nSJcfK/Lsj AygIinjfrri1DZtqDtIcbEoNYvr9s2PJHvQwu4UQjYA+CN35GomkAa5eDWUBpH+bBMKnOpX9g9r xSED023iZlZBxZ1k+WuH7tCA/h150PnJ8tIlIbxyP7UbhtVyUgcPUm6XdfrxMflkbOOa4Sknzok Sab4R5ThQoqojtf/CAacdYXMBF18Wmw1dgfRE0L2B18DnZxu2LIUN+5v3ZB/UmgcCiXQ8198IYI Kd3aX3bEy X-Google-Smtp-Source: AGHT+IHQq6weqI1mabV+f2puaNlewjyAiOazKGAQ2Y02O1GeM/EYkyyr/JS8sNoV8JNEklZemaWuEb0V7zuL X-Received: by 2002:a17:90b:3fcc:b0:31e:d4e3:4002 with SMTP id 98e67ed59e1d1-33bcf85ad9amr6361782a91.2.1760755155791; Fri, 17 Oct 2025 19:39:15 -0700 (PDT) Received: from postal.iol.unh.edu (postal.iol.unh.edu. [2606:4100:3880:1234::84]) by smtp-relay.gmail.com with ESMTPS id 98e67ed59e1d1-33d5d01789csm90730a91.0.2025.10.17.19.39.15 (version=TLS1_2 cipher=ECDHE-ECDSA-AES128-GCM-SHA256 bits=128/128); Fri, 17 Oct 2025 19:39:15 -0700 (PDT) X-Relaying-Domain: iol.unh.edu Date: Fri, 17 Oct 2025 19:39:15 -0700 (PDT) Message-ID: <68f2fdd3.170a0220.12e725.4a72SMTPIN_ADDED_MISSING@mx.google.com> Received: from [172.21.0.3] (unknown [172.18.0.240]) by postal.iol.unh.edu (Postfix) with ESMTP id 05F7C6051830; Fri, 17 Oct 2025 22:39:15 -0400 (EDT) Subject: |WARNING| [GIT MASTER] fd6bb586ca832c0cd6a84bcf7123a6063b3ae133 From: dpdklab@iol.unh.edu To: Test Report Cc: dpdk-test-reports@iol.unh.edu Content-Type: text/plain X-BeenThere: test-report@dpdk.org X-Mailman-Version: 2.1.29 Precedence: list List-Id: automatic DPDK test reports List-Unsubscribe: , List-Archive: List-Post: List-Help: List-Subscribe: , Errors-To: test-report-bounces@dpdk.org _Testing issues_ Branch: dpdk fd6bb586ca832c0cd6a84bcf7123a6063b3ae133 --> testing issues Upstream job id: Generic-DPDK-Compile-Meson#435695 Test environment and result as below: +-------------------------------+--------------------+-------------------------+-------------------+----------------------+-------------------+------------------+ | Environment | dpdk_meson_compile | dpdk_llvm_clang_compile | dpdk_msvc_compile | dpdk_mingw64_compile | dpdk_compile_spdk | dpdk_compile_ovs | +===============================+====================+=========================+===================+======================+===================+==================+ | Ubuntu 20.04 | PASS | SKIPPED | SKIPPED | SKIPPED | SKIPPED | SKIPPED | +-------------------------------+--------------------+-------------------------+-------------------+----------------------+-------------------+------------------+ | FreeBSD 14.2 | PASS | SKIPPED | SKIPPED | SKIPPED | SKIPPED | SKIPPED | +-------------------------------+--------------------+-------------------------+-------------------+----------------------+-------------------+------------------+ | CentOS Stream 9 | PASS | SKIPPED | SKIPPED | SKIPPED | WARN | SKIPPED | +-------------------------------+--------------------+-------------------------+-------------------+----------------------+-------------------+------------------+ | CentOS Stream 10 | PASS | SKIPPED | SKIPPED | SKIPPED | SKIPPED | SKIPPED | +-------------------------------+--------------------+-------------------------+-------------------+----------------------+-------------------+------------------+ | Debian GNU/Linux 12 | PASS | SKIPPED | SKIPPED | SKIPPED | WARN | SKIPPED | +-------------------------------+--------------------+-------------------------+-------------------+----------------------+-------------------+------------------+ | Fedora Linux 42 | PASS | SKIPPED | SKIPPED | SKIPPED | WARN | PASS | +-------------------------------+--------------------+-------------------------+-------------------+----------------------+-------------------+------------------+ | openSUSE Leap 15.6 | PASS | SKIPPED | SKIPPED | SKIPPED | SKIPPED | SKIPPED | +-------------------------------+--------------------+-------------------------+-------------------+----------------------+-------------------+------------------+ | Red Hat Enterprise Linux 8.10 | PASS | SKIPPED | SKIPPED | SKIPPED | SKIPPED | SKIPPED | +-------------------------------+--------------------+-------------------------+-------------------+----------------------+-------------------+------------------+ | Red Hat Enterprise Linux 9.5 | PASS | SKIPPED | SKIPPED | SKIPPED | SKIPPED | SKIPPED | +-------------------------------+--------------------+-------------------------+-------------------+----------------------+-------------------+------------------+ | Ubuntu 22.04 | PASS | SKIPPED | SKIPPED | SKIPPED | WARN | SKIPPED | +-------------------------------+--------------------+-------------------------+-------------------+----------------------+-------------------+------------------+ | Ubuntu 24.04 | PASS | SKIPPED | SKIPPED | SKIPPED | WARN | PASS | +-------------------------------+--------------------+-------------------------+-------------------+----------------------+-------------------+------------------+ | Alpine Linux 3.22.0 | PASS | SKIPPED | SKIPPED | SKIPPED | SKIPPED | SKIPPED | +-------------------------------+--------------------+-------------------------+-------------------+----------------------+-------------------+------------------+ | Arch Linux 20250613.0.365270 | PASS | SKIPPED | SKIPPED | SKIPPED | SKIPPED | SKIPPED | +-------------------------------+--------------------+-------------------------+-------------------+----------------------+-------------------+------------------+ | Windows Server 2022 | SKIPPED | PASS | PASS | PASS | SKIPPED | SKIPPED | +-------------------------------+--------------------+-------------------------+-------------------+----------------------+-------------------+------------------+ ==== 20 line log output for Ubuntu 24.04 (dpdk_compile_spdk): ==== --- Failed to get log output --- ==== End log output ==== Ubuntu 20.04 Kernel: 4.19 Compiler: gcc gcc (Ubuntu 9.4.0-1ubuntu1~20.04.2) 9.4.0 FreeBSD 14.2 Kernel: 14.2-RELEASE Compiler: clang 18.1.6 CentOS Stream 9 Kernel: 5.15 Compiler: gcc gcc (GCC) 11.5.0 20240719 (Red Hat 11.5.0-11) CentOS Stream 10 Kernel: 5.15 Compiler: gcc gcc (GCC) 14.2.1 20250110 (Red Hat 14.2.1-8) Debian GNU/Linux 12 Kernel: 5.15 Compiler: gcc gcc (Debian 12.2.0-14+deb12u1) 12.2.0 Fedora Linux 42 Kernel: 5.15 Compiler: clang gcc (GCC) 15.2.1 20250808 (Red Hat 15.2.1-1) openSUSE Leap 15.6 Kernel: 5.15 Compiler: gcc gcc (SUSE Linux) 7.5.0 Red Hat Enterprise Linux 8.10 Kernel: 5.15 Compiler: gcc gcc (GCC) 8.5.0 20210514 (Red Hat 8.5.0-22) Red Hat Enterprise Linux 9.5 Kernel: 5.15 Compiler: gcc gcc (GCC) 11.5.0 20240719 (Red Hat 11.5.0-2) Ubuntu 22.04 Kernel: 5.15 Compiler: gcc gcc (Ubuntu 11.4.0-1ubuntu1~22.04) 11.4.0 Ubuntu 24.04 Kernel: 5.15 Compiler: gcc gcc (Ubuntu 13.3.0-6ubuntu2~24.04) 13.3.0 Alpine Linux 3.22.0 Kernel: 5.15 Compiler: gcc gcc (Alpine 14.2.0) 14.2.0 Arch Linux 20250613.0.365270 Kernel: 5.15 Compiler: gcc gcc (GCC) 15.1.1 20250425 Windows Server 2022 Kernel: 10.0.20348.2031 Compiler: clang 15.0.7, gcc 14.1.0 (MinGW), and MSVC VS 19.39.33521 To view detailed results, visit: https://lab.dpdk.org/results/dashboard/tarballs/35262/ UNH-IOL DPDK Community Lab To manage your email subscriptions, visit: https://lab.dpdk.org/results/dashboard/preferences/subscriptions/