From mboxrd@z Thu Jan 1 00:00:00 1970 Return-Path: Received: from mails.dpdk.org (mails.dpdk.org [217.70.189.124]) by inbox.dpdk.org (Postfix) with ESMTP id 1FE8648962 for ; Sat, 18 Oct 2025 05:40:02 +0200 (CEST) Received: from mails.dpdk.org (localhost [127.0.0.1]) by mails.dpdk.org (Postfix) with ESMTP id F0E70400D7; Sat, 18 Oct 2025 05:40:01 +0200 (CEST) Received: from mail-qv1-f99.google.com (mail-qv1-f99.google.com [209.85.219.99]) by mails.dpdk.org (Postfix) with ESMTP id 97C49400D7 for ; Sat, 18 Oct 2025 05:40:00 +0200 (CEST) Received: by mail-qv1-f99.google.com with SMTP id 6a1803df08f44-87c103928ffso38442506d6.1 for ; Fri, 17 Oct 2025 20:40:00 -0700 (PDT) DKIM-Signature: v=1; a=rsa-sha256; c=relaxed/relaxed; d=iol.unh.edu; s=unh-iol; t=1760758800; x=1761363600; darn=dpdk.org; h=cc:to:from:subject:message-id:date:from:to:cc:subject:date :message-id:reply-to; bh=JKkGqf1IVF+QnYN343XBTp/N914ihvIfCSa4zqKN8YI=; b=bYnB1vmbemxt/CpD2wcVEu4Tez5Yp6ID4Aa09zaHQTEomfTcxouaTH7nATb9+0zUxg EwHg9Fp/EHXPprUbo3DanG59C0/B41F32XFHqWxZI4O26GCIlooEY0pcqTHgSbXLDnl2 UvhUwEafJJFdGa0E926PBCfxBUZW4Dty84qe8= X-Google-DKIM-Signature: v=1; a=rsa-sha256; c=relaxed/relaxed; d=1e100.net; s=20230601; t=1760758800; x=1761363600; h=cc:to:from:subject:message-id:date:x-gm-message-state:from:to:cc :subject:date:message-id:reply-to; bh=JKkGqf1IVF+QnYN343XBTp/N914ihvIfCSa4zqKN8YI=; b=Alj4VaHa9Lsjwo7YmviJE56nS8/i3LaoDO6jzjDLTkx/CnFYsZ2G+ZxPtbxPAI3hNg W2AjMS5/RUs5c62jIlmzSe853BNanKEdV3EnsqXo9cegSnMbqxUaBw5SsgO8rQJhwScZ X95Bmo6E7cBj3XMO1igF6f1dzkRgT1TSn8ZORCxS1lNjH/MAK3yEaXUmUg0Sfxllm1AT SOrTXnoWgV3CUJkvh9DMVd8mraGu9HI1JOhiMc7f/66CJ6wAtwd0OIeN6wp3m0d906Ym ZWyyWCCD7VIK16IUpRnkxEeuCYfgPmjGz3Y2nr32WyXXAerMxcGr0fAJzr3ke82lsLTO eRLA== X-Gm-Message-State: AOJu0YwD+3U7ySMMNacDk5DYOGO6vzvZpUJC4AZ1JSJkpX3CZVl7++tI EHDR5yNk+06u7xgaZ6S61OVE7HJtiWmJRsVdLkgYtADDiAdpX9cKZ4Av0isY0KVU6j+waMi0/th rpCAdA6wBL/++C464C3WoAzeZtotFmGz+AtHq X-Gm-Gg: ASbGncucCk+zvRSVM8YEn16lh23j+MuyCQo0yDbOT2v2rffr/otXd2/amEfNlKOOO2R lLAkxrrxeuTrpsR8cf0BZACVtTrFVMwKaaAsnrsIEc3yvTtzkkXBqIXttcD0e+8tX1gOClr7/no G8Frd/TcbEz7xjKXVfF89lf33oXbYl8uDqylVnVzyjTmvZrmcVdyPsWEVGX+HA+S8q9MIPibVg1 vE8qMo+hvwkG6hi+tl98WlzS9Bs6Q5v5ZIcQ/zcJYq6ZpnkIa2f9uEdFkkphYK3GH6lka7gqJ1V 3GPXpmoyl0XJv2PAxPLLQEagbaPICNSimWnweTK4nZb+1du+haOpiGXZnT4FB+C46RqJ3m3ide3 8lq6slbX0fJKavFdpK1X/d5LjGkhabLU= X-Google-Smtp-Source: AGHT+IHB8/DhRCwG8mIYxbB5ecGnPYg4qs2p70sZ0KZ9mDJvROapskh5a3Mq4UXDTkUx8H+KEpZMDBSDZy99 X-Received: by 2002:a05:6214:242c:b0:793:dce5:4540 with SMTP id 6a1803df08f44-87c2054aea9mr107280996d6.2.1760758799853; Fri, 17 Oct 2025 20:39:59 -0700 (PDT) Received: from postal.iol.unh.edu (postal.iol.unh.edu. [132.177.123.84]) by smtp-relay.gmail.com with ESMTPS id 6a1803df08f44-87cf54a05d9sm1470796d6.29.2025.10.17.20.39.59 (version=TLS1_2 cipher=ECDHE-ECDSA-AES128-GCM-SHA256 bits=128/128); Fri, 17 Oct 2025 20:39:59 -0700 (PDT) X-Relaying-Domain: iol.unh.edu Date: Fri, 17 Oct 2025 20:39:59 -0700 (PDT) Message-ID: <68f30c0f.d40a0220.7e7a8.79b4SMTPIN_ADDED_MISSING@mx.google.com> Received: from [172.21.0.3] (unknown [172.18.0.240]) by postal.iol.unh.edu (Postfix) with ESMTP id 4E72260003EA; Fri, 17 Oct 2025 23:39:59 -0400 (EDT) Subject: |SUCCESS| [GIT MASTER] b287e404643aeab5bb5db084c142789df187844e From: dpdklab@iol.unh.edu To: Test Report Cc: dpdk-test-reports@iol.unh.edu, Xueming Li , Christian Ehrhardt , Kevin Traynor , Luca Boccassi Content-Type: text/plain X-BeenThere: test-report@dpdk.org X-Mailman-Version: 2.1.29 Precedence: list List-Id: automatic DPDK test reports List-Unsubscribe: , List-Archive: List-Post: List-Help: List-Subscribe: , Errors-To: test-report-bounces@dpdk.org _Testing PASS_ Branch: tags/v24.11 b287e404643aeab5bb5db084c142789df187844e --> testing pass Upstream job id: Generic-Unit-Test-DPDK#382501 Test environment and result as below: +------------------------------+----------------+---------------------------+------------------------------+--------------+ | Environment | dpdk_unit_test | cryptodev_sw_zuc_autotest | cryptodev_sw_snow3g_autotest | lpm_autotest | +==============================+================+===========================+==============================+==============+ | CentOS Stream 9 | PASS | SKIPPED | SKIPPED | SKIPPED | +------------------------------+----------------+---------------------------+------------------------------+--------------+ | Fedora Linux 42 | PASS | SKIPPED | SKIPPED | SKIPPED | +------------------------------+----------------+---------------------------+------------------------------+--------------+ | CentOS Stream 10 | PASS | SKIPPED | SKIPPED | SKIPPED | +------------------------------+----------------+---------------------------+------------------------------+--------------+ | Debian GNU/Linux 12 | PASS | SKIPPED | SKIPPED | SKIPPED | +------------------------------+----------------+---------------------------+------------------------------+--------------+ | Fedora Linux 40 | PASS | SKIPPED | SKIPPED | SKIPPED | +------------------------------+----------------+---------------------------+------------------------------+--------------+ | Fedora Linux 41 | PASS | SKIPPED | SKIPPED | SKIPPED | +------------------------------+----------------+---------------------------+------------------------------+--------------+ | Red Hat Enterprise Linux 9.5 | PASS | SKIPPED | SKIPPED | SKIPPED | +------------------------------+----------------+---------------------------+------------------------------+--------------+ | Ubuntu 22.04 | PASS | SKIPPED | SKIPPED | SKIPPED | +------------------------------+----------------+---------------------------+------------------------------+--------------+ | Ubuntu 20.04 | PASS | SKIPPED | SKIPPED | PASS | +------------------------------+----------------+---------------------------+------------------------------+--------------+ | Ubuntu 24.04 | PASS | SKIPPED | SKIPPED | SKIPPED | +------------------------------+----------------+---------------------------+------------------------------+--------------+ | Debian 12 (arm) | SKIPPED | PASS | PASS | SKIPPED | +------------------------------+----------------+---------------------------+------------------------------+--------------+ CentOS Stream 9 Kernel: 5.4 Compiler: gcc gcc (GCC) 11.5.0 20240719 (Red Hat 11.5.0-11) Fedora Linux 42 Kernel: 5.4 Compiler: gcc gcc (GCC) 15.2.1 20250808 (Red Hat 15.2.1-1) CentOS Stream 10 Kernel: 5.4 Compiler: gcc gcc (GCC) 14.2.1 20250110 (Red Hat 14.2.1-8) Debian GNU/Linux 12 Kernel: 5.4 Compiler: gcc gcc (Debian 12.2.0-14+deb12u1) 12.2.0 Fedora Linux 40 Kernel: 5.4 Compiler: clang gcc (GCC) 14.2.1 20240912 (Red Hat 14.2.1-3) Fedora Linux 41 Kernel: 5.4 Compiler: gcc gcc (GCC) 14.3.1 20250523 (Red Hat 14.3.1-1) Red Hat Enterprise Linux 9.5 Kernel: 5.4 Compiler: gcc gcc (GCC) 11.5.0 20240719 (Red Hat 11.5.0-2) Ubuntu 22.04 Kernel: 5.4 Compiler: gcc gcc (Ubuntu 11.4.0-1ubuntu1~22.04) 11.4.0 Ubuntu 20.04 Kernel: 5.4 Compiler: gcc gcc (Ubuntu 9.4.0-1ubuntu1~20.04.2) 9.4.0 Ubuntu 24.04 Kernel: 5.4 Compiler: gcc gcc (Ubuntu 13.3.0-6ubuntu2~24.04) 13.3.0 Debian 12 (arm) Kernel: Depends on container host Compiler: gcc (Debian 12.2.0-14) 12.2.0 To view detailed results, visit: https://lab.dpdk.org/results/dashboard/tarballs/35245/ UNH-IOL DPDK Community Lab To manage your email subscriptions, visit: https://lab.dpdk.org/results/dashboard/preferences/subscriptions/